BEGIN:VCALENDAR
VERSION:2.0
PRODID:-//Newton Cultural Alliance - ECPv6.13.2.1//NONSGML v1.0//EN
CALSCALE:GREGORIAN
METHOD:PUBLISH
X-ORIGINAL-URL:https://newtonculture.org
X-WR-CALDESC:Events for Newton Cultural Alliance
REFRESH-INTERVAL;VALUE=DURATION:PT1H
X-Robots-Tag:noindex
X-PUBLISHED-TTL:PT1H
BEGIN:VTIMEZONE
TZID:America/New_York
BEGIN:DAYLIGHT
TZOFFSETFROM:-0500
TZOFFSETTO:-0400
TZNAME:EDT
DTSTART:20240310T070000
END:DAYLIGHT
BEGIN:STANDARD
TZOFFSETFROM:-0400
TZOFFSETTO:-0500
TZNAME:EST
DTSTART:20241103T060000
END:STANDARD
END:VTIMEZONE
BEGIN:VEVENT
DTSTART;TZID=America/New_York:20241102T183000
DTEND;TZID=America/New_York:20241102T210000
DTSTAMP:20260419T104651
CREATED:20241010T175020Z
LAST-MODIFIED:20241010T180151Z
UID:10022711-1730572200-1730581200@newtonculture.org
SUMMARY:Susan Adler: A Life Seen\, A Legacy Remembered
DESCRIPTION:The Allen Center will host a reception for their upcoming exhibit\, “Susan Adler: A Life Seen\, A Legacy Remembered” on Saturday\, November 2 at 6:30pm in celebration of Susan Seidner Adler’s life and work. The exhibition of her figure paintings and soft figurines will be on display in The Allen Center gallery from November 2 – December 8\, 2024. There will be light appetizers and refreshments served at the reception. Please register if you plan on attending. \nSusan Seidner Adler (1935-2020) was a self-taught artist and psychotherapist known for her portraits of prominent figures\, including her sister-in-law Renata Adler\, and for her portrait of Sylvia Plath at Smith College. Susan Adler’s oil paintings and figurines capture more than a mere likeness of their subjects and reflect the elegance of the times. \nRegister.
URL:https://newtonculture.org/event/susan-adler-a-life-seen-a-legacy-remembered/
LOCATION:MA
CATEGORIES:Free Event,Visual Arts
ATTACH;FMTTYPE=image/png:https://newtonculture.org/wp-content/uploads/2024/10/Susan-Adler-1920-x-1080-px-Edit-e1728583268955.png
ORGANIZER;CN="Newton Cultural Alliance":MAILTO:contact@newtonculture.org
END:VEVENT
END:VCALENDAR