BEGIN:VCALENDAR
VERSION:2.0
PRODID:-//Newton Cultural Alliance - ECPv6.13.2.1//NONSGML v1.0//EN
CALSCALE:GREGORIAN
METHOD:PUBLISH
X-WR-CALNAME:Newton Cultural Alliance
X-ORIGINAL-URL:https://newtonculture.org
X-WR-CALDESC:Events for Newton Cultural Alliance
REFRESH-INTERVAL;VALUE=DURATION:PT1H
X-Robots-Tag:noindex
X-PUBLISHED-TTL:PT1H
BEGIN:VTIMEZONE
TZID:America/New_York
BEGIN:DAYLIGHT
TZOFFSETFROM:-0500
TZOFFSETTO:-0400
TZNAME:EDT
DTSTART:20200308T070000
END:DAYLIGHT
BEGIN:STANDARD
TZOFFSETFROM:-0400
TZOFFSETTO:-0500
TZNAME:EST
DTSTART:20201101T060000
END:STANDARD
END:VTIMEZONE
BEGIN:VEVENT
DTSTART;VALUE=DATE:20200329
DTEND;VALUE=DATE:20200330
DTSTAMP:20260425T203633
CREATED:20200320T153547Z
LAST-MODIFIED:20200421T154934Z
UID:10015794-1585440000-1585526399@newtonculture.org
SUMMARY:Cappella Clausura ONLINE: Ordo Virtutum from 2/15/20
DESCRIPTION:Cappella Clausura is pleased to share virtually its special performance of Hildegard von Bingen’s Ordo Virtutum from 2/15/20. Immerse yourself in chanted opera: what Director LeClair calls the very first opera\, written around 1150 by Abbess and now St. Hildegard von Bingen\, fully staged for modern audiences with 18 women and men lending gender fluidity to the various ancient roles; with Na’ama Lion\, flute; Nancy Hurrell\, harp; Laura Jeppesen\, vielle; and Mike Williams\, percussion. Enjoy this lovely concert now by clicking here. More info at clausura.org.
URL:https://newtonculture.org/event/cappella-clausura-performs-ordo-virtutum/2020-03-29/
LOCATION:ONLINE\, United Kingdom\, E16 2DQ
CATEGORIES:Free Event,Music
ATTACH;FMTTYPE=image/jpeg:https://newtonculture.org/wp-content/uploads/2020/03/cappella-clausura.jpg
ORGANIZER;CN="Cappella Clausura":MAILTO:manager@clausura.org
END:VEVENT
BEGIN:VEVENT
DTSTART;VALUE=DATE:20200329
DTEND;VALUE=DATE:20200330
DTSTAMP:20260425T203633
CREATED:20200320T172316Z
LAST-MODIFIED:20200421T155049Z
UID:10017820-1585440000-1585526399@newtonculture.org
SUMMARY:Newton Open Studios - Artists Online
DESCRIPTION:Newton Open Studios is now online! Browse the NOS website for paintings\, jewelry\, ceramics\, sculptures\, wearable art\, photography and more–all at your fingertips. Works in this photo include Shepherd’s Run Jewelry\, Marian Dioguardi\, Michele Hoben\, and John J. Murray. Click here!
URL:https://newtonculture.org/event/newton-open-studios-artists-online/2020-03-29/
LOCATION:MA
CATEGORIES:Free Event,Visual Arts
ORGANIZER;CN="Newton Open Studios":MAILTO:info@newtonopenstudios.org
END:VEVENT
BEGIN:VEVENT
DTSTART;VALUE=DATE:20200329
DTEND;VALUE=DATE:20200330
DTSTAMP:20260425T203633
CREATED:20200320T172602Z
LAST-MODIFIED:20200421T163033Z
UID:10017906-1585440000-1585526399@newtonculture.org
SUMMARY:Historic Newton - Online Newton Artist Exhibit
DESCRIPTION:Rediscover Newton artists from the 1850s – 1950s! This virtual Historic Newton exhibit includes paintings and sculptures by artists who were either born in Newton or spent a significant part of their lives here. Enjoy now here.
URL:https://newtonculture.org/event/historic-newton-online-newton-artist-exhibit/2020-03-29/
LOCATION:MA
CATEGORIES:Culture and Education,Free Event,Visual Arts
ATTACH;FMTTYPE=image/png:https://newtonculture.org/wp-content/uploads/2019/11/9.png
END:VEVENT
BEGIN:VEVENT
DTSTART;TZID=America/New_York:20200329T120000
DTEND;TZID=America/New_York:20200329T180000
DTSTAMP:20260425T203633
CREATED:20200226T211159Z
LAST-MODIFIED:20200317T184524Z
UID:10015773-1585483200-1585504800@newtonculture.org
SUMMARY:Suzuki School of Newton: Playathon @ The Shops at Chestnut Hill Mall CANCELED
DESCRIPTION:The Playathon is a marathon six-hour performance of various solos\, groups\, and chamber ensembles at the Shops at Chestnut Hill Mall. As our annual scholarship fundraiser\, Suzuki School of Newton students call on their friends and family to support their participation in this event through a tax-deductible donation to the scholarship fund. \nLearn more about this event or make a donation on our Playathon Page.
URL:https://newtonculture.org/event/suzuki-school-of-newton-playathon-the-shops-at-chestnut-hill-mall/
LOCATION:The Shops at Chestnut Hill\, 199 Boylston Street\, Chestnut Hill\, MA\, 02467\, United States
CATEGORIES:Community Event,Family Friendly,Free Event,Music
ORGANIZER;CN="Suzuki School of Newton":MAILTO:email@suzukinewton.org
END:VEVENT
BEGIN:VEVENT
DTSTART;TZID=America/New_York:20200329T140000
DTEND;TZID=America/New_York:20200329T140000
DTSTAMP:20260425T203633
CREATED:20200221T164031Z
LAST-MODIFIED:20200317T190039Z
UID:10015762-1585490400-1585490400@newtonculture.org
SUMMARY:Newton Free Library: Nate Aronow & Nextet to Perform CANCELED
DESCRIPTION:The Nextet will play many of their most popular original compositions in the contemporary jazz style\, as written and arranged by Nate Aronow. The band’s original repertoire has been influenced by many jazz greats such as Freddie Hubbard\, Herbie Hancock\, and Wayne Shorter. FREE and open to the public.
URL:https://newtonculture.org/event/nate-aronow-nextet-to-perform-at-the-newton-free-library/
LOCATION:Newton Free Library\, 330 Homer St\, Newton\, MA\, 02459\, United States
CATEGORIES:Free Event,Music
ORGANIZER;CN="Newton Free Library":MAILTO:admin@newtonfreelibrary.net
END:VEVENT
BEGIN:VEVENT
DTSTART;TZID=America/New_York:20200329T140000
DTEND;TZID=America/New_York:20200329T150000
DTSTAMP:20260425T203633
CREATED:20200330T171727Z
LAST-MODIFIED:20200330T171727Z
UID:10015895-1585490400-1585494000@newtonculture.org
SUMMARY:Music From the Heart and Meditations For the Heart Livestream #3
DESCRIPTION:In the wake of the COVID-19 pandemic and our current sheltering at home circumstances\, Singer-Songwriter and Mind-Body Psychotherapist has been doing a series of Facebook livestream concerts sharing mostly original songs (with a cover or two thrown in) from home at the upright piano\, and including a heart-centered meditation to close. Each livestream benefits a community organization in need. \nThis livestream\, Linda’s 3rd\, will benefit the staff of 24 Hour Concerts\, who do so much for the music community and are amongst the many music community people out of work and struggling financially during this time.
URL:https://newtonculture.org/event/music-from-the-heart-and-meditations-for-the-heart-livestream-3/
LOCATION:ONLINE\, United Kingdom\, E16 2DQ
CATEGORIES:Free Event,Music
ATTACH;FMTTYPE=image/jpeg:https://newtonculture.org/wp-content/uploads/2020/03/IMG_E6975.jpg
END:VEVENT
BEGIN:VEVENT
DTSTART;TZID=America/New_York:20200329T190000
DTEND;TZID=America/New_York:20200329T190000
DTSTAMP:20260425T203633
CREATED:20200320T152406Z
LAST-MODIFIED:20200323T184302Z
UID:10015784-1585508400-1585508400@newtonculture.org
SUMMARY:New TV Classic Sundays - "The Great Dictator"
DESCRIPTION:NewTV’s Education Channel will be showing classic movies every Sunday evening throughout the month of March. On March 29\, they will be showing Charlie Chaplin’s The Great Dictator. Films start at 7:00 p.m. To watch\, tune into Comcast 99\, RCN 3 (629 for HD)\, or Verizon 32 (2134 for HD). More info at newtv.org.
URL:https://newtonculture.org/event/classic-sundays-with-newtv-2020-03-29/2020-03-29/
LOCATION:MA
CATEGORIES:Film and Media,Free Event
ATTACH;FMTTYPE=image/png:https://newtonculture.org/wp-content/uploads/2019/11/Logos-500px-4-newtv.png
ORGANIZER;CN="NewTV":MAILTO:newtv@newtv.org
END:VEVENT
END:VCALENDAR