BEGIN:VCALENDAR
VERSION:2.0
PRODID:-//Newton Cultural Alliance - ECPv6.13.2.1//NONSGML v1.0//EN
CALSCALE:GREGORIAN
METHOD:PUBLISH
X-WR-CALNAME:Newton Cultural Alliance
X-ORIGINAL-URL:https://newtonculture.org
X-WR-CALDESC:Events for Newton Cultural Alliance
REFRESH-INTERVAL;VALUE=DURATION:PT1H
X-Robots-Tag:noindex
X-PUBLISHED-TTL:PT1H
BEGIN:VTIMEZONE
TZID:America/New_York
BEGIN:DAYLIGHT
TZOFFSETFROM:-0500
TZOFFSETTO:-0400
TZNAME:EDT
DTSTART:20200308T070000
END:DAYLIGHT
BEGIN:STANDARD
TZOFFSETFROM:-0400
TZOFFSETTO:-0500
TZNAME:EST
DTSTART:20201101T060000
END:STANDARD
END:VTIMEZONE
BEGIN:VEVENT
DTSTART;VALUE=DATE:20200606
DTEND;VALUE=DATE:20200607
DTSTAMP:20260425T142248
CREATED:20200513T173621Z
LAST-MODIFIED:20200923T170754Z
UID:10018302-1591401600-1591487999@newtonculture.org
SUMMARY:Newton Art Association: Shelter in Art
DESCRIPTION:Shelter in Art is a virtual exhibition of work created by Newton Art Association members during the COVID-19 crisis. Click here to view this incredible exhibit online through October 31. \n 
URL:https://newtonculture.org/event/newton-art-association-shelter-in-art/2020-06-06/
LOCATION:ONLINE\, United Kingdom\, E16 2DQ
CATEGORIES:Art,Family Friendly,Free Event
ATTACH;FMTTYPE=image/jpeg:https://newtonculture.org/wp-content/uploads/2020/05/shelter-in-home-exhibition-768x495-1.jpg
ORGANIZER;CN="Newton Art Association":MAILTO:info@newtonartassociation.com
END:VEVENT
BEGIN:VEVENT
DTSTART;TZID=America/New_York:20200606T140000
DTEND;TZID=America/New_York:20200606T170000
DTSTAMP:20260425T142248
CREATED:20200226T204336Z
LAST-MODIFIED:20200427T153435Z
UID:10017756-1591452000-1591462800@newtonculture.org
SUMMARY:Suzuki School of Newton @ Newton Porchfest! CANCELED
DESCRIPTION:Suzuki School of Newton students will once again be providing music for Newton Porchfest! PorchFest is an afternoon of free music performed outside of people’s homes. Newton now joins the 100+ other cities across the country who hold this every year. \nLocation: Various porches in Waban\, including our front porch at 1615 Beacon Street. For more information\, visit the Newton Porchfest website.
URL:https://newtonculture.org/event/suzuki-school-of-newton-newton-porchfest/
LOCATION:Suzuki School of Newton\, 1615 Beacon St\, Waban\, MA\, 02468\, United States
CATEGORIES:Community Event,Free Event,Music
ORGANIZER;CN="Suzuki School of Newton":MAILTO:email@suzukinewton.org
END:VEVENT
BEGIN:VEVENT
DTSTART;TZID=America/New_York:20200606T160000
DTEND;TZID=America/New_York:20200606T173000
DTSTAMP:20260425T142248
CREATED:20200602T174532Z
LAST-MODIFIED:20200602T174532Z
UID:10017771-1591459200-1591464600@newtonculture.org
SUMMARY:Newton Piano Summit: Guitar Master Bruce Forman in Concert ONLINE
DESCRIPTION:The Newton Piano Summit is pleased to present Guitar Master Bruce Forman on Saturday\, June 6 at 4:00 p.m. via Facebook live. At that time\, click here to access the concert. \nBruce Forman’s name inspires smiles\, laughter\, and fear! He is known the world over for incredible prowess\, energy\, and creativity. “Bruce Forman is one of the great lights of our age.” Barney Kessel\, Jazz Times \nEighteen recordings as a leader\, including his newest release\, Junkyard Duo; countless sideman recordings including Ray Brown\, Bobby Hutcherson\, Roger Kellaway; soundtrack performances on three of Clint Eastwood’s distinguished films—most notably Academy Award-winning Million Dollar Baby; producer\, arranger\, acclaimed educator\, in residence at USC’s Studio/Jazz Guitar Dept.\, when does Bruce Forman rest? Tune in for a live performance and conversation. \nCOVID-19 has changed our world and for artists who depended greatly on live performances for income\, the impact is devastating. The Newton Piano Summit is committed to helping these artists by paying for their performances. 100% of revenue is paid to the performers. You can make a tax-deductible donation through the Waban Improvement Society here. More info at newtonpianosummit.org. \n 
URL:https://newtonculture.org/event/newton-piano-summit-guitar-master-bruce-forman-in-concert-online/
LOCATION:Facebook Live\, United States
CATEGORIES:Free Event,Music,Performing Arts
ATTACH;FMTTYPE=image/jpeg:https://newtonculture.org/wp-content/uploads/2020/06/101875123_704495290310214_6883313750498082816_n.jpg
ORGANIZER;CN="Newton Piano Summit":MAILTO:cpitts@wabanimprovement.org
END:VEVENT
END:VCALENDAR