BEGIN:VCALENDAR
VERSION:2.0
PRODID:-//Newton Cultural Alliance - ECPv6.13.2.1//NONSGML v1.0//EN
CALSCALE:GREGORIAN
METHOD:PUBLISH
X-WR-CALNAME:Newton Cultural Alliance
X-ORIGINAL-URL:https://newtonculture.org
X-WR-CALDESC:Events for Newton Cultural Alliance
REFRESH-INTERVAL;VALUE=DURATION:PT1H
X-Robots-Tag:noindex
X-PUBLISHED-TTL:PT1H
BEGIN:VTIMEZONE
TZID:America/New_York
BEGIN:DAYLIGHT
TZOFFSETFROM:-0500
TZOFFSETTO:-0400
TZNAME:EDT
DTSTART:20200308T070000
END:DAYLIGHT
BEGIN:STANDARD
TZOFFSETFROM:-0400
TZOFFSETTO:-0500
TZNAME:EST
DTSTART:20201101T060000
END:STANDARD
END:VTIMEZONE
BEGIN:VEVENT
DTSTART;VALUE=DATE:20200611
DTEND;VALUE=DATE:20200612
DTSTAMP:20260425T142241
CREATED:20200513T173621Z
LAST-MODIFIED:20200923T170754Z
UID:10018307-1591833600-1591919999@newtonculture.org
SUMMARY:Newton Art Association: Shelter in Art
DESCRIPTION:Shelter in Art is a virtual exhibition of work created by Newton Art Association members during the COVID-19 crisis. Click here to view this incredible exhibit online through October 31. \n 
URL:https://newtonculture.org/event/newton-art-association-shelter-in-art/2020-06-11/
LOCATION:ONLINE\, United Kingdom\, E16 2DQ
CATEGORIES:Art,Family Friendly,Free Event
ATTACH;FMTTYPE=image/jpeg:https://newtonculture.org/wp-content/uploads/2020/05/shelter-in-home-exhibition-768x495-1.jpg
ORGANIZER;CN="Newton Art Association":MAILTO:info@newtonartassociation.com
END:VEVENT
BEGIN:VEVENT
DTSTART;TZID=America/New_York:20200611T183000
DTEND;TZID=America/New_York:20200611T191500
DTSTAMP:20260425T142241
CREATED:20200609T183201Z
LAST-MODIFIED:20200609T184146Z
UID:10018734-1591900200-1591902900@newtonculture.org
SUMMARY:Newton Free Library: Drawing for Beginners - It's All About Perspective
DESCRIPTION:Perspective is all around you from the angles of rooftops to the highway that recedes into a point in the distance. Explore the tricks that will let you master perspective in your artwork. \nOn the day of the event you will receive an email with a link to join. At the time of the program simply click on the link and you’ll see the host. For more information email Mare at mparkerotoole.ntn@minlib.net. Also visit newtonfreelibrary.net.
URL:https://newtonculture.org/event/newton-free-library-drawing-for-beginners-its-all-about-perspective/
LOCATION:Newton Free Library\, 330 Homer St\, Newton\, MA\, 02459\, United States
CATEGORIES:Art,Culture and Education,Free Event
ATTACH;FMTTYPE=image/png:https://newtonculture.org/wp-content/uploads/2020/06/1590107751-1.png
ORGANIZER;CN="Newton Free Library":MAILTO:admin@newtonfreelibrary.net
END:VEVENT
BEGIN:VEVENT
DTSTART;TZID=America/New_York:20200611T190000
DTEND;TZID=America/New_York:20200611T200000
DTSTAMP:20260425T142241
CREATED:20200609T162357Z
LAST-MODIFIED:20200609T162357Z
UID:10018730-1591902000-1591905600@newtonculture.org
SUMMARY:Pro Arte Salon Stream
DESCRIPTION:Pro Arte finishes our 43rd season with a socially distanced performance from the back deck of our principal flute\, Ann Bobo. This event is the first time that any of Pro Arte’s musicians have been able to play together in the past three months. The concert is being provided free of charge as part of Pro Arte’s mission to bring music to our community\, especially in these times when music can soothe and heal. Visit Pro Arte at https://www.facebook.com/ProArteBoston/ on June 11 at 7:00 p.m. to enjoy this performance.
URL:https://newtonculture.org/event/pro-arte-salon-stream/
LOCATION:Facebook Live\, United States
CATEGORIES:Free Event,Music,Performing Arts
ATTACH;FMTTYPE=image/jpeg:https://newtonculture.org/wp-content/uploads/2020/06/101945628_10158562734413735_6903274398162886884_n.jpg
END:VEVENT
END:VCALENDAR