BEGIN:VCALENDAR
VERSION:2.0
PRODID:-//Newton Cultural Alliance - ECPv6.13.2.1//NONSGML v1.0//EN
CALSCALE:GREGORIAN
METHOD:PUBLISH
X-ORIGINAL-URL:https://newtonculture.org
X-WR-CALDESC:Events for Newton Cultural Alliance
REFRESH-INTERVAL;VALUE=DURATION:PT1H
X-Robots-Tag:noindex
X-PUBLISHED-TTL:PT1H
BEGIN:VTIMEZONE
TZID:America/New_York
BEGIN:DAYLIGHT
TZOFFSETFROM:-0500
TZOFFSETTO:-0400
TZNAME:EDT
DTSTART:20200308T070000
END:DAYLIGHT
BEGIN:STANDARD
TZOFFSETFROM:-0400
TZOFFSETTO:-0500
TZNAME:EST
DTSTART:20201101T060000
END:STANDARD
END:VTIMEZONE
BEGIN:VEVENT
DTSTART;VALUE=DATE:20200722
DTEND;VALUE=DATE:20200723
DTSTAMP:20260425T142318
CREATED:20200513T173621Z
LAST-MODIFIED:20200923T170754Z
UID:10018348-1595376000-1595462399@newtonculture.org
SUMMARY:Newton Art Association: Shelter in Art
DESCRIPTION:Shelter in Art is a virtual exhibition of work created by Newton Art Association members during the COVID-19 crisis. Click here to view this incredible exhibit online through October 31. \n 
URL:https://newtonculture.org/event/newton-art-association-shelter-in-art/2020-07-22/
LOCATION:ONLINE\, United Kingdom\, E16 2DQ
CATEGORIES:Art,Family Friendly,Free Event
ATTACH;FMTTYPE=image/jpeg:https://newtonculture.org/wp-content/uploads/2020/05/shelter-in-home-exhibition-768x495-1.jpg
ORGANIZER;CN="Newton Art Association":MAILTO:info@newtonartassociation.com
END:VEVENT
BEGIN:VEVENT
DTSTART;TZID=America/New_York:20200722T110000
DTEND;TZID=America/New_York:20200722T113000
DTSTAMP:20260425T142318
CREATED:20200713T195802Z
LAST-MODIFIED:20200713T195802Z
UID:10018900-1595415600-1595417400@newtonculture.org
SUMMARY:Newton Free Library presents: Music with Emily
DESCRIPTION:Join Parents’ Choice Award winning singer/songwriter\, Emily Hall\, for this sing-along musical adventure. With familiar tunes and some originals\, visuals and surprises\, Emily will get you up and moving along and having fun! You don’t want to miss this “not just a sing-along sing-along”. This event is presented by the Newton Free Library\, on Wednesday\, July 22nd at 11:00 AM. \nClick here for more information\, including Zoom link.
URL:https://newtonculture.org/event/newton-free-library-presents-music-with-emily/
LOCATION:Zoom
CATEGORIES:Community Event,Family Friendly,Free Event,Music
ATTACH;FMTTYPE=image/jpeg:https://newtonculture.org/wp-content/uploads/2020/07/music_with_emily.jpg
ORGANIZER;CN="Newton Free Library":MAILTO:admin@newtonfreelibrary.net
END:VEVENT
END:VCALENDAR