BEGIN:VCALENDAR
VERSION:2.0
PRODID:-//Newton Cultural Alliance - ECPv6.13.2.1//NONSGML v1.0//EN
CALSCALE:GREGORIAN
METHOD:PUBLISH
X-ORIGINAL-URL:https://newtonculture.org
X-WR-CALDESC:Events for Newton Cultural Alliance
REFRESH-INTERVAL;VALUE=DURATION:PT1H
X-Robots-Tag:noindex
X-PUBLISHED-TTL:PT1H
BEGIN:VTIMEZONE
TZID:America/New_York
BEGIN:DAYLIGHT
TZOFFSETFROM:-0500
TZOFFSETTO:-0400
TZNAME:EDT
DTSTART:20200308T070000
END:DAYLIGHT
BEGIN:STANDARD
TZOFFSETFROM:-0400
TZOFFSETTO:-0500
TZNAME:EST
DTSTART:20201101T060000
END:STANDARD
END:VTIMEZONE
BEGIN:VEVENT
DTSTART;VALUE=DATE:20200825
DTEND;VALUE=DATE:20200826
DTSTAMP:20260425T113122
CREATED:20200513T173621Z
LAST-MODIFIED:20200923T170754Z
UID:10018382-1598313600-1598399999@newtonculture.org
SUMMARY:Newton Art Association: Shelter in Art
DESCRIPTION:Shelter in Art is a virtual exhibition of work created by Newton Art Association members during the COVID-19 crisis. Click here to view this incredible exhibit online through October 31. \n 
URL:https://newtonculture.org/event/newton-art-association-shelter-in-art/2020-08-25/
LOCATION:ONLINE\, United Kingdom\, E16 2DQ
CATEGORIES:Art,Family Friendly,Free Event
ATTACH;FMTTYPE=image/jpeg:https://newtonculture.org/wp-content/uploads/2020/05/shelter-in-home-exhibition-768x495-1.jpg
ORGANIZER;CN="Newton Art Association":MAILTO:info@newtonartassociation.com
END:VEVENT
BEGIN:VEVENT
DTSTART;TZID=America/New_York:20200825T190000
DTEND;TZID=America/New_York:20200825T200000
DTSTAMP:20260425T113122
CREATED:20200803T165332Z
LAST-MODIFIED:20200803T165525Z
UID:10018133-1598382000-1598385600@newtonculture.org
SUMMARY:Newton Free Library presents: Raising Anti-Racists Kids
DESCRIPTION:Register (required) here. An email with a link for the webinar will be sent out prior to the event. \n  \nJoin Newton Free Library for the first in a multi-part educational series on being an anti-racist. Cosponsored by the FORJ (Families Organizing for Racial Justice)\, Harmony Foundation and Newton Human Rights Commission. The panelists will be: \nDavid A. Fleishman\, Superintendent of Schools will moderate \nEllie Axe\, Director\, Story Starters \nMichele Leong\, Newton North High School Office of Human Rights \nKathy Lopes\, Director of Diversity\, Equity and Inclusion\, Newton Public Schools \nHenry Turner\, Principal\, Newton North High School \nThis program is part of Overdue: Confronting Race and Racism in Newton\, a city-wide read and series of events and conversations on race and racism. Join the community by reading either How to Be an Antiracist by Ibram X. Kendi or So You Want to Talk About Race by Ijeoma Oluo and watch the library’s homepage for details on upcoming events.
URL:https://newtonculture.org/event/newton-free-library-presents-raising-anti-racists-kids/
LOCATION:ONLINE\, United Kingdom\, E16 2DQ
CATEGORIES:Community Event,Culture and Education,Free Event
ATTACH;FMTTYPE=image/png:https://newtonculture.org/wp-content/uploads/2020/08/08-25-20-Raising-Anti-racist-Kids-Social-Media.png
ORGANIZER;CN="Newton Free Library":MAILTO:admin@newtonfreelibrary.net
END:VEVENT
END:VCALENDAR