BEGIN:VCALENDAR
VERSION:2.0
PRODID:-//Newton Cultural Alliance - ECPv6.13.2.1//NONSGML v1.0//EN
CALSCALE:GREGORIAN
METHOD:PUBLISH
X-ORIGINAL-URL:https://newtonculture.org
X-WR-CALDESC:Events for Newton Cultural Alliance
REFRESH-INTERVAL;VALUE=DURATION:PT1H
X-Robots-Tag:noindex
X-PUBLISHED-TTL:PT1H
BEGIN:VTIMEZONE
TZID:America/New_York
BEGIN:DAYLIGHT
TZOFFSETFROM:-0500
TZOFFSETTO:-0400
TZNAME:EDT
DTSTART:20200308T070000
END:DAYLIGHT
BEGIN:STANDARD
TZOFFSETFROM:-0400
TZOFFSETTO:-0500
TZNAME:EST
DTSTART:20201101T060000
END:STANDARD
END:VTIMEZONE
BEGIN:VEVENT
DTSTART;VALUE=DATE:20200829
DTEND;VALUE=DATE:20200830
DTSTAMP:20260425T113024
CREATED:20200513T173621Z
LAST-MODIFIED:20200923T170754Z
UID:10018386-1598659200-1598745599@newtonculture.org
SUMMARY:Newton Art Association: Shelter in Art
DESCRIPTION:Shelter in Art is a virtual exhibition of work created by Newton Art Association members during the COVID-19 crisis. Click here to view this incredible exhibit online through October 31. \n 
URL:https://newtonculture.org/event/newton-art-association-shelter-in-art/2020-08-29/
LOCATION:ONLINE\, United Kingdom\, E16 2DQ
CATEGORIES:Art,Family Friendly,Free Event
ATTACH;FMTTYPE=image/jpeg:https://newtonculture.org/wp-content/uploads/2020/05/shelter-in-home-exhibition-768x495-1.jpg
ORGANIZER;CN="Newton Art Association":MAILTO:info@newtonartassociation.com
END:VEVENT
BEGIN:VEVENT
DTSTART;TZID=America/New_York:20200829T130000
DTEND;TZID=America/New_York:20200829T140000
DTSTAMP:20260425T113024
CREATED:20200804T160144Z
LAST-MODIFIED:20200804T160144Z
UID:10018936-1598706000-1598709600@newtonculture.org
SUMMARY:Amherst Early Music: Open Mic
DESCRIPTION:OPEN MIC! \nAmherst Early Music will end the month with classes that will include an Open Mic event!\nJoin us for a FREE virtual recital! Saturday\, August 29\, at 1:00 pm ET. (The complete weekend schedule is TBA.)\nYou too can broadcast from your living room! We invite instrumentalists or singers to work up a short piece of music (5 minutes maximum) and play it for our supportive AEM community. Silent applause is guaranteed! You can perform a solo or a piece of chamber music with a recording. Limited to 10 performing spots. Send an email to: info@amherstearlymusic.org if interested!
URL:https://newtonculture.org/event/amherst-early-music-open-mic/
LOCATION:ONLINE\, United Kingdom\, E16 2DQ
CATEGORIES:Free Event,Music
ATTACH;FMTTYPE=image/png:https://newtonculture.org/wp-content/uploads/2020/08/unnamed.png
ORGANIZER;CN="Amherst Early Music":MAILTO:info@amherstearlymusic.org
END:VEVENT
END:VCALENDAR