BEGIN:VCALENDAR
VERSION:2.0
PRODID:-//Newton Cultural Alliance - ECPv6.13.2.1//NONSGML v1.0//EN
CALSCALE:GREGORIAN
METHOD:PUBLISH
X-ORIGINAL-URL:https://newtonculture.org
X-WR-CALDESC:Events for Newton Cultural Alliance
REFRESH-INTERVAL;VALUE=DURATION:PT1H
X-Robots-Tag:noindex
X-PUBLISHED-TTL:PT1H
BEGIN:VTIMEZONE
TZID:America/New_York
BEGIN:DAYLIGHT
TZOFFSETFROM:-0500
TZOFFSETTO:-0400
TZNAME:EDT
DTSTART:20200308T070000
END:DAYLIGHT
BEGIN:STANDARD
TZOFFSETFROM:-0400
TZOFFSETTO:-0500
TZNAME:EST
DTSTART:20201101T060000
END:STANDARD
END:VTIMEZONE
BEGIN:VEVENT
DTSTART;VALUE=DATE:20200914
DTEND;VALUE=DATE:20200915
DTSTAMP:20260425T113623
CREATED:20200513T173621Z
LAST-MODIFIED:20200923T170754Z
UID:10018402-1600041600-1600127999@newtonculture.org
SUMMARY:Newton Art Association: Shelter in Art
DESCRIPTION:Shelter in Art is a virtual exhibition of work created by Newton Art Association members during the COVID-19 crisis. Click here to view this incredible exhibit online through October 31. \n 
URL:https://newtonculture.org/event/newton-art-association-shelter-in-art/2020-09-14/
LOCATION:ONLINE\, United Kingdom\, E16 2DQ
CATEGORIES:Art,Family Friendly,Free Event
ATTACH;FMTTYPE=image/jpeg:https://newtonculture.org/wp-content/uploads/2020/05/shelter-in-home-exhibition-768x495-1.jpg
ORGANIZER;CN="Newton Art Association":MAILTO:info@newtonartassociation.com
END:VEVENT
BEGIN:VEVENT
DTSTART;TZID=America/New_York:20200914T190000
DTEND;TZID=America/New_York:20200914T200000
DTSTAMP:20260425T113623
CREATED:20200908T160524Z
LAST-MODIFIED:20200908T160524Z
UID:10018223-1600110000-1600113600@newtonculture.org
SUMMARY:Newton Free Library presents: My Captain America - A Granddaughter's Memoir of a Legendary Comic Book Artist
DESCRIPTION:On Monday\, September 14th\, join Megan Margulies\, author of the coming-of-age memoir\, My Captain America: A Granddaughter’s Memoir of a Legendary Comic Book Artist\, for an engaging conversation facilitated by national bestselling author\, Tova Mirvis. \nMarguiles’ new coming of age memoir paints an intimate portrait of the relationship she had with her beloved grandfather Joe Simon\, cartoonist and co-creator of Captain America. \nTo order your autographed copy of My Captain America\, visit Newtonville Books.
URL:https://newtonculture.org/event/newton-free-library-presents-my-captain-america-a-granddaughters-memoir-of-a-legendary-comic-book-artist/
LOCATION:ONLINE\, United Kingdom\, E16 2DQ
CATEGORIES:Culture and Education,Family Friendly,Free Event,Literary Arts
ATTACH;FMTTYPE=image/jpeg:https://newtonculture.org/wp-content/uploads/2020/09/09-14_Author_Megan_Marguiles.jpg
ORGANIZER;CN="Newton Free Library":MAILTO:admin@newtonfreelibrary.net
END:VEVENT
END:VCALENDAR