BEGIN:VCALENDAR
VERSION:2.0
PRODID:-//Newton Cultural Alliance - ECPv6.13.2.1//NONSGML v1.0//EN
CALSCALE:GREGORIAN
METHOD:PUBLISH
X-WR-CALNAME:Newton Cultural Alliance
X-ORIGINAL-URL:https://newtonculture.org
X-WR-CALDESC:Events for Newton Cultural Alliance
REFRESH-INTERVAL;VALUE=DURATION:PT1H
X-Robots-Tag:noindex
X-PUBLISHED-TTL:PT1H
BEGIN:VTIMEZONE
TZID:America/New_York
BEGIN:DAYLIGHT
TZOFFSETFROM:-0500
TZOFFSETTO:-0400
TZNAME:EDT
DTSTART:20200308T070000
END:DAYLIGHT
BEGIN:STANDARD
TZOFFSETFROM:-0400
TZOFFSETTO:-0500
TZNAME:EST
DTSTART:20201101T060000
END:STANDARD
END:VTIMEZONE
BEGIN:VEVENT
DTSTART;VALUE=DATE:20200922
DTEND;VALUE=DATE:20200923
DTSTAMP:20260425T095742
CREATED:20200513T173621Z
LAST-MODIFIED:20200923T170754Z
UID:10018410-1600732800-1600819199@newtonculture.org
SUMMARY:Newton Art Association: Shelter in Art
DESCRIPTION:Shelter in Art is a virtual exhibition of work created by Newton Art Association members during the COVID-19 crisis. Click here to view this incredible exhibit online through October 31. \n 
URL:https://newtonculture.org/event/newton-art-association-shelter-in-art/2020-09-22/
LOCATION:ONLINE\, United Kingdom\, E16 2DQ
CATEGORIES:Art,Family Friendly,Free Event
ATTACH;FMTTYPE=image/jpeg:https://newtonculture.org/wp-content/uploads/2020/05/shelter-in-home-exhibition-768x495-1.jpg
ORGANIZER;CN="Newton Art Association":MAILTO:info@newtonartassociation.com
END:VEVENT
BEGIN:VEVENT
DTSTART;TZID=America/New_York:20200922T110000
DTEND;TZID=America/New_York:20200922T123000
DTSTAMP:20260425T095742
CREATED:20200915T145441Z
LAST-MODIFIED:20200915T145441Z
UID:10019158-1600772400-1600777800@newtonculture.org
SUMMARY:Newton Free Library presents: Don’t Take the Bait – Helping You Identify Misinformation
DESCRIPTION:Join the Newton Free Library for this online discussion on Tuesday\, September 22nd. Misinformation is everywhere these days. In this class we will offer strategies to help you sift through what is exaggerated\, misleading or completely false to find more accurate online information and become better digital consumers. \nClick here to register.
URL:https://newtonculture.org/event/newton-free-library-presents-dont-take-the-bait-helping-you-identify-misinformation/
LOCATION:ONLINE\, United Kingdom\, E16 2DQ
CATEGORIES:Community Event,Culture and Education,Free Event
ATTACH;FMTTYPE=image/png:https://newtonculture.org/wp-content/uploads/2020/09/1598636501.png
ORGANIZER;CN="Newton Free Library":MAILTO:admin@newtonfreelibrary.net
END:VEVENT
END:VCALENDAR