BEGIN:VCALENDAR
VERSION:2.0
PRODID:-//Newton Cultural Alliance - ECPv6.13.2.1//NONSGML v1.0//EN
CALSCALE:GREGORIAN
METHOD:PUBLISH
X-WR-CALNAME:Newton Cultural Alliance
X-ORIGINAL-URL:https://newtonculture.org
X-WR-CALDESC:Events for Newton Cultural Alliance
REFRESH-INTERVAL;VALUE=DURATION:PT1H
X-Robots-Tag:noindex
X-PUBLISHED-TTL:PT1H
BEGIN:VTIMEZONE
TZID:America/New_York
BEGIN:DAYLIGHT
TZOFFSETFROM:-0500
TZOFFSETTO:-0400
TZNAME:EDT
DTSTART:20200308T070000
END:DAYLIGHT
BEGIN:STANDARD
TZOFFSETFROM:-0400
TZOFFSETTO:-0500
TZNAME:EST
DTSTART:20201101T060000
END:STANDARD
END:VTIMEZONE
BEGIN:VEVENT
DTSTART;TZID=America/New_York:20201220T130000
DTEND;TZID=America/New_York:20201220T130000
DTSTAMP:20260424T234900
CREATED:20201214T170412Z
LAST-MODIFIED:20201214T170412Z
UID:10019358-1608469200-1608469200@newtonculture.org
SUMMARY:Amherst Early Music presents: Online Open Mic
DESCRIPTION:Join Amherst Early Music for a FREE virtual recital! You too can broadcast from your living room! Act now to reserve a spot to perform\, or join in as a listener. We invite instrumentalists or singers to work up a short piece of music and play it for our supportive AEM community. Silent applause is guaranteed! You can perform a solo or a piece of chamber music with a recording (for example\, your harpsichord friend can record a basso continuo part for you to play with). \nLimited to 12 performing spots. Maximum length per performer is 5 minutes. Performers must attend a sound and tech check on Friday December 18 at 4:00 pm Eastern/1:00 pm Pacific. \nClick here to sign up as a performer or audience member.
URL:https://newtonculture.org/event/amherst-early-music-presents-online-open-mic/
LOCATION:ONLINE\, United Kingdom\, E16 2DQ
CATEGORIES:Community Event,Free Event,Music,Performing Arts
ORGANIZER;CN="Amherst Early Music":MAILTO:info@amherstearlymusic.org
END:VEVENT
END:VCALENDAR