BEGIN:VCALENDAR
VERSION:2.0
PRODID:-//Newton Cultural Alliance - ECPv6.13.2.1//NONSGML v1.0//EN
CALSCALE:GREGORIAN
METHOD:PUBLISH
X-ORIGINAL-URL:https://newtonculture.org
X-WR-CALDESC:Events for Newton Cultural Alliance
REFRESH-INTERVAL;VALUE=DURATION:PT1H
X-Robots-Tag:noindex
X-PUBLISHED-TTL:PT1H
BEGIN:VTIMEZONE
TZID:America/New_York
BEGIN:DAYLIGHT
TZOFFSETFROM:-0500
TZOFFSETTO:-0400
TZNAME:EDT
DTSTART:20220313T070000
END:DAYLIGHT
BEGIN:STANDARD
TZOFFSETFROM:-0400
TZOFFSETTO:-0500
TZNAME:EST
DTSTART:20221106T060000
END:STANDARD
END:VTIMEZONE
BEGIN:VEVENT
DTSTART;TZID=America/New_York:20221117T190000
DTEND;TZID=America/New_York:20221117T203000
DTSTAMP:20260421T093617
CREATED:20221114T153123Z
LAST-MODIFIED:20221114T153123Z
UID:10020753-1668711600-1668717000@newtonculture.org
SUMMARY:Instagram Basics for Artists
DESCRIPTION:Francesca Olsen will teach a class on Instagram Basics focusing on how artists can best use Instagram to grow their audience and make the most out of the time they invest in this platform.\nShe will explain how artists can grow their audience using Instagram\, a visual social media platform with over a billion monthly active users.\nThis workshop will cover the basics of Instagram growth—designing varied content; best use of hashtags\, reels\, and stories; Link in Bio best practices; and the difference between personal\, creative\, and business accounts. Then she will discuss IG analytics and the platform’s changing algorithm.\nThe workshop will begin with an informational presentation and then shift into a Q&A discussion to work through participants’ specific challenges.
URL:https://newtonculture.org/event/instagram-basics-for-artists/
LOCATION:ZOOM
CATEGORIES:Art,Free Event,Visual Arts
ATTACH;FMTTYPE=image/jpeg:https://newtonculture.org/wp-content/uploads/2022/11/Francesca-Olsen.jpg
END:VEVENT
END:VCALENDAR