BEGIN:VCALENDAR
VERSION:2.0
PRODID:-//Newton Cultural Alliance - ECPv6.13.2.1//NONSGML v1.0//EN
CALSCALE:GREGORIAN
METHOD:PUBLISH
X-WR-CALNAME:Newton Cultural Alliance
X-ORIGINAL-URL:https://newtonculture.org
X-WR-CALDESC:Events for Newton Cultural Alliance
REFRESH-INTERVAL;VALUE=DURATION:PT1H
X-Robots-Tag:noindex
X-PUBLISHED-TTL:PT1H
BEGIN:VTIMEZONE
TZID:America/New_York
BEGIN:DAYLIGHT
TZOFFSETFROM:-0500
TZOFFSETTO:-0400
TZNAME:EDT
DTSTART:20230312T070000
END:DAYLIGHT
BEGIN:STANDARD
TZOFFSETFROM:-0400
TZOFFSETTO:-0500
TZNAME:EST
DTSTART:20231105T060000
END:STANDARD
END:VTIMEZONE
BEGIN:VEVENT
DTSTART;TZID=America/New_York:20230630T180000
DTEND;TZID=America/New_York:20230630T220000
DTSTAMP:20260420T222853
CREATED:20230614T153630Z
LAST-MODIFIED:20230614T153630Z
UID:10019655-1688148000-1688162400@newtonculture.org
SUMMARY:The Hyde Community Center presents Summer in the Highlands
DESCRIPTION:The Hyde Community Center\n2023 Summer in the Highlands\nAll Movies and Concerts are free and take place on Hyde Bandstand at Hyde Playground.\nSponsor for all activities on Hyde Bandstand this summer: The Village Bank.\nIn partnership with the Newton Highlands Neighborhood Area Council.\nFor more information 617-201-7088 or director@hydecenter.org or www.hydecenter.org\nHyde on Twitter @hydehighlands. Hyde on Instagram hydehighlands.\nThe Hyde Community Center is a nonprofit corporation. \nFull Schedule available here.
URL:https://newtonculture.org/event/the-hyde-community-center-presents-summer-in-the-highlands/2023-06-30/
LOCATION:Hyde Community Center\, 90 Lincoln St\, Newton Highlands\, MA\, 02461\, United States
CATEGORIES:Community Event,Family Friendly,Film and Media,Free Event,Music
ATTACH;FMTTYPE=image/jpeg:https://newtonculture.org/wp-content/uploads/2023/06/4ab3022b-ee50-f75c-5de8-169828500020.jpg
ORGANIZER;CN="Hyde Community Center":MAILTO:director@hydecenter.org
END:VEVENT
END:VCALENDAR