BEGIN:VCALENDAR
VERSION:2.0
PRODID:-//Newton Cultural Alliance - ECPv6.13.2.1//NONSGML v1.0//EN
CALSCALE:GREGORIAN
METHOD:PUBLISH
X-ORIGINAL-URL:https://newtonculture.org
X-WR-CALDESC:Events for Newton Cultural Alliance
REFRESH-INTERVAL;VALUE=DURATION:PT1H
X-Robots-Tag:noindex
X-PUBLISHED-TTL:PT1H
BEGIN:VTIMEZONE
TZID:America/New_York
BEGIN:DAYLIGHT
TZOFFSETFROM:-0500
TZOFFSETTO:-0400
TZNAME:EDT
DTSTART:20240310T070000
END:DAYLIGHT
BEGIN:STANDARD
TZOFFSETFROM:-0400
TZOFFSETTO:-0500
TZNAME:EST
DTSTART:20241103T060000
END:STANDARD
END:VTIMEZONE
BEGIN:VEVENT
DTSTART;TZID=America/New_York:20240211T120000
DTEND;TZID=America/New_York:20240211T160000
DTSTAMP:20260420T114316
CREATED:20240119T161135Z
LAST-MODIFIED:20240119T161135Z
UID:10019841-1707652800-1707667200@newtonculture.org
SUMMARY:Lunar New Year: Year of the Dragon
DESCRIPTION:Join the New Art Center as we celebrate the year of the dragon with a fun\, FREE event for all ages! The year of the dragon is meant to bring growth\, progress\, and abundance. \nArt educators will lead participants through different make-and-take activities: coloring pages (illustrated by our Guest Artist Nell Valle)\, draw-along dragons\, paper lanterns\, and Chinese calligraphy (featuring a demonstration by Ren Li Song). \nPerformances include: \nMusic by the Greater Boston Chinese Cultural Association’s (GBCCA) music ensemble\, at 12:30pm. \nDance performance by members of Newton Chinese School\, at 2:00pm. \nAnd we welcome back Kyungsun Kim\, a gayageum player\, with members of Boston Academy of Korean Traditional Art (BAKTA)\, at 3:15pm.
URL:https://newtonculture.org/event/lunar-new-year-year-of-the-dragon/
LOCATION:New Art Center\, 61 Washington Park\, Newton\, MA\, 02460\, United States
CATEGORIES:Art,Community Event,Culture and Education,Dance,Family Friendly,Free Event,Music,Performing Arts,Visual Arts
ATTACH;FMTTYPE=image/jpeg:https://newtonculture.org/wp-content/uploads/2024/01/Screenshot-2024-01-17-112738.jpg
ORGANIZER;CN="New Art Center":MAILTO:info@newartcenter.org
END:VEVENT
BEGIN:VEVENT
DTSTART;TZID=America/New_York:20240211T140000
DTEND;TZID=America/New_York:20240211T160000
DTSTAMP:20260420T114316
CREATED:20240123T194851Z
LAST-MODIFIED:20240123T194851Z
UID:10019858-1707660000-1707667200@newtonculture.org
SUMMARY:FUUSN Musicians Annual Concert
DESCRIPTION:Come and hear the wonderful musicians of the First Unitarian Universalist Society in concert on Sunday\, February 11\, 2024 at 2pm in the FUUSN Sanctuary. This concert is a fundraiser for the UU Urban Ministry. You’ll hear classical chamber music by renowned pianist Lois Shapiro\, as well as performances by Paul Antonucci and Debra Minard. Of course the intrepid FUUSN Band will be rocking the house. Come and enjoy the fantastic array of musical styles and moods: classical works\, bluegrass tunes\, jazz and more. And we’ll continue our tradition of Cookies at Intermission!\nThe concert is free and open to the public. Donations will be gratefully accepted for the UU Urban Ministry.
URL:https://newtonculture.org/event/fuusn-musicians-annual-concert/
LOCATION:First Unitarian Universalist Society in Newton\, 1326 Washington St\, Newton\, MA\, 02465\, United States
CATEGORIES:Free Event,Music
ATTACH;FMTTYPE=image/jpeg:https://newtonculture.org/wp-content/uploads/2024/01/FUUSN-Musicians-concert-piano.jpg
ORGANIZER;CN="FUUSN":MAILTO:office@fusn.org
END:VEVENT
END:VCALENDAR