BEGIN:VCALENDAR
VERSION:2.0
PRODID:-//Newton Cultural Alliance - ECPv6.13.2.1//NONSGML v1.0//EN
CALSCALE:GREGORIAN
METHOD:PUBLISH
X-WR-CALNAME:Newton Cultural Alliance
X-ORIGINAL-URL:https://newtonculture.org
X-WR-CALDESC:Events for Newton Cultural Alliance
REFRESH-INTERVAL;VALUE=DURATION:PT1H
X-Robots-Tag:noindex
X-PUBLISHED-TTL:PT1H
BEGIN:VTIMEZONE
TZID:America/New_York
BEGIN:DAYLIGHT
TZOFFSETFROM:-0500
TZOFFSETTO:-0400
TZNAME:EDT
DTSTART:20200308T070000
END:DAYLIGHT
BEGIN:STANDARD
TZOFFSETFROM:-0400
TZOFFSETTO:-0500
TZNAME:EST
DTSTART:20201101T060000
END:STANDARD
END:VTIMEZONE
BEGIN:VEVENT
DTSTART;VALUE=DATE:20200327
DTEND;VALUE=DATE:20200328
DTSTAMP:20260424T222705
CREATED:20200320T172602Z
LAST-MODIFIED:20200421T163033Z
UID:10017904-1585267200-1585353599@newtonculture.org
SUMMARY:Historic Newton - Online Newton Artist Exhibit
DESCRIPTION:Rediscover Newton artists from the 1850s – 1950s! This virtual Historic Newton exhibit includes paintings and sculptures by artists who were either born in Newton or spent a significant part of their lives here. Enjoy now here.
URL:https://newtonculture.org/event/historic-newton-online-newton-artist-exhibit/2020-03-27/
LOCATION:United Kingdom
CATEGORIES:Culture and Education,Free Event,Visual Arts
ATTACH;FMTTYPE=image/png:https://newtonculture.org/wp-content/uploads/2019/11/9.png
END:VEVENT
BEGIN:VEVENT
DTSTART;VALUE=DATE:20200327
DTEND;VALUE=DATE:20200328
DTSTAMP:20260424T222705
CREATED:20200320T172316Z
LAST-MODIFIED:20200421T155049Z
UID:10017818-1585267200-1585353599@newtonculture.org
SUMMARY:Newton Open Studios - Artists Online
DESCRIPTION:Newton Open Studios is now online! Browse the NOS website for paintings\, jewelry\, ceramics\, sculptures\, wearable art\, photography and more–all at your fingertips. Works in this photo include Shepherd’s Run Jewelry\, Marian Dioguardi\, Michele Hoben\, and John J. Murray. Click here!
URL:https://newtonculture.org/event/newton-open-studios-artists-online/2020-03-27/
LOCATION:United Kingdom
CATEGORIES:Free Event,Visual Arts
ORGANIZER;CN="Newton Open Studios":MAILTO:info@newtonopenstudios.org
END:VEVENT
BEGIN:VEVENT
DTSTART;VALUE=DATE:20200327
DTEND;VALUE=DATE:20200328
DTSTAMP:20260424T222705
CREATED:20200320T153547Z
LAST-MODIFIED:20200421T154934Z
UID:10015792-1585267200-1585353599@newtonculture.org
SUMMARY:Cappella Clausura ONLINE: Ordo Virtutum from 2/15/20
DESCRIPTION:Cappella Clausura is pleased to share virtually its special performance of Hildegard von Bingen’s Ordo Virtutum from 2/15/20. Immerse yourself in chanted opera: what Director LeClair calls the very first opera\, written around 1150 by Abbess and now St. Hildegard von Bingen\, fully staged for modern audiences with 18 women and men lending gender fluidity to the various ancient roles; with Na’ama Lion\, flute; Nancy Hurrell\, harp; Laura Jeppesen\, vielle; and Mike Williams\, percussion. Enjoy this lovely concert now by clicking here. More info at clausura.org.
URL:https://newtonculture.org/event/cappella-clausura-performs-ordo-virtutum/2020-03-27/
LOCATION:ONLINE\, United Kingdom\, E16 2DQ
CATEGORIES:Free Event,Music
ATTACH;FMTTYPE=image/jpeg:https://newtonculture.org/wp-content/uploads/2020/03/cappella-clausura.jpg
ORGANIZER;CN="Cappella Clausura":MAILTO:manager@clausura.org
END:VEVENT
BEGIN:VEVENT
DTSTART;TZID=America/New_York:20200326T190000
DTEND;TZID=America/New_York:20200326T200000
DTSTAMP:20260424T222705
CREATED:20200302T173902Z
LAST-MODIFIED:20200312T165759Z
UID:10017770-1585249200-1585252800@newtonculture.org
SUMMARY:First Church in Chestnut Hill: Vive la France! CANCELED
DESCRIPTION:Vive la France! Enjoy a solo piano recital of French-inspired music\, featuring Kathryn Rosenbach\, with works by Bach\, Beethoven\, Chopin\, Debussy\, and Ravel. FREE and open to the public. Seating is limited. More info at firstchurchchestnuthill.org.
URL:https://newtonculture.org/event/first-church-in-chestnut-hill-vive-la-france/
LOCATION:United Kingdom
CATEGORIES:Free Event,Music,Performing Arts
ATTACH;FMTTYPE=image/jpeg:https://newtonculture.org/wp-content/uploads/2020/03/Vive-la-France-scaled-e1583170957775.jpg
ORGANIZER;CN="First Church in Chestnut Hill":MAILTO:26suffolk@gmail.com
END:VEVENT
BEGIN:VEVENT
DTSTART;TZID=America/New_York:20200326T100000
DTEND;TZID=America/New_York:20200326T110000
DTSTAMP:20260424T222705
CREATED:20200320T155850Z
LAST-MODIFIED:20200330T173058Z
UID:10015868-1585216800-1585220400@newtonculture.org
SUMMARY:Matt Heaton and the Outside Toys presents "Mornings With Matt"
DESCRIPTION:Children’s musician Matt Heaton\, a favorite at the Newton Free Library\, is broadcasting daily online singlaongs\, 10-11am\, Monday through Friday\, through Facebook Live. Click here to visit his Facebook page.
URL:https://newtonculture.org/event/matt-heaton-and-the-outside-toys-presents-mornings-with-matt/2020-03-26/
LOCATION:United Kingdom
CATEGORIES:Family Friendly,Free Event,Music
ATTACH;FMTTYPE=image/jpeg:https://newtonculture.org/wp-content/uploads/2020/03/64440043_897335647289340_553554261489745920_o.jpg
END:VEVENT
BEGIN:VEVENT
DTSTART;VALUE=DATE:20200326
DTEND;VALUE=DATE:20200327
DTSTAMP:20260424T222705
CREATED:20200320T172602Z
LAST-MODIFIED:20200421T163033Z
UID:10017903-1585180800-1585267199@newtonculture.org
SUMMARY:Historic Newton - Online Newton Artist Exhibit
DESCRIPTION:Rediscover Newton artists from the 1850s – 1950s! This virtual Historic Newton exhibit includes paintings and sculptures by artists who were either born in Newton or spent a significant part of their lives here. Enjoy now here.
URL:https://newtonculture.org/event/historic-newton-online-newton-artist-exhibit/2020-03-26/
LOCATION:United Kingdom
CATEGORIES:Culture and Education,Free Event,Visual Arts
ATTACH;FMTTYPE=image/png:https://newtonculture.org/wp-content/uploads/2019/11/9.png
END:VEVENT
BEGIN:VEVENT
DTSTART;VALUE=DATE:20200326
DTEND;VALUE=DATE:20200327
DTSTAMP:20260424T222705
CREATED:20200320T172316Z
LAST-MODIFIED:20200421T155049Z
UID:10017817-1585180800-1585267199@newtonculture.org
SUMMARY:Newton Open Studios - Artists Online
DESCRIPTION:Newton Open Studios is now online! Browse the NOS website for paintings\, jewelry\, ceramics\, sculptures\, wearable art\, photography and more–all at your fingertips. Works in this photo include Shepherd’s Run Jewelry\, Marian Dioguardi\, Michele Hoben\, and John J. Murray. Click here!
URL:https://newtonculture.org/event/newton-open-studios-artists-online/2020-03-26/
LOCATION:United Kingdom
CATEGORIES:Free Event,Visual Arts
ORGANIZER;CN="Newton Open Studios":MAILTO:info@newtonopenstudios.org
END:VEVENT
BEGIN:VEVENT
DTSTART;VALUE=DATE:20200326
DTEND;VALUE=DATE:20200327
DTSTAMP:20260424T222705
CREATED:20200320T153547Z
LAST-MODIFIED:20200421T154934Z
UID:10015791-1585180800-1585267199@newtonculture.org
SUMMARY:Cappella Clausura ONLINE: Ordo Virtutum from 2/15/20
DESCRIPTION:Cappella Clausura is pleased to share virtually its special performance of Hildegard von Bingen’s Ordo Virtutum from 2/15/20. Immerse yourself in chanted opera: what Director LeClair calls the very first opera\, written around 1150 by Abbess and now St. Hildegard von Bingen\, fully staged for modern audiences with 18 women and men lending gender fluidity to the various ancient roles; with Na’ama Lion\, flute; Nancy Hurrell\, harp; Laura Jeppesen\, vielle; and Mike Williams\, percussion. Enjoy this lovely concert now by clicking here. More info at clausura.org.
URL:https://newtonculture.org/event/cappella-clausura-performs-ordo-virtutum/2020-03-26/
LOCATION:ONLINE\, United Kingdom\, E16 2DQ
CATEGORIES:Free Event,Music
ATTACH;FMTTYPE=image/jpeg:https://newtonculture.org/wp-content/uploads/2020/03/cappella-clausura.jpg
ORGANIZER;CN="Cappella Clausura":MAILTO:manager@clausura.org
END:VEVENT
BEGIN:VEVENT
DTSTART;TZID=America/New_York:20200325T100000
DTEND;TZID=America/New_York:20200325T110000
DTSTAMP:20260424T222705
CREATED:20200320T155850Z
LAST-MODIFIED:20200330T173058Z
UID:10015867-1585130400-1585134000@newtonculture.org
SUMMARY:Matt Heaton and the Outside Toys presents "Mornings With Matt"
DESCRIPTION:Children’s musician Matt Heaton\, a favorite at the Newton Free Library\, is broadcasting daily online singlaongs\, 10-11am\, Monday through Friday\, through Facebook Live. Click here to visit his Facebook page.
URL:https://newtonculture.org/event/matt-heaton-and-the-outside-toys-presents-mornings-with-matt/2020-03-25/
LOCATION:United Kingdom
CATEGORIES:Family Friendly,Free Event,Music
ATTACH;FMTTYPE=image/jpeg:https://newtonculture.org/wp-content/uploads/2020/03/64440043_897335647289340_553554261489745920_o.jpg
END:VEVENT
BEGIN:VEVENT
DTSTART;VALUE=DATE:20200325
DTEND;VALUE=DATE:20200326
DTSTAMP:20260424T222705
CREATED:20200320T172602Z
LAST-MODIFIED:20200421T163033Z
UID:10017902-1585094400-1585180799@newtonculture.org
SUMMARY:Historic Newton - Online Newton Artist Exhibit
DESCRIPTION:Rediscover Newton artists from the 1850s – 1950s! This virtual Historic Newton exhibit includes paintings and sculptures by artists who were either born in Newton or spent a significant part of their lives here. Enjoy now here.
URL:https://newtonculture.org/event/historic-newton-online-newton-artist-exhibit/2020-03-25/
LOCATION:United Kingdom
CATEGORIES:Culture and Education,Free Event,Visual Arts
ATTACH;FMTTYPE=image/png:https://newtonculture.org/wp-content/uploads/2019/11/9.png
END:VEVENT
BEGIN:VEVENT
DTSTART;VALUE=DATE:20200325
DTEND;VALUE=DATE:20200326
DTSTAMP:20260424T222705
CREATED:20200320T172316Z
LAST-MODIFIED:20200421T155049Z
UID:10017816-1585094400-1585180799@newtonculture.org
SUMMARY:Newton Open Studios - Artists Online
DESCRIPTION:Newton Open Studios is now online! Browse the NOS website for paintings\, jewelry\, ceramics\, sculptures\, wearable art\, photography and more–all at your fingertips. Works in this photo include Shepherd’s Run Jewelry\, Marian Dioguardi\, Michele Hoben\, and John J. Murray. Click here!
URL:https://newtonculture.org/event/newton-open-studios-artists-online/2020-03-25/
LOCATION:United Kingdom
CATEGORIES:Free Event,Visual Arts
ORGANIZER;CN="Newton Open Studios":MAILTO:info@newtonopenstudios.org
END:VEVENT
BEGIN:VEVENT
DTSTART;VALUE=DATE:20200325
DTEND;VALUE=DATE:20200326
DTSTAMP:20260424T222705
CREATED:20200320T153547Z
LAST-MODIFIED:20200421T154934Z
UID:10015790-1585094400-1585180799@newtonculture.org
SUMMARY:Cappella Clausura ONLINE: Ordo Virtutum from 2/15/20
DESCRIPTION:Cappella Clausura is pleased to share virtually its special performance of Hildegard von Bingen’s Ordo Virtutum from 2/15/20. Immerse yourself in chanted opera: what Director LeClair calls the very first opera\, written around 1150 by Abbess and now St. Hildegard von Bingen\, fully staged for modern audiences with 18 women and men lending gender fluidity to the various ancient roles; with Na’ama Lion\, flute; Nancy Hurrell\, harp; Laura Jeppesen\, vielle; and Mike Williams\, percussion. Enjoy this lovely concert now by clicking here. More info at clausura.org.
URL:https://newtonculture.org/event/cappella-clausura-performs-ordo-virtutum/2020-03-25/
LOCATION:ONLINE\, United Kingdom\, E16 2DQ
CATEGORIES:Free Event,Music
ATTACH;FMTTYPE=image/jpeg:https://newtonculture.org/wp-content/uploads/2020/03/cappella-clausura.jpg
ORGANIZER;CN="Cappella Clausura":MAILTO:manager@clausura.org
END:VEVENT
BEGIN:VEVENT
DTSTART;TZID=America/New_York:20200324T180000
DTEND;TZID=America/New_York:20200324T204500
DTSTAMP:20260424T222705
CREATED:20200220T185904Z
LAST-MODIFIED:20200312T154904Z
UID:10017751-1585072800-1585082700@newtonculture.org
SUMMARY:Newton Free Library: The Impact of the 19th Amendment on Women’s Careers CANCELED
DESCRIPTION:Join us for a screening of On the Basis of Sex (Rated PG. Runtime 120 minutes). Following the movie\, Associate Superior Court Justice Elizabeth Fahey will speak about how the passage of the 19th amendment and Title IX allowed her\, and so many other women\, to pursue careers in their chosen fields. This program is part of a year-long series of events sponsored by the Women’s Right-to-Vote Coalition of Newton. (Please note the early start time for this event!) FREE and open to the public. 
URL:https://newtonculture.org/event/the-impact-of-the-19th-amendment-on-womens-careers/
LOCATION:Newton Free Library\, 330 Homer St\, Newton\, MA\, 02459\, United States
CATEGORIES:Community Event,Culture and Education,Film and Media,Free Event
ORGANIZER;CN="Newton Free Library":MAILTO:admin@newtonfreelibrary.net
END:VEVENT
BEGIN:VEVENT
DTSTART;TZID=America/New_York:20200324T120000
DTEND;TZID=America/New_York:20200324T120000
DTSTAMP:20260424T222705
CREATED:20200320T171123Z
LAST-MODIFIED:20200414T164021Z
UID:10017799-1585051200-1585051200@newtonculture.org
SUMMARY:Rockport Music - Midday Music Series
DESCRIPTION:Beginning Tuesday\, March 24 around noon\, Rockport Music will present its Midday Music Series\, posting a new video each Tuesday and Friday around noon of some of their favorite highlights from performances at the Shalin Liu Performance Center. Connect with them here.
URL:https://newtonculture.org/event/rockport-music-midday-music-series/2020-03-24/
LOCATION:United Kingdom
CATEGORIES:Free Event,Music
ATTACH;FMTTYPE=image/png:https://newtonculture.org/wp-content/uploads/2020/03/Rockport-Music.png
END:VEVENT
BEGIN:VEVENT
DTSTART;TZID=America/New_York:20200324T100000
DTEND;TZID=America/New_York:20200324T110000
DTSTAMP:20260424T222705
CREATED:20200320T155850Z
LAST-MODIFIED:20200330T173058Z
UID:10015866-1585044000-1585047600@newtonculture.org
SUMMARY:Matt Heaton and the Outside Toys presents "Mornings With Matt"
DESCRIPTION:Children’s musician Matt Heaton\, a favorite at the Newton Free Library\, is broadcasting daily online singlaongs\, 10-11am\, Monday through Friday\, through Facebook Live. Click here to visit his Facebook page.
URL:https://newtonculture.org/event/matt-heaton-and-the-outside-toys-presents-mornings-with-matt/2020-03-24/
LOCATION:United Kingdom
CATEGORIES:Family Friendly,Free Event,Music
ATTACH;FMTTYPE=image/jpeg:https://newtonculture.org/wp-content/uploads/2020/03/64440043_897335647289340_553554261489745920_o.jpg
END:VEVENT
BEGIN:VEVENT
DTSTART;VALUE=DATE:20200324
DTEND;VALUE=DATE:20200325
DTSTAMP:20260424T222705
CREATED:20200320T172602Z
LAST-MODIFIED:20200421T163033Z
UID:10017901-1585008000-1585094399@newtonculture.org
SUMMARY:Historic Newton - Online Newton Artist Exhibit
DESCRIPTION:Rediscover Newton artists from the 1850s – 1950s! This virtual Historic Newton exhibit includes paintings and sculptures by artists who were either born in Newton or spent a significant part of their lives here. Enjoy now here.
URL:https://newtonculture.org/event/historic-newton-online-newton-artist-exhibit/2020-03-24/
LOCATION:United Kingdom
CATEGORIES:Culture and Education,Free Event,Visual Arts
ATTACH;FMTTYPE=image/png:https://newtonculture.org/wp-content/uploads/2019/11/9.png
END:VEVENT
BEGIN:VEVENT
DTSTART;VALUE=DATE:20200324
DTEND;VALUE=DATE:20200325
DTSTAMP:20260424T222705
CREATED:20200320T172316Z
LAST-MODIFIED:20200421T155049Z
UID:10017815-1585008000-1585094399@newtonculture.org
SUMMARY:Newton Open Studios - Artists Online
DESCRIPTION:Newton Open Studios is now online! Browse the NOS website for paintings\, jewelry\, ceramics\, sculptures\, wearable art\, photography and more–all at your fingertips. Works in this photo include Shepherd’s Run Jewelry\, Marian Dioguardi\, Michele Hoben\, and John J. Murray. Click here!
URL:https://newtonculture.org/event/newton-open-studios-artists-online/2020-03-24/
LOCATION:United Kingdom
CATEGORIES:Free Event,Visual Arts
ORGANIZER;CN="Newton Open Studios":MAILTO:info@newtonopenstudios.org
END:VEVENT
BEGIN:VEVENT
DTSTART;VALUE=DATE:20200324
DTEND;VALUE=DATE:20200325
DTSTAMP:20260424T222705
CREATED:20200320T153547Z
LAST-MODIFIED:20200421T154934Z
UID:10015789-1585008000-1585094399@newtonculture.org
SUMMARY:Cappella Clausura ONLINE: Ordo Virtutum from 2/15/20
DESCRIPTION:Cappella Clausura is pleased to share virtually its special performance of Hildegard von Bingen’s Ordo Virtutum from 2/15/20. Immerse yourself in chanted opera: what Director LeClair calls the very first opera\, written around 1150 by Abbess and now St. Hildegard von Bingen\, fully staged for modern audiences with 18 women and men lending gender fluidity to the various ancient roles; with Na’ama Lion\, flute; Nancy Hurrell\, harp; Laura Jeppesen\, vielle; and Mike Williams\, percussion. Enjoy this lovely concert now by clicking here. More info at clausura.org.
URL:https://newtonculture.org/event/cappella-clausura-performs-ordo-virtutum/2020-03-24/
LOCATION:ONLINE\, United Kingdom\, E16 2DQ
CATEGORIES:Free Event,Music
ATTACH;FMTTYPE=image/jpeg:https://newtonculture.org/wp-content/uploads/2020/03/cappella-clausura.jpg
ORGANIZER;CN="Cappella Clausura":MAILTO:manager@clausura.org
END:VEVENT
BEGIN:VEVENT
DTSTART;TZID=America/New_York:20200323T200000
DTEND;TZID=America/New_York:20200323T200000
DTSTAMP:20260424T222705
CREATED:20200320T170901Z
LAST-MODIFIED:20200427T144941Z
UID:10017798-1584993600-1584993600@newtonculture.org
SUMMARY:BSO - Encores: Nightly @8:00 p.m.
DESCRIPTION:The Boston Symphony Orchestra and WCRB invite you to the virtual community of concerts performed at Symphony Hall with selections of remarkable BSO performances from the Andris Nelsons era. Enjoy these virtual concerts beginning on March 23 at 8:00 p.m. and continuing each night\, Monday through Saturday\, for the next four weeks. Tune in to WCRB here.
URL:https://newtonculture.org/event/bso-encores-nightly-800-p-m/2020-03-23/
LOCATION:ONLINE\, United Kingdom\, E16 2DQ
CATEGORIES:Free Event,Music
ATTACH;FMTTYPE=image/jpeg:https://newtonculture.org/wp-content/uploads/2020/03/bsologo_hires.jpg
END:VEVENT
BEGIN:VEVENT
DTSTART;TZID=America/New_York:20200323T100000
DTEND;TZID=America/New_York:20200323T110000
DTSTAMP:20260424T222705
CREATED:20200320T155850Z
LAST-MODIFIED:20200330T173058Z
UID:10015865-1584957600-1584961200@newtonculture.org
SUMMARY:Matt Heaton and the Outside Toys presents "Mornings With Matt"
DESCRIPTION:Children’s musician Matt Heaton\, a favorite at the Newton Free Library\, is broadcasting daily online singlaongs\, 10-11am\, Monday through Friday\, through Facebook Live. Click here to visit his Facebook page.
URL:https://newtonculture.org/event/matt-heaton-and-the-outside-toys-presents-mornings-with-matt/2020-03-23/
LOCATION:United Kingdom
CATEGORIES:Family Friendly,Free Event,Music
ATTACH;FMTTYPE=image/jpeg:https://newtonculture.org/wp-content/uploads/2020/03/64440043_897335647289340_553554261489745920_o.jpg
END:VEVENT
BEGIN:VEVENT
DTSTART;VALUE=DATE:20200323
DTEND;VALUE=DATE:20200324
DTSTAMP:20260424T222705
CREATED:20200320T172602Z
LAST-MODIFIED:20200421T163033Z
UID:10017900-1584921600-1585007999@newtonculture.org
SUMMARY:Historic Newton - Online Newton Artist Exhibit
DESCRIPTION:Rediscover Newton artists from the 1850s – 1950s! This virtual Historic Newton exhibit includes paintings and sculptures by artists who were either born in Newton or spent a significant part of their lives here. Enjoy now here.
URL:https://newtonculture.org/event/historic-newton-online-newton-artist-exhibit/2020-03-23/
LOCATION:United Kingdom
CATEGORIES:Culture and Education,Free Event,Visual Arts
ATTACH;FMTTYPE=image/png:https://newtonculture.org/wp-content/uploads/2019/11/9.png
END:VEVENT
BEGIN:VEVENT
DTSTART;VALUE=DATE:20200323
DTEND;VALUE=DATE:20200324
DTSTAMP:20260424T222705
CREATED:20200320T172316Z
LAST-MODIFIED:20200421T155049Z
UID:10017814-1584921600-1585007999@newtonculture.org
SUMMARY:Newton Open Studios - Artists Online
DESCRIPTION:Newton Open Studios is now online! Browse the NOS website for paintings\, jewelry\, ceramics\, sculptures\, wearable art\, photography and more–all at your fingertips. Works in this photo include Shepherd’s Run Jewelry\, Marian Dioguardi\, Michele Hoben\, and John J. Murray. Click here!
URL:https://newtonculture.org/event/newton-open-studios-artists-online/2020-03-23/
LOCATION:United Kingdom
CATEGORIES:Free Event,Visual Arts
ORGANIZER;CN="Newton Open Studios":MAILTO:info@newtonopenstudios.org
END:VEVENT
BEGIN:VEVENT
DTSTART;VALUE=DATE:20200323
DTEND;VALUE=DATE:20200324
DTSTAMP:20260424T222705
CREATED:20200320T153547Z
LAST-MODIFIED:20200421T154934Z
UID:10015788-1584921600-1585007999@newtonculture.org
SUMMARY:Cappella Clausura ONLINE: Ordo Virtutum from 2/15/20
DESCRIPTION:Cappella Clausura is pleased to share virtually its special performance of Hildegard von Bingen’s Ordo Virtutum from 2/15/20. Immerse yourself in chanted opera: what Director LeClair calls the very first opera\, written around 1150 by Abbess and now St. Hildegard von Bingen\, fully staged for modern audiences with 18 women and men lending gender fluidity to the various ancient roles; with Na’ama Lion\, flute; Nancy Hurrell\, harp; Laura Jeppesen\, vielle; and Mike Williams\, percussion. Enjoy this lovely concert now by clicking here. More info at clausura.org.
URL:https://newtonculture.org/event/cappella-clausura-performs-ordo-virtutum/2020-03-23/
LOCATION:ONLINE\, United Kingdom\, E16 2DQ
CATEGORIES:Free Event,Music
ATTACH;FMTTYPE=image/jpeg:https://newtonculture.org/wp-content/uploads/2020/03/cappella-clausura.jpg
ORGANIZER;CN="Cappella Clausura":MAILTO:manager@clausura.org
END:VEVENT
BEGIN:VEVENT
DTSTART;TZID=America/New_York:20200322T190000
DTEND;TZID=America/New_York:20200322T190000
DTSTAMP:20260424T222705
CREATED:20200320T152406Z
LAST-MODIFIED:20200323T184329Z
UID:10015783-1584903600-1584903600@newtonculture.org
SUMMARY:New TV Classic Sundays
DESCRIPTION:NewTV’s Education Channel will be showing classic movies every Sunday evening throughout the month of March. On March 29\, they will be showing Charlie Chaplin’s The Great Dictator. Films start at 7:00 p.m. To watch\, tune into Comcast 99\, RCN 3 (629 for HD)\, or Verizon 32 (2134 for HD). More info at newtv.org.
URL:https://newtonculture.org/event/classic-sundays-with-newtv/
LOCATION:United Kingdom
CATEGORIES:Film and Media,Free Event
ATTACH;FMTTYPE=image/png:https://newtonculture.org/wp-content/uploads/2019/11/Logos-500px-4-newtv.png
ORGANIZER;CN="NewTV":MAILTO:newtv@newtv.org
END:VEVENT
BEGIN:VEVENT
DTSTART;TZID=America/New_York:20200322T140000
DTEND;TZID=America/New_York:20200322T150000
DTSTAMP:20260424T222705
CREATED:20200224T181327Z
LAST-MODIFIED:20200312T154934Z
UID:10015763-1584885600-1584889200@newtonculture.org
SUMMARY:Amaranti Ensemble Presents Gibraltar: A Clash Between Nations CANCELED
DESCRIPTION:Join us for a performance of late 18th and early 19th century Spanish music; a relatively unexplored niche in the world of early music. Soprano Maria Alejandra Montero will perform a set of seguidillas for voice and harpsichord by composer José Lidon. The musicians will also explore romantic-era repertoire for the guitar and flute\, arranged for harpsichord and traverso. \nThe concert is being presented in memory of Barbara Hyatt whose family has made a significant contribution to the library for the upgrade of the sound system in Druker Auditorium. Barbara’s love of the library inspired this gift and we are so grateful for the family’s support. \n 
URL:https://newtonculture.org/event/amaranti-ensemble-presents-gibraltar-a-clash-between-nations/
LOCATION:Newton Free Library\, 330 Homer St\, Newton\, MA\, 02459\, United States
CATEGORIES:Free Event,Music
ORGANIZER;CN="Newton Free Library":MAILTO:admin@newtonfreelibrary.net
END:VEVENT
BEGIN:VEVENT
DTSTART;VALUE=DATE:20200322
DTEND;VALUE=DATE:20200323
DTSTAMP:20260424T222705
CREATED:20200320T172602Z
LAST-MODIFIED:20200421T163033Z
UID:10017899-1584835200-1584921599@newtonculture.org
SUMMARY:Historic Newton - Online Newton Artist Exhibit
DESCRIPTION:Rediscover Newton artists from the 1850s – 1950s! This virtual Historic Newton exhibit includes paintings and sculptures by artists who were either born in Newton or spent a significant part of their lives here. Enjoy now here.
URL:https://newtonculture.org/event/historic-newton-online-newton-artist-exhibit/2020-03-22/
LOCATION:United Kingdom
CATEGORIES:Culture and Education,Free Event,Visual Arts
ATTACH;FMTTYPE=image/png:https://newtonculture.org/wp-content/uploads/2019/11/9.png
END:VEVENT
BEGIN:VEVENT
DTSTART;VALUE=DATE:20200322
DTEND;VALUE=DATE:20200323
DTSTAMP:20260424T222705
CREATED:20200320T172316Z
LAST-MODIFIED:20200421T155049Z
UID:10017813-1584835200-1584921599@newtonculture.org
SUMMARY:Newton Open Studios - Artists Online
DESCRIPTION:Newton Open Studios is now online! Browse the NOS website for paintings\, jewelry\, ceramics\, sculptures\, wearable art\, photography and more–all at your fingertips. Works in this photo include Shepherd’s Run Jewelry\, Marian Dioguardi\, Michele Hoben\, and John J. Murray. Click here!
URL:https://newtonculture.org/event/newton-open-studios-artists-online/2020-03-22/
LOCATION:United Kingdom
CATEGORIES:Free Event,Visual Arts
ORGANIZER;CN="Newton Open Studios":MAILTO:info@newtonopenstudios.org
END:VEVENT
BEGIN:VEVENT
DTSTART;VALUE=DATE:20200322
DTEND;VALUE=DATE:20200323
DTSTAMP:20260424T222705
CREATED:20200320T153547Z
LAST-MODIFIED:20200421T154934Z
UID:10015787-1584835200-1584921599@newtonculture.org
SUMMARY:Cappella Clausura ONLINE: Ordo Virtutum from 2/15/20
DESCRIPTION:Cappella Clausura is pleased to share virtually its special performance of Hildegard von Bingen’s Ordo Virtutum from 2/15/20. Immerse yourself in chanted opera: what Director LeClair calls the very first opera\, written around 1150 by Abbess and now St. Hildegard von Bingen\, fully staged for modern audiences with 18 women and men lending gender fluidity to the various ancient roles; with Na’ama Lion\, flute; Nancy Hurrell\, harp; Laura Jeppesen\, vielle; and Mike Williams\, percussion. Enjoy this lovely concert now by clicking here. More info at clausura.org.
URL:https://newtonculture.org/event/cappella-clausura-performs-ordo-virtutum/2020-03-22/
LOCATION:ONLINE\, United Kingdom\, E16 2DQ
CATEGORIES:Free Event,Music
ATTACH;FMTTYPE=image/jpeg:https://newtonculture.org/wp-content/uploads/2020/03/cappella-clausura.jpg
ORGANIZER;CN="Cappella Clausura":MAILTO:manager@clausura.org
END:VEVENT
BEGIN:VEVENT
DTSTART;TZID=America/New_York:20200321T193000
DTEND;TZID=America/New_York:20200321T193000
DTSTAMP:20260424T222705
CREATED:20200320T170151Z
LAST-MODIFIED:20200320T170151Z
UID:10015880-1584819000-1584819000@newtonculture.org
SUMMARY:Pro Arte Chamber Orchestra
DESCRIPTION:Bach at 335! Looking for some wonderful Bach to celebrate his 335th birthday? Pro Arte’s Leo Eguchi and his Sheffield Chamber Players will be performing a string trio version of Bach’s Goldberg Variations live via Facebook on Saturday\, March 21\, at 7:30 p.m. Tune in to stream this great live show at 7:30 p.m. here!
URL:https://newtonculture.org/event/pro-arte-chamber-orchestra/
LOCATION:United Kingdom
CATEGORIES:Free Event,Music
ATTACH;FMTTYPE=image/jpeg:https://newtonculture.org/wp-content/uploads/2020/03/89777420_2566550413567902_3912632777643655168_o.jpg
END:VEVENT
BEGIN:VEVENT
DTSTART;TZID=America/New_York:20200321T183000
DTEND;TZID=America/New_York:20200321T193000
DTSTAMP:20260424T222705
CREATED:20200226T211738Z
LAST-MODIFIED:20200317T184315Z
UID:10015774-1584815400-1584819000@newtonculture.org
SUMMARY:Suzuki School Of Newton: Advanced Piano Recital CANCELED
DESCRIPTION:Advanced piano students from the Suzuki School of Newton will perform their polished pieces in this special showcase recital at the brand new location of M. Steinert and Sons\, New England’s premier piano merchant. This performance will also feature additional performances from the Suzuki School of Newton’s very own professional piano faculty. \nThe recital is free and open to the public. For more information\, please visit: http://www.suzukinewton.org/events.html
URL:https://newtonculture.org/event/suzuki-school-of-newton-advanced-piano-recital/
LOCATION:M.Steinert & Sons\, 1069 Washington Street\, West Newton\, MA\, United States
CATEGORIES:Community Event,Culture and Education,Family Friendly,Free Event,Music
ORGANIZER;CN="Suzuki School of Newton":MAILTO:email@suzukinewton.org
END:VEVENT
END:VCALENDAR