BEGIN:VCALENDAR
VERSION:2.0
PRODID:-//Newton Cultural Alliance - ECPv6.13.2.1//NONSGML v1.0//EN
CALSCALE:GREGORIAN
METHOD:PUBLISH
X-ORIGINAL-URL:https://newtonculture.org
X-WR-CALDESC:Events for Newton Cultural Alliance
REFRESH-INTERVAL;VALUE=DURATION:PT1H
X-Robots-Tag:noindex
X-PUBLISHED-TTL:PT1H
BEGIN:VTIMEZONE
TZID:America/New_York
BEGIN:DAYLIGHT
TZOFFSETFROM:-0500
TZOFFSETTO:-0400
TZNAME:EDT
DTSTART:20200308T070000
END:DAYLIGHT
BEGIN:STANDARD
TZOFFSETFROM:-0400
TZOFFSETTO:-0500
TZNAME:EST
DTSTART:20201101T060000
END:STANDARD
END:VTIMEZONE
BEGIN:VTIMEZONE
TZID:UTC
BEGIN:STANDARD
TZOFFSETFROM:+0000
TZOFFSETTO:+0000
TZNAME:UTC
DTSTART:20190101T000000
END:STANDARD
END:VTIMEZONE
BEGIN:VEVENT
DTSTART;TZID=America/New_York:20200316T190000
DTEND;TZID=America/New_York:20200316T203000
DTSTAMP:20260425T083310
CREATED:20200220T184629Z
LAST-MODIFIED:20200312T155011Z
UID:10017750-1584385200-1584390600@newtonculture.org
SUMMARY:Newton Free Library: Women in World Jazz Concert CANCELED
DESCRIPTION:Jazz and Blues were a propelling force in the U.S. during the 1920s\, providing females of all ages with an outlet for rebellion in a time when they were also fighting to win the right to vote. Join the Newton Free Library as they celebrate the 100-year anniversary of the passage of the 19th amendment with a concert\, featuring Women in World Jazz along with the Women in World Jazz Junior Performers to pay tribute to that hard-won battle. This program is part of the year-long celebrations of the Women’s Right to Vote Coalition of Newton. The concert is geared towards adults and youth (ages 10 and older). Funded by the Newton Cultural Council. FREE and open to the public. 
URL:https://newtonculture.org/event/women-in-world-jazz-music-as-an-expression-of-womens-dissent/
LOCATION:Newton Free Library\, 330 Homer St\, Newton\, MA\, 02459\, United States
CATEGORIES:Culture and Education,Family Friendly,Free Event,Music,Performing Arts
ORGANIZER;CN="Newton Free Library":MAILTO:admin@newtonfreelibrary.net
END:VEVENT
BEGIN:VEVENT
DTSTART;TZID=America/New_York:20200315T140000
DTEND;TZID=America/New_York:20200315T150000
DTSTAMP:20260425T083310
CREATED:20200220T211212Z
LAST-MODIFIED:20200312T154419Z
UID:10015761-1584280800-1584284400@newtonculture.org
SUMMARY:Fredrik Wanger on Piano at the Newton Free Library CANCELED
DESCRIPTION:Fredrik Wanger will return for a solo piano performance of works by Schubert\, Brahms and Chopin\, featuring the Brahms Opus 9 variations on a theme of Schumann.
URL:https://newtonculture.org/event/fredrik-wanger-on-piano-at-the-newton-free-library/
LOCATION:Newton Free Library\, 330 Homer St\, Newton\, MA\, 02459\, United States
CATEGORIES:Free Event,Music
ATTACH;FMTTYPE=image/png:https://newtonculture.org/wp-content/uploads/2019/11/Logos-500px-10-newtonlib-e1578597870408.png
ORGANIZER;CN="Newton Free Library":MAILTO:admin@newtonfreelibrary.net
END:VEVENT
BEGIN:VEVENT
DTSTART;TZID=America/New_York:20200312T193000
DTEND;TZID=America/New_York:20200312T210000
DTSTAMP:20260425T083310
CREATED:20200226T201256Z
LAST-MODIFIED:20200317T182257Z
UID:10015769-1584041400-1584046800@newtonculture.org
SUMMARY:Art Demo at Newton Art Association: Opaque Watercolors CANCELED
DESCRIPTION:Vicki Paret will demonstrate her use of opaque watercolors. Free and open to the public.
URL:https://newtonculture.org/event/art-demo-at-newton-art-association-opaque-watercolors/
LOCATION:Newton Senior Center\, 345 Walnut St\, Newton\, MA\, 02460\, United States
CATEGORIES:Art,Culture and Education,Free Event
ATTACH;FMTTYPE=image/png:https://newtonculture.org/wp-content/uploads/2019/11/10.png
ORGANIZER;CN="Newton Art Association":MAILTO:info@newtonartassociation.com
END:VEVENT
BEGIN:VEVENT
DTSTART;TZID=America/New_York:20200311T183000
DTEND;TZID=America/New_York:20200311T203000
DTSTAMP:20260425T083310
CREATED:20200226T203302Z
LAST-MODIFIED:20200312T155044Z
UID:10017754-1583951400-1583958600@newtonculture.org
SUMMARY:Ocllo Mason: "Changing Seasons" Gallery Reception CANCELED
DESCRIPTION:Join us at NewTV for a gallery reception for artist Ocllo Mason’s exhibit “Changing Seasons.” This event is free and open to the public. There will be wine and cheese and the chance to speak with the artist about her painting.
URL:https://newtonculture.org/event/ocllo-mason-changing-seasons-gallery-reception/
LOCATION:NewTV\, 23 Needham St\, Newton\, MA\, 02461\, United States
CATEGORIES:Art,Community Event,Free Event
ORGANIZER;CN="NewTV":MAILTO:newtv@newtv.org
END:VEVENT
BEGIN:VEVENT
DTSTART;TZID=America/New_York:20200309T190000
DTEND;TZID=America/New_York:20200309T200000
DTSTAMP:20260425T083310
CREATED:20200226T204110Z
LAST-MODIFIED:20200226T204110Z
UID:10017755-1583780400-1583784000@newtonculture.org
SUMMARY:Studio Production Orientation at NewTV
DESCRIPTION:Want to learn about the studio at NewTV and how you might use it? Join us for an introduction to our studio space and the basic set-up. If you’re interested in having your own show\, this is the class for you.
URL:https://newtonculture.org/event/studio-production-orientation-at-newtv-2/
LOCATION:NewTV\, 23 Needham St\, Newton\, MA\, 02461\, United States
CATEGORIES:Film and Media,Free Event
ORGANIZER;CN="NewTV":MAILTO:newtv@newtv.org
END:VEVENT
BEGIN:VEVENT
DTSTART;TZID=America/New_York:20200308T151500
DTEND;TZID=America/New_York:20200308T180000
DTSTAMP:20260425T083310
CREATED:20200226T212039Z
LAST-MODIFIED:20200226T212039Z
UID:10015776-1583680500-1583690400@newtonculture.org
SUMMARY:Suzuki School of Newton: Student Recitals @ 3:15 & 4:45 PM
DESCRIPTION:Violin\, viola\, cello\, piano\, flute\, guitar\, and harp students from the Suzuki School of Newton will present their polished pieces in two solo recitals: one beginning at 3:15pm\, and a second beginning at 4:45pm. \nThe recitals are free and open to the public. \nFor more information\, please visit: http://www.suzukinewton.org/events.html
URL:https://newtonculture.org/event/suzuki-school-of-newton-student-recitals-315-445-pm/
LOCATION:Scandinavian Cultural Center\, 206 Waltham St\, Newton\, MA\, 02465\, United States
CATEGORIES:Culture and Education,Free Event,Music
ORGANIZER;CN="Suzuki School of Newton":MAILTO:email@suzukinewton.org
END:VEVENT
BEGIN:VEVENT
DTSTART;TZID=America/New_York:20200308T140000
DTEND;TZID=America/New_York:20200308T150000
DTSTAMP:20260425T083310
CREATED:20200220T210614Z
LAST-MODIFIED:20200220T210855Z
UID:10015760-1583676000-1583679600@newtonculture.org
SUMMARY:Thoreau Piano Trio: A Study in Light and Dark
DESCRIPTION:Susan Jensen\, violin\, Darry Dolezal\, cello\, and Paul Jacobs\, piano\, are the Thoreau Piano Trio. Join them as they return to perform a program of masterworks both brooding and brilliant including Beethoven’s Trio in E-Flat\, Op. 70\, No. 2 and Mendelssohn’s great D Minor Trio.
URL:https://newtonculture.org/event/thoreau-piano-trio-a-study-in-light-and-dark/
LOCATION:Newton Free Library\, 330 Homer St\, Newton\, MA\, 02459\, United States
CATEGORIES:Free Event,Music
ORGANIZER;CN="Newton Free Library":MAILTO:admin@newtonfreelibrary.net
END:VEVENT
BEGIN:VEVENT
DTSTART;TZID=America/New_York:20200308T100000
DTEND;TZID=America/New_York:20200308T170000
DTSTAMP:20260425T083310
CREATED:20200210T195612Z
LAST-MODIFIED:20200226T170711Z
UID:10017747-1583661600-1583686800@newtonculture.org
SUMMARY:Free Weekend at Historic Newton
DESCRIPTION:Everyone is invited to enjoy free admission to Historic Newton’s museums.\nLocations: Jackson Homestead and Museum\, 527 Washington Street\, and the Durant-Kenrick House and Grounds\, 286 Waverley Avenue\nAdmission: Free\nInformation: 617-796-1450; historicnewton.org
URL:https://newtonculture.org/event/free-weekend-at-historic-newton/2020-03-08/
LOCATION:Jackson Homestead and Museum\, 527 Washington St\, Newton\, MA\, 02458\, United States
CATEGORIES:Culture and Education,Free Event
ATTACH;FMTTYPE=image/png:https://newtonculture.org/wp-content/uploads/2019/11/9.png
END:VEVENT
BEGIN:VEVENT
DTSTART;TZID=America/New_York:20200307T150000
DTEND;TZID=America/New_York:20200307T173000
DTSTAMP:20260425T083310
CREATED:20200226T212145Z
LAST-MODIFIED:20200226T212145Z
UID:10015777-1583593200-1583602200@newtonculture.org
SUMMARY:Suzuki School of Newton: Student Recitals @ 3:00 & 4:30 PM
DESCRIPTION:Violin\, viola\, cello\, piano\, flute\, guitar\, and harp students from the Suzuki School of Newton will present their polished pieces in two solo recitals: one beginning at 3:00pm\, and a second beginning at 4:30pm. \nThe recitals are free and open to the public. \nFor more information\, please visit http://www.suzukinewton.org/events.html
URL:https://newtonculture.org/event/suzuki-school-of-newton-student-recitals-300-430-pm/
LOCATION:United Parish of Auburndale\, 64 Hancock St.\, Auburndale\, MA\, 02466\, United States
CATEGORIES:Community Event,Culture and Education,Free Event,Music
ORGANIZER;CN="Suzuki School of Newton":MAILTO:email@suzukinewton.org
END:VEVENT
BEGIN:VEVENT
DTSTART;TZID=America/New_York:20200307T100000
DTEND;TZID=America/New_York:20200307T170000
DTSTAMP:20260425T083310
CREATED:20200210T195612Z
LAST-MODIFIED:20200226T170711Z
UID:10017746-1583575200-1583600400@newtonculture.org
SUMMARY:Free Weekend at Historic Newton
DESCRIPTION:Everyone is invited to enjoy free admission to Historic Newton’s museums.\nLocations: Jackson Homestead and Museum\, 527 Washington Street\, and the Durant-Kenrick House and Grounds\, 286 Waverley Avenue\nAdmission: Free\nInformation: 617-796-1450; historicnewton.org
URL:https://newtonculture.org/event/free-weekend-at-historic-newton/2020-03-07/
LOCATION:Jackson Homestead and Museum\, 527 Washington St\, Newton\, MA\, 02458\, United States
CATEGORIES:Culture and Education,Free Event
ATTACH;FMTTYPE=image/png:https://newtonculture.org/wp-content/uploads/2019/11/9.png
END:VEVENT
BEGIN:VEVENT
DTSTART;TZID=America/New_York:20200306T190000
DTEND;TZID=America/New_York:20200306T200000
DTSTAMP:20260425T083310
CREATED:20200302T182711Z
LAST-MODIFIED:20200302T182711Z
UID:10017772-1583521200-1583524800@newtonculture.org
SUMMARY:WSYMCA: Poetry Night
DESCRIPTION:Join the West Suburban YMCA for Poetry Night. The monthly event features readings by two local poets\, then guests are invited to participate in the open mic portion of the evening to share their own written work. This event is FREE and open to the public. Poetry Night occurs on the first Friday of every month. More info at www.wsymca.org.
URL:https://newtonculture.org/event/wsymca-poetry-night/
LOCATION:WSYMCA\, 276 Church St\, Newton\, MA\, 02458\, United States
CATEGORIES:Community Event,Culture and Education,Free Event,Performing Arts
END:VEVENT
BEGIN:VEVENT
DTSTART;TZID=America/New_York:20200302T190000
DTEND;TZID=America/New_York:20200302T200000
DTSTAMP:20260425T083310
CREATED:20200226T203012Z
LAST-MODIFIED:20200226T203351Z
UID:10017753-1583175600-1583179200@newtonculture.org
SUMMARY:Podcasting Orientation at NewTV
DESCRIPTION:Want to learn about the growing world of podcasting? Come to NewTV for an introduction into the podcasting world and how you might create your own at NewTV.
URL:https://newtonculture.org/event/podcasting-orientation-at-newtv/
LOCATION:NewTV\, 23 Needham St\, Newton\, MA\, 02461\, United States
CATEGORIES:Culture and Education,Film and Media,Free Event
ORGANIZER;CN="NewTV":MAILTO:newtv@newtv.org
END:VEVENT
BEGIN:VEVENT
DTSTART;TZID=America/New_York:20200301T150000
DTEND;TZID=America/New_York:20200301T160000
DTSTAMP:20260425T083310
CREATED:20200225T174154Z
LAST-MODIFIED:20200226T170438Z
UID:10015768-1583074800-1583078400@newtonculture.org
SUMMARY:All Newton Music School: Kevin McGinty - Faculty Recital
DESCRIPTION:All Newton Music School piano faculty Kevin McGinty presents a solo recital of Chopin etudes. Following the Sunday faculty recitals\, there is a reception hosted by the Board\, Members of the Corporation\, and Board Emeritus.  FREE and open to the public. RSVP here.
URL:https://newtonculture.org/event/kevin-mcginty-faculty-recital/
LOCATION:All Newton Music School\, 321 Chestnut St\, West Newton\, MA\, 02465\, United States
CATEGORIES:Family Friendly,Free Event,Music,Performing Arts
END:VEVENT
BEGIN:VEVENT
DTSTART;TZID=America/New_York:20200301T140000
DTEND;TZID=America/New_York:20200301T150000
DTSTAMP:20260425T083310
CREATED:20200220T205716Z
LAST-MODIFIED:20200226T170200Z
UID:10015759-1583071200-1583074800@newtonculture.org
SUMMARY:Weston Wind Quintet at the Newton Free Library
DESCRIPTION:The Weston Wind Quintet has given dozens of concerts in the greater Boston area over the past 15 years\, covering a wide repertoire. Live recordings of many of those concerts are available free of charge for listening or downloading from SoundCloud. For this concert they will perform works by Giacchino Rossini\, Ralph Vaughn Williams\, Paul Juon and Anton Reicha. FREE and open to the public.
URL:https://newtonculture.org/event/weston-wind-quintet-at-the-newton-free-library/
LOCATION:Newton Free Library\, 330 Homer St\, Newton\, MA\, 02459\, United States
CATEGORIES:Free Event,Music,Performing Arts
ORGANIZER;CN="Newton Free Library":MAILTO:admin@newtonfreelibrary.net
END:VEVENT
BEGIN:VEVENT
DTSTART;TZID=America/New_York:20200301T130000
DTEND;TZID=America/New_York:20200301T160000
DTSTAMP:20260425T083310
CREATED:20200210T191907Z
LAST-MODIFIED:20200427T150304Z
UID:10017731-1583067600-1583078400@newtonculture.org
SUMMARY:New Art Center: Family Art Drop-In CANCELED
DESCRIPTION:Drop in – everyone makes art! Visit New Art Center for an exciting free program for children with their parents\, grandparents\, or guardians. Explore 2 art-maker spaces; different projects each time! (This is a work-together program; children must be accompanied by an adult.) FREE and open to the public.
URL:https://newtonculture.org/event/new-art-center-family-art-drop-in/2020-03-01/
LOCATION:New Art Center\, 61 Washington Park\, Newton\, MA\, 02460\, United States
CATEGORIES:Art,Family Friendly,Free Event,Visual Arts
ORGANIZER;CN="New Art Center":MAILTO:info@newartcenter.org
END:VEVENT
BEGIN:VEVENT
DTSTART;TZID=America/New_York:20200223T140000
DTEND;TZID=America/New_York:20200223T150000
DTSTAMP:20260425T083310
CREATED:20200211T165031Z
LAST-MODIFIED:20200211T165225Z
UID:10017748-1582466400-1582470000@newtonculture.org
SUMMARY:Newton Free Library: Solo Violin Performance
DESCRIPTION:Violinist Dorisiya Yosifova will perform works by Telemann\, Bach\, Kreisler\, and others. A native of Gabrovo\, Bulgaria\, Ms. Yosifova earned a Master of Music degree in violin performance at the Boston Conservatory at Berklee.
URL:https://newtonculture.org/event/newton-free-library-solo-violin-performance/
LOCATION:Newton Free Library\, 330 Homer St\, Newton\, MA\, 02459\, United States
CATEGORIES:Free Event,Music,Performing Arts
ORGANIZER;CN="Newton Free Library":MAILTO:admin@newtonfreelibrary.net
END:VEVENT
BEGIN:VEVENT
DTSTART;TZID=America/New_York:20200219T190000
DTEND;TZID=America/New_York:20200219T203000
DTSTAMP:20260425T083310
CREATED:20200127T195552Z
LAST-MODIFIED:20200210T163832Z
UID:10016270-1582138800-1582144200@newtonculture.org
SUMMARY:Newton Free Library: Climbin’ Up the Mountain - Historic Struggles of African-American Opera Singers
DESCRIPTION:In honor of Black History Month\, opera and classical music expert\, Ed Tapper\, will give a presentation highlighting several historically significant African-American opera and concert singers from the 19th century to the present. They persevered in the face of racial prejudice and violence\, blazing the trail for future generations of singers from every race. Mr. Tapper is the owner of Orpheus (362 Commonwealth Avenue\, Boston)\, an internationally known retail store that specializes in opera and classical music recordings\, and more. FREE and open to the public. More info at newtonfreelibrary.net.
URL:https://newtonculture.org/event/climbin-up-the-mountain-historic-struggles-of-african-american-opera-singers/
LOCATION:Newton Free Library\, 330 Homer St\, Newton\, MA\, 02459\, United States
CATEGORIES:Culture and Education,Free Event
ATTACH;FMTTYPE=image/png:https://newtonculture.org/wp-content/uploads/2019/11/Logos-500px-10-newtonlib-e1578597870408.png
ORGANIZER;CN="Newton Free Library":MAILTO:admin@newtonfreelibrary.net
END:VEVENT
BEGIN:VEVENT
DTSTART;TZID=America/New_York:20200209T151500
DTEND;TZID=America/New_York:20200209T181500
DTSTAMP:20260425T083310
CREATED:20200129T183608Z
LAST-MODIFIED:20200210T164606Z
UID:10016355-1581261300-1581272100@newtonculture.org
SUMMARY:Suzuki School of Newton: Student Solo Recitals
DESCRIPTION:Violin\, viola\, cello\, piano\, flute\, guitar\, and harp students from the Suzuki School of Newton will present their polished pieces in two solo recitals: one beginning at 3:15 p.m.\, and a second beginning at 4:45 p.m. Free and open to the public. More info at suzukinewton.org.
URL:https://newtonculture.org/event/student-solo-recitals-suzuki-school-of-newton-2-2/
LOCATION:Scandinavian Cultural Center\, 206 Waltham St\, Newton\, MA\, 02465\, United States
CATEGORIES:Family Friendly,Free Event,Music,Performing Arts
ATTACH;FMTTYPE=image/png:https://newtonculture.org/wp-content/uploads/2019/11/Logos-500px-5-suzuki.png
ORGANIZER;CN="Suzuki School of Newton":MAILTO:email@suzukinewton.org
END:VEVENT
BEGIN:VEVENT
DTSTART;TZID=America/New_York:20200209T143000
DTEND;TZID=America/New_York:20200209T160000
DTSTAMP:20260425T083310
CREATED:20200129T184103Z
LAST-MODIFIED:20200210T164743Z
UID:10017719-1581258600-1581264000@newtonculture.org
SUMMARY:NAA Artist Demo: Painters Should Be Printmakers
DESCRIPTION:Carol Letvin’s demonstration\, hosted by the Newton Art Association\, will cover an innovative printmaking process for painters. Using oil or acrylic painting supplies and some simple tools\, you can create beautiful\, unique mono-type prints. Try it during the demo FREE and open to the public. More info at https://newtonartassociation.com/
URL:https://newtonculture.org/event/naa-artist-demo-painters-should-be-printmakers/
LOCATION:Newton Senior Center\, 345 Walnut St\, Newton\, MA\, 02460\, United States
CATEGORIES:Art,Free Event,Visual Arts
ORGANIZER;CN="Newton Art Association":MAILTO:info@newtonartassociation.com
END:VEVENT
BEGIN:VEVENT
DTSTART;TZID=America/New_York:20200208T030000
DTEND;TZID=America/New_York:20200208T180000
DTSTAMP:20260425T083310
CREATED:20200129T183345Z
LAST-MODIFIED:20200210T164938Z
UID:10016354-1581130800-1581184800@newtonculture.org
SUMMARY:Suzuki School of Newton: Student Solo Recitals
DESCRIPTION:Violin\, viola\, cello\, piano\, flute\, guitar\, and harp students from the Suzuki School of Newton will present their polished pieces in two solo recitals: one beginning at 3:00 p.m.\, and a second beginning at 4:30 p.m. Free and open to the public. More info at suzukinewton.org
URL:https://newtonculture.org/event/student-solo-recitals-suzuki-school-of-newton/
LOCATION:MA
CATEGORIES:Family Friendly,Free Event,Music,Performing Arts
ATTACH;FMTTYPE=image/png:https://newtonculture.org/wp-content/uploads/2019/11/Logos-500px-5-suzuki.png
ORGANIZER;CN="Suzuki School of Newton":MAILTO:email@suzukinewton.org
END:VEVENT
BEGIN:VEVENT
DTSTART;TZID=America/New_York:20200205T190000
DTEND;TZID=America/New_York:20200205T203000
DTSTAMP:20260425T083310
CREATED:20200127T191434Z
LAST-MODIFIED:20200210T165712Z
UID:10015897-1580929200-1580934600@newtonculture.org
SUMMARY:Newton Free Library: Joint Opening Reception for "Veiled" by Mary McSweeney & "Wander & Wonder" by Dan Brenton
DESCRIPTION:These art shows will be on view February 4-27: The face is Mary McSweeney’s greatest inspiration whether invented\, from life\, idealized\, distorted\, sculptural or flat. From describing form and light with small strokes to creating ambiguous spaces with broad and untamed washes\, Dan Brenton explores a variety of mark-making techniques. FREE and open to the public. More info at newtonfreelibrary.net
URL:https://newtonculture.org/event/joint-opening-reception-for-veiled-by-mary-mcsweeney-and-wander-and-wonder-by-dan-brenton/
LOCATION:Newton Free Library\, 330 Homer St\, Newton\, MA\, 02459\, United States
CATEGORIES:Art,Free Event,Visual Arts
ORGANIZER;CN="Newton Free Library":MAILTO:admin@newtonfreelibrary.net
END:VEVENT
BEGIN:VEVENT
DTSTART;TZID=UTC:20191205T180000
DTEND;TZID=UTC:20191205T200000
DTSTAMP:20260425T083310
CREATED:20191121T225815Z
LAST-MODIFIED:20200210T170450Z
UID:10015890-1575568800-1575576000@newtonculture.org
SUMMARY:First Church Chestnut Hill: Second Annual Messiah Sing & Open House
DESCRIPTION:Join First Church in Chestnut Hill for its Second Annual Messiah Sing and Open House\, featuring the First Church Quartet with Kathryn Rosenbach\, piano. Enjoy coffee\, cookies\, and singing! Holiday open house begins before the concert at 6:00 p.m.; concert starts at 7:00 p.m. FREE and open to the public. Seating is limited. More info at https://firstchurchchestnuthill.org/.
URL:https://newtonculture.org/event/second-annual-messiah-sing-and-open-house-2/
LOCATION:MA
CATEGORIES:Free Event,Music,Performing Arts
END:VEVENT
BEGIN:VEVENT
DTSTART;TZID=UTC:20191201T103000
DTEND;TZID=UTC:20191201T150000
DTSTAMP:20260425T083310
CREATED:20191121T222247Z
LAST-MODIFIED:20200210T170805Z
UID:10015887-1575196200-1575212400@newtonculture.org
SUMMARY:Historic Newton: Meet the Makers and Museum Store Sunday
DESCRIPTION:Get a head start on your holiday shopping and support arts and culture in Newton at both of Historic Newton’s museums! Meet Newton artists and authors\, purchase work directly from them\, and enjoy a 20% discount on merchandise at the museum shops. At the Durant-Kenrick House from 10:30 a.m. to noon\, join us for “Art\, Spirituality and The Power of Creativity\,” an inclusive discussion with Newton artists and authors about the spiritual tones that often guide their creativity\, presented with NewCity Church. Free museum admission included. More info at historicnewton.org At the Jackson Homestead and Museum: \n\nArtists Cathy Cahill\, Wendy Lewis\, Krysten Morganti\, Barkley Shafer\, and Anneloes Van Beek\, display and sell their work from 10:30 a.m. to 3:00 p.m.\nAuthors Ken Bresler\, Lorenz J. Finison\, Marianne Leone\, Robin Stein and Hanni Myers\, visit from 1:00 to 3:00 p.m.\n\nAt the Durant-Kenrick House and Grounds: \n\nJoin us for “Art\, Spirituality and The Power of Creativity\,” a free discussion with Newton artists and authors about the spiritual tones that often guide their creativity. How do they combine personal expression with making a larger cultural statement in their work? What themes and values do they hope to communicate? Historic Newton partners with NewCity Church to host and moderate this inclusive conversation with Marian Dioguardi\, Grey Held\, Sandy Renna\, and Clara Silverstein from 10:30 a.m. to noon.\n\n\nFrom 1:00 to 3:00 p.m. participants in the panel discussion (artist Marian Dioguardi\, artist and author Grey Held\, wood crafter Sandy Renna\, and author Clara Silverstein) display and sell their work. Authors Cheryl Pappas\, Helen Waters\, and Mia Wenjen also sign and sell their books. Goods from MADE NEW Cafe + Shoppe carrying merchandise from Eurasia Coffee and Tea and CAUSEGEAR\, MADE FREE\, and Trades of Hope brands are also for sale.\n\nClick This Link for Biographies of our Participants!\nArtists (see below photo for authors)\nCathy Cahill\, mixed media and assemblage Marian Dioguardi\, painting\, tiles Grey Held\, illuminated poetry Wendy Lewis\, sculptures made from recycled watercolor paintings Krysten Morganti\, textiles Sandy Renna\, woodturning Barkley Shafer\, fleece-lined mittens made from recycled wool Anneloes Van Beek\, jewelry  NewCity Church\, MadeNew merchandise from Causegear\, Made Free\, and Trades of Hope  Authors Ken Bresler Lorenz J. Finison Marianne Leone Cheryl Pappas Clara Silverstein Robin Stein [with Hanni Myers] Helen Waters Mia Wenjen
URL:https://newtonculture.org/event/meet-the-makers-and-museum-store-sunday-2/
LOCATION:MA
CATEGORIES:Art,Community Event,Culture and Education,Family Friendly,Free Event
END:VEVENT
END:VCALENDAR