BEGIN:VCALENDAR
VERSION:2.0
PRODID:-//Newton Cultural Alliance - ECPv6.13.2.1//NONSGML v1.0//EN
CALSCALE:GREGORIAN
METHOD:PUBLISH
X-WR-CALNAME:Newton Cultural Alliance
X-ORIGINAL-URL:https://newtonculture.org
X-WR-CALDESC:Events for Newton Cultural Alliance
REFRESH-INTERVAL;VALUE=DURATION:PT1H
X-Robots-Tag:noindex
X-PUBLISHED-TTL:PT1H
BEGIN:VTIMEZONE
TZID:America/New_York
BEGIN:DAYLIGHT
TZOFFSETFROM:-0500
TZOFFSETTO:-0400
TZNAME:EDT
DTSTART:20260308T070000
END:DAYLIGHT
BEGIN:STANDARD
TZOFFSETFROM:-0400
TZOFFSETTO:-0500
TZNAME:EST
DTSTART:20261101T060000
END:STANDARD
END:VTIMEZONE
BEGIN:VEVENT
DTSTART;TZID=America/New_York:20260514T183000
DTEND;TZID=America/New_York:20260514T200000
DTSTAMP:20260423T061544
CREATED:20260422T153112Z
LAST-MODIFIED:20260422T153112Z
UID:10023672-1778783400-1778788800@newtonculture.org
SUMMARY:The Allen Center Presents Brush & Lens: Artist Talk with Peter Vanderwarker and Sam Belisle
DESCRIPTION:Join us for a compelling lecture demonstration on the dynamic interplay between painting and photography— and go behind the scenes with two of Newton’s most celebrated artists\, Peter Vanderwarker and Sam Belisle\, for a rare glimpse into their creative processes. All attendees will be entered to win one of two signed Peter Vanderwarker prints. Admission is free\, but registration is required. \nClick here to register. \n 
URL:https://newtonculture.org/event/the-allen-center-presents-brush-lens/
LOCATION:The Allen Center\, 35 Webster St\, WEST NEWTON\, MA\, 02465\, United States
CATEGORIES:Art,At the Allen Center,Community Event,Culture and Education,Free Event,Visual Arts
ATTACH;FMTTYPE=image/png:https://newtonculture.org/wp-content/uploads/2026/04/peter-sam-talk.png
ORGANIZER;CN="Newton Cultural Alliance":MAILTO:contact@newtonculture.org
END:VEVENT
BEGIN:VEVENT
DTSTART;TZID=America/New_York:20260530T090000
DTEND;TZID=America/New_York:20260530T120000
DTSTAMP:20260423T061544
CREATED:20260416T151930Z
LAST-MODIFIED:20260416T151930Z
UID:10023606-1780131600-1780142400@newtonculture.org
SUMMARY:The Carroll Center for the Blind presents 14th Annual Walk for Independence!
DESCRIPTION:Join Us for the 14th Annual Walk for Independence! \nThe 14th Annual Walk for Independence is happening Saturday\, May 30\, from 9:00 a.m. to 12:00 p.m. at the Mount Ida Campus of UMass Amherst (100 Carlson Avenue\, Newton\, MA)! \nThis free event invites you to walk to raise funds for vision loss and celebrate our community coming together to improve the lives of people with vision loss. Attendees will complete a 1\, 2\, or 3-mile walk around the Mount Ida campus\, followed by activities for all ages! \nEvent Timeline:\n– Registration: 9:00 a.m.\n– Walk Kick-Off: 10:00 a.m.\n– Post-Walk BBQ & Activities: 11:00 a.m. – 12:00 p.m. \nEvent Highlights:\n– Free BBQ & Popcorn\n– Accessible Activities\n– Assistive Technology Demonstrations\n– Event Emcee: Sam Seavey\, founder of The Blind Life\n– And more! \nLearn More & Register Today: carroll.org/walk
URL:https://newtonculture.org/event/the-carroll-center-for-the-blind-presents-14th-annual-walk-for-independence/
LOCATION:Mount Ida Campus of UMass Amherst\, 100 Carlson Ave\, Newton\, M\, 02459\, United States
CATEGORIES:Community Event,Family Friendly,Free Event
ATTACH;FMTTYPE=image/jpeg:https://newtonculture.org/wp-content/uploads/2026/02/2026-Walk-Flyer.jpg
ORGANIZER;CN="The Carroll Center for the Blind":MAILTO:development@carroll.org
END:VEVENT
END:VCALENDAR