BEGIN:VCALENDAR
VERSION:2.0
PRODID:-//Newton Cultural Alliance - ECPv6.13.2.1//NONSGML v1.0//EN
CALSCALE:GREGORIAN
METHOD:PUBLISH
X-WR-CALNAME:Newton Cultural Alliance
X-ORIGINAL-URL:https://newtonculture.org
X-WR-CALDESC:Events for Newton Cultural Alliance
REFRESH-INTERVAL;VALUE=DURATION:PT1H
X-Robots-Tag:noindex
X-PUBLISHED-TTL:PT1H
BEGIN:VTIMEZONE
TZID:America/New_York
BEGIN:DAYLIGHT
TZOFFSETFROM:-0500
TZOFFSETTO:-0400
TZNAME:EDT
DTSTART:20210314T070000
END:DAYLIGHT
BEGIN:STANDARD
TZOFFSETFROM:-0400
TZOFFSETTO:-0500
TZNAME:EST
DTSTART:20211107T060000
END:STANDARD
BEGIN:DAYLIGHT
TZOFFSETFROM:-0500
TZOFFSETTO:-0400
TZNAME:EDT
DTSTART:20220313T070000
END:DAYLIGHT
BEGIN:STANDARD
TZOFFSETFROM:-0400
TZOFFSETTO:-0500
TZNAME:EST
DTSTART:20221106T060000
END:STANDARD
BEGIN:DAYLIGHT
TZOFFSETFROM:-0500
TZOFFSETTO:-0400
TZNAME:EDT
DTSTART:20230312T070000
END:DAYLIGHT
BEGIN:STANDARD
TZOFFSETFROM:-0400
TZOFFSETTO:-0500
TZNAME:EST
DTSTART:20231105T060000
END:STANDARD
BEGIN:DAYLIGHT
TZOFFSETFROM:-0500
TZOFFSETTO:-0400
TZNAME:EDT
DTSTART:20240310T070000
END:DAYLIGHT
BEGIN:STANDARD
TZOFFSETFROM:-0400
TZOFFSETTO:-0500
TZNAME:EST
DTSTART:20241103T060000
END:STANDARD
END:VTIMEZONE
BEGIN:VEVENT
DTSTART;TZID=America/New_York:20240608T183000
DTEND;TZID=America/New_York:20240608T213000
DTSTAMP:20260419T091400
CREATED:20240304T144435Z
LAST-MODIFIED:20240510T153047Z
UID:10021632-1717871400-1717882200@newtonculture.org
SUMMARY:NCA presents The Strawberry Festival
DESCRIPTION:Save the date!\nNCA’s annual Strawberry Festival returns in June!  As a lover of programming and good-time gathering at The Allen Center you’re invited!  This NCA fun-filled social event of the year\, rich with camaraderie\, live performances\, fine food & drink\, a chance to support the NCA\, and most importantly\, mouth-watering strawberries is not to be missed!\nCheck out The Strawberry Festival website for more information.
URL:https://newtonculture.org/event/the-strawberry-festival/
LOCATION:The Allen Center\, 35 Webster St\, WEST NEWTON\, MA\, 02465\, United States
CATEGORIES:At the Allen Center,Music,NCA Event,Performing Arts
ATTACH;FMTTYPE=image/jpeg:https://newtonculture.org/wp-content/uploads/2024/03/2024-SF-STD_800-x-400_2-scaled.jpg
ORGANIZER;CN="Newton Cultural Alliance":MAILTO:contact@newtonculture.org
END:VEVENT
BEGIN:VEVENT
DTSTART;TZID=America/New_York:20230928T190000
DTEND;TZID=America/New_York:20230928T210000
DTSTAMP:20260419T091400
CREATED:20230908T172409Z
LAST-MODIFIED:20230908T172409Z
UID:10019789-1695927600-1695934800@newtonculture.org
SUMMARY:Memorial Concert for Leslie Parnas
DESCRIPTION:Dear Friends\, \nWe cordially invite you to celebrate and remember our dad\, the world-renowned cellist\, Leslie Parnas. \nPlease join us for an evening of music\, stories and a short video celebrating the life and career of Leslie on September 28 in Boston\, where he lived and taught for 50 years\, or on September 30\, in New York City\, where so many musical connections and life-long friendships were made. \nCicely Parnas\, Leslie’s granddaughter\, will honor the evening by playing Leslie’s cello in a recital deeply connected to his musical legacy. We are thrilled that Cicely will be joined by the celebrated pianist\, Arsentiy Kharitonov. Leslie played his cello every day since 1956\, and now it has been beautifully restored and still resonates with Leslie’s voice and unique sound. \nWe would be honored by your presence at either or both of these events: \n\n\n\nThursday\, September 28\, 2023\, at 7:00 pm\, The Allen Center\, 35 Webster St.\, Newton MA\nSaturday\, September 30\, 2023\, at 4:00 pm\, Rose Studio at CMS (Lincoln Center)\,165 W. 65th St.\, (10th floor)\, New York\, NY\n\n\n\nFamily\, significant others\, friends\, all are welcome! \nGratefully\, \nMarcel and JP Parnas
URL:https://newtonculture.org/event/memorial-concert-for-leslie-parnas/
LOCATION:The Allen Center\, 35 Webster St\, WEST NEWTON\, MA\, 02465\, United States
CATEGORIES:Music,NCA Event
ATTACH;FMTTYPE=image/png:https://newtonculture.org/wp-content/uploads/2023/09/Untitled-design-2023-09-08T132015.413.png
END:VEVENT
BEGIN:VEVENT
DTSTART;TZID=America/New_York:20230619T160000
DTEND;TZID=America/New_York:20230619T173000
DTSTAMP:20260419T091400
CREATED:20230614T152903Z
LAST-MODIFIED:20230614T152903Z
UID:10019649-1687190400-1687195800@newtonculture.org
SUMMARY:The Allen Center presents Forever Free
DESCRIPTION:Forever Free\nMonday\, June 19\, 4:00 pm \nThe Allen Center presents Cherry Street Players led by Artist in Residence Allison Yoshie Eldredge in a program commemorating Juneteenth featuring works of Duke Ellington\, Aretha Franklin\, Scott Joplin\, and W. Grant Still. This hybrid program of live and recorded performances\, in the progressive spirit of Nathaniel Allen\, recognizes legendary Black Jazz Musicians and their influence on all genres of music and more. If you missed seeing the great Duke Ellington or Art Tatum during their lifetimes – now is your chance to see and hear digitally recorded Spirio performances of their legendary work.
URL:https://newtonculture.org/event/the-allen-center-presents-forever-free/
LOCATION:The Allen Center\, 35 Webster St\, WEST NEWTON\, MA\, 02465\, United States
CATEGORIES:At the Allen Center,Music,NCA Event
ATTACH;FMTTYPE=image/png:https://newtonculture.org/wp-content/uploads/2023/06/forever-free.png
END:VEVENT
BEGIN:VEVENT
DTSTART;TZID=America/New_York:20230129T150000
DTEND;TZID=America/New_York:20230129T170000
DTSTAMP:20260419T091400
CREATED:20230118T165913Z
LAST-MODIFIED:20230118T165913Z
UID:10020772-1675004400-1675011600@newtonculture.org
SUMMARY:Dreamscapes at The Allen Center
DESCRIPTION:Come hear the latest performance of the Cherry Street Players! Cellist Allison Eldredge and pianist Max Levinson will feature a program of dreamy music by Rachmaninoff\, Oscar Peterson\, Ravel\, Chopin\, and Brahms! \nThe concert will consist of a prelude at 3PM\, followed by a break for refreshments and conversation before the rest of the program at 4. \nTickets can be bought online here: https://www.zeffy.com/en-US/ticketing/52b5f2b7-cfe8-4c23-bee9-40c08084c221
URL:https://newtonculture.org/event/dreamscapes-at-the-allen-center/
LOCATION:The Allen Center\, 35 Webster St\, WEST NEWTON\, MA\, 02465\, United States
CATEGORIES:NCA Event
ATTACH;FMTTYPE=image/png:https://newtonculture.org/wp-content/uploads/2023/01/dreamscapes.png
ORGANIZER;CN="Newton Cultural Alliance":MAILTO:contact@newtonculture.org
END:VEVENT
BEGIN:VEVENT
DTSTART;TZID=America/New_York:20210626T110000
DTEND;TZID=America/New_York:20210626T170000
DTSTAMP:20260419T091400
CREATED:20210611T175001Z
LAST-MODIFIED:20210611T175337Z
UID:10019711-1624705200-1624726800@newtonculture.org
SUMMARY:Newton Open Studios
DESCRIPTION:Newton Open Studios is back with 75 Newton artists and artisans for an all-outdoor event this year. Newton Open Studios 2021 will have locations throughout the city with artists displaying their works for sale from 11:00 a.m. to 5:00 p.m. on Saturday\, June 26th\, Rain date\, June 27th.  Artist registration is still open to participate through June 18th by signing up here.  Come explore\, browse and buy at as many artist sites as you like.  Set your own tour map by visiting the Newton Open Studios website which allows you to save a “favorites list” on your own device.  Map out your route to Newton Open Studios here.
URL:https://newtonculture.org/event/newton-open-studios/
LOCATION:MA
CATEGORIES:Art,Family Friendly,Free Event,NCA Event,Visual Arts
ATTACH;FMTTYPE=image/jpeg:https://newtonculture.org/wp-content/uploads/2021/06/196486126_4141391172571361_7227640292349811773_n-1-e1624459336114.jpeg
ORGANIZER;CN="Newton Open Studios":MAILTO:info@newtonopenstudios.org
END:VEVENT
END:VCALENDAR