BEGIN:VCALENDAR
VERSION:2.0
PRODID:-//Newton Cultural Alliance - ECPv6.13.2.1//NONSGML v1.0//EN
CALSCALE:GREGORIAN
METHOD:PUBLISH
X-ORIGINAL-URL:https://newtonculture.org
X-WR-CALDESC:Events for Newton Cultural Alliance
REFRESH-INTERVAL;VALUE=DURATION:PT1H
X-Robots-Tag:noindex
X-PUBLISHED-TTL:PT1H
BEGIN:VTIMEZONE
TZID:America/New_York
BEGIN:DAYLIGHT
TZOFFSETFROM:-0500
TZOFFSETTO:-0400
TZNAME:EDT
DTSTART:20220313T070000
END:DAYLIGHT
BEGIN:STANDARD
TZOFFSETFROM:-0400
TZOFFSETTO:-0500
TZNAME:EST
DTSTART:20221106T060000
END:STANDARD
END:VTIMEZONE
BEGIN:VEVENT
DTSTART;TZID=America/New_York:20221112T200000
DTEND;TZID=America/New_York:20221112T213000
DTSTAMP:20260421T081556
CREATED:20221010T143604Z
LAST-MODIFIED:20221010T143604Z
UID:10020735-1668283200-1668288600@newtonculture.org
SUMMARY:Renaissance Portraits
DESCRIPTION:Join Cappella Clausura for the opening of its 2022-2023 season! This November\, expand your understanding of music and visual arts from the Renaissance. With reimagined classical portraits by Fran Forman presented alongside Baroque music by women\, this program will transport you to a world of rich innovation and inclusivity. Featuring music by Barbara Strozzi\, Madalena Casulana\, Vittoria/ Raffaella Aleotti\, and Francesca Caccini. \nRenaissance Portraits\nNovember 12th at 8 PM: War Memorial Auditorium\, Newton\nNovember 13th at 4 PM: Emmanuel Church\, Boston \nTickets available here: https://www.clausura.org/tickets
URL:https://newtonculture.org/event/renaissance-portraits/2022-11-12/
LOCATION:War Memorial Auditorium\, 1000 Commonwealth Avenue\, Newton\, 02459\, United States
CATEGORIES:Art,Music,Performing Arts,Visual Arts
ATTACH;FMTTYPE=image/png:https://newtonculture.org/wp-content/uploads/2022/10/RP-NCA.png
ORGANIZER;CN="Cappella Clausura":MAILTO:manager@clausura.org
END:VEVENT
BEGIN:VEVENT
DTSTART;TZID=America/New_York:20221113T160000
DTEND;TZID=America/New_York:20221113T173000
DTSTAMP:20260421T081556
CREATED:20221010T143604Z
LAST-MODIFIED:20221010T143604Z
UID:10020736-1668355200-1668360600@newtonculture.org
SUMMARY:Renaissance Portraits
DESCRIPTION:Join Cappella Clausura for the opening of its 2022-2023 season! This November\, expand your understanding of music and visual arts from the Renaissance. With reimagined classical portraits by Fran Forman presented alongside Baroque music by women\, this program will transport you to a world of rich innovation and inclusivity. Featuring music by Barbara Strozzi\, Madalena Casulana\, Vittoria/ Raffaella Aleotti\, and Francesca Caccini. \nRenaissance Portraits\nNovember 12th at 8 PM: War Memorial Auditorium\, Newton\nNovember 13th at 4 PM: Emmanuel Church\, Boston \nTickets available here: https://www.clausura.org/tickets
URL:https://newtonculture.org/event/renaissance-portraits/2022-11-13/
LOCATION:War Memorial Auditorium\, 1000 Commonwealth Avenue\, Newton\, 02459\, United States
CATEGORIES:Art,Music,Performing Arts,Visual Arts
ATTACH;FMTTYPE=image/png:https://newtonculture.org/wp-content/uploads/2022/10/RP-NCA.png
ORGANIZER;CN="Cappella Clausura":MAILTO:manager@clausura.org
END:VEVENT
BEGIN:VEVENT
DTSTART;TZID=America/New_York:20221119T183000
DTEND;TZID=America/New_York:20221119T193000
DTSTAMP:20260421T081556
CREATED:20221107T191448Z
LAST-MODIFIED:20221107T191448Z
UID:10020752-1668882600-1668886200@newtonculture.org
SUMMARY:Faculty Concert\, Suzuki School of Newton
DESCRIPTION:Faculty members of the Suzuki School of Newton will perform chamber music by Clara Schumann\, Kenji Bunch\, Chen Gang\, Manuel de Falla and others\, in a concert benefitting the school’s scholarship fund. In-person tickets are available in advance at suzukinewton.org/events. There will also be a Livestream via our Facebook page.
URL:https://newtonculture.org/event/faculty-concert-suzuki-school-of-newton/
LOCATION:Newton Presbyterian Church\, 75 Vernon St.\, Newton\, MA\, United States
CATEGORIES:Culture and Education,Music,Performing Arts
ATTACH;FMTTYPE=image/jpeg:https://newtonculture.org/wp-content/uploads/2022/11/0-5-1.jpg
ORGANIZER;CN="Suzuki School of Newton":MAILTO:email@suzukinewton.org
END:VEVENT
END:VCALENDAR