BEGIN:VCALENDAR
VERSION:2.0
PRODID:-//Newton Cultural Alliance - ECPv6.13.2.1//NONSGML v1.0//EN
CALSCALE:GREGORIAN
METHOD:PUBLISH
X-WR-CALNAME:Newton Cultural Alliance
X-ORIGINAL-URL:https://newtonculture.org
X-WR-CALDESC:Events for Newton Cultural Alliance
REFRESH-INTERVAL;VALUE=DURATION:PT1H
X-Robots-Tag:noindex
X-PUBLISHED-TTL:PT1H
BEGIN:VTIMEZONE
TZID:America/New_York
BEGIN:DAYLIGHT
TZOFFSETFROM:-0500
TZOFFSETTO:-0400
TZNAME:EDT
DTSTART:20230312T070000
END:DAYLIGHT
BEGIN:STANDARD
TZOFFSETFROM:-0400
TZOFFSETTO:-0500
TZNAME:EST
DTSTART:20231105T060000
END:STANDARD
END:VTIMEZONE
BEGIN:VEVENT
DTSTART;TZID=America/New_York:20230121T200000
DTEND;TZID=America/New_York:20230121T213000
DTSTAMP:20260421T052055
CREATED:20230104T200746Z
LAST-MODIFIED:20230113T185918Z
UID:10020762-1674331200-1674336600@newtonculture.org
SUMMARY:Cappella Clausura presents Singers' Choice
DESCRIPTION:This January\, Cappella Clausura is proud to bring you more beautiful music– selected by the people who know it best! Singers’ Choice features a diverse assortment of works by women\, ranging from Renaissance hymnals to contemporary compositions. Guest Conducted by Dr. Carolina Flores\, this eclectic program is sure to banish all your winter woes! \nSingers’ Choice\nJanuary 21st at 8 PM | The War Memorial Auditorium at Newton City Hall\nJanuary 22nd at 4 PM | Emmanuel Church in Boston\nTickets are available here: https://www.clausura.org/tickets
URL:https://newtonculture.org/event/singers-choice/
LOCATION:War Memorial Auditorium\, 1000 Commonwealth Avenue\, Newton\, 02459\, United States
CATEGORIES:Music,Performing Arts
ATTACH;FMTTYPE=image/png:https://newtonculture.org/wp-content/uploads/2023/01/Singers-Choice-NCA.png
ORGANIZER;CN="Cappella Clausura":MAILTO:manager@clausura.org
END:VEVENT
BEGIN:VEVENT
DTSTART;TZID=America/New_York:20230122T120000
DTEND;TZID=America/New_York:20230122T150000
DTSTAMP:20260421T052055
CREATED:20230106T203423Z
LAST-MODIFIED:20230113T160602Z
UID:10020764-1674388800-1674399600@newtonculture.org
SUMMARY:New Art Center presents Lunar New Year Celebration
DESCRIPTION:Join us at the New Art Center for our Lunar New Year Community Cultural Day in collaboration with the Korean Cultural Society of Boston. \nIt’s the year of the rabbit! The sign of the Rabbit is a symbol of longevity\, peace\, and prosperity. \nArt educators will lead participants through make-and-take activities: Hapjukseon (paper fans)\, rabbit origami\, air dry clay rabbits\, and Korean calligraphy bookmarks. \nHanna Lee\, a traditional Korean dancer\, performs at 12:15 pm. Kyungsun Kim\, a gayageum player\, performs at 1:30 pm. \nThe event is free and open to the public. The event is from 12 to 3 PM on January 22\, 2023\, at the New Art Center\, 61 Washington Park\, Newton\, MA 02460. Doors open 15 minutes beforehand.
URL:https://newtonculture.org/event/lunar-new-year-celebration/
LOCATION:New Art Center\, 61 Washington Park\, Newton\, MA\, 02460\, United States
CATEGORIES:Community Event,Culture and Education,Family Friendly,Festival,Performing Arts,Visual Arts
ATTACH;FMTTYPE=image/jpeg:https://newtonculture.org/wp-content/uploads/2023/01/EventbriteFB-Header.jpg
ORGANIZER;CN="New Art Center":MAILTO:info@newartcenter.org
END:VEVENT
BEGIN:VEVENT
DTSTART;TZID=America/New_York:20230129T150000
DTEND;TZID=America/New_York:20230129T170000
DTSTAMP:20260421T052055
CREATED:20230109T153603Z
LAST-MODIFIED:20230110T194610Z
UID:10020767-1675004400-1675011600@newtonculture.org
SUMMARY:Cherry Street Players: "Classical with a Twist - Dreamscapes"
DESCRIPTION:Come hear the latest performance of the Cherry Street Players! Cellist Allison Eldredge and pianist Max Levinson will feature a program of dreamy music by Rachmaninoff\, Oscar Peterson\, Ravel\, Chopin\, and Brahms! \nThe concert will consist of a prelude at 3PM\, followed by a break for refreshments and conversation before the rest of the program at 4.  \nTickets can be bought online here: https://www.zeffy.com/en-US/ticketing/52b5f2b7-cfe8-4c23-bee9-40c08084c221 \n  \nVenue information: \nThe Allen Center \n35 Webster Street \nNewton\, MA 02465
URL:https://newtonculture.org/event/the-newton-cultural-alliance-presents-dreamscapes/
LOCATION:The Allen Center\, 35 Webster St\, WEST NEWTON\, MA\, 02465\, United States
CATEGORIES:At the Allen Center,Music,Performing Arts
ATTACH;FMTTYPE=image/png:https://newtonculture.org/wp-content/uploads/2023/01/dreamscapes.png
ORGANIZER;CN="Newton Cultural Alliance":MAILTO:contact@newtonculture.org
END:VEVENT
END:VCALENDAR