BEGIN:VCALENDAR
VERSION:2.0
PRODID:-//Newton Cultural Alliance - ECPv6.13.2.1//NONSGML v1.0//EN
CALSCALE:GREGORIAN
METHOD:PUBLISH
X-ORIGINAL-URL:https://newtonculture.org
X-WR-CALDESC:Events for Newton Cultural Alliance
REFRESH-INTERVAL;VALUE=DURATION:PT1H
X-Robots-Tag:noindex
X-PUBLISHED-TTL:PT1H
BEGIN:VTIMEZONE
TZID:America/New_York
BEGIN:DAYLIGHT
TZOFFSETFROM:-0500
TZOFFSETTO:-0400
TZNAME:EDT
DTSTART:20230312T070000
END:DAYLIGHT
BEGIN:STANDARD
TZOFFSETFROM:-0400
TZOFFSETTO:-0500
TZNAME:EST
DTSTART:20231105T060000
END:STANDARD
END:VTIMEZONE
BEGIN:VEVENT
DTSTART;TZID=America/New_York:20231024T193000
DTEND;TZID=America/New_York:20231024T213000
DTSTAMP:20260420T153508
CREATED:20231101T153619Z
LAST-MODIFIED:20231101T153619Z
UID:10019802-1698175800-1698183000@newtonculture.org
SUMMARY:Boston Ballet Presents Mikko Nissinen's The Nutcracker
DESCRIPTION:Mikko Nissinen’s The Nutcracker returns to the stage with beloved characters\, glittering sets\, and dancing that will lift your spirits. Enjoy Tchaikovsky’s timeless score performed by the Boston Ballet Orchestra and a celebration of true classical ballet performed by Boston Ballet’s globally acclaimed company dancers. \nThe Nutcracker opens November 24 with performances through December 31 at the Citizens Bank Opera House. \nTickets start at $25. Visit bostonballet.org for more information or call the box office at 617.695.6955 (M-F 10 a.m. – 4 p.m.)
URL:https://newtonculture.org/event/boston-ballet-presents-mikko-nissinens-the-nutcracker/
LOCATION:Citizens Bank Opera House\, 539 Washington St\, Boston\, MA\, 02111\, United States
CATEGORIES:Performing Arts
ATTACH;FMTTYPE=image/jpeg:https://newtonculture.org/wp-content/uploads/2023/10/i-9ZgshgF-X3.jpg
ORGANIZER;CN="Boston Ballet":MAILTO:hrosenthal@bostonballet.org
END:VEVENT
BEGIN:VEVENT
DTSTART;TZID=America/New_York:20231029T120000
DTEND;TZID=America/New_York:20231029T160000
DTSTAMP:20260420T153508
CREATED:20231018T165228Z
LAST-MODIFIED:20231019T140647Z
UID:10020932-1698580800-1698595200@newtonculture.org
SUMMARY:New Art Center presents Día de los Muertos Celebration
DESCRIPTION:Join New Art Center\, guest artists\, and performers as we celebrate the Mexican holiday of Día de los Muertos! We will be remembering and celebrating the lives of loved ones who have left us through music\, dance\, and art-making. \nThe celebration will be from 12pm-4pm. Performance by Los Sugar Kings. Featuring Guest Artists Cristóbal Sánchez and Lennon Hernandez Wolcott. This event is free and open to the public.
URL:https://newtonculture.org/event/dia-de-muertos-celebration/
LOCATION:New Art Center\, 61 Washington Park\, Newton\, MA\, 02460\, United States
CATEGORIES:Art,Community Event,Culture and Education,Family Friendly,Free Event,Music,Performing Arts,Visual Arts
ATTACH;FMTTYPE=image/png:https://newtonculture.org/wp-content/uploads/2023/10/draft-dia-de-los-muertos-poster.png
ORGANIZER;CN="New Art Center":MAILTO:info@newartcenter.org
END:VEVENT
END:VCALENDAR