BEGIN:VCALENDAR
VERSION:2.0
PRODID:-//Newton Cultural Alliance - ECPv6.13.2.1//NONSGML v1.0//EN
CALSCALE:GREGORIAN
METHOD:PUBLISH
X-ORIGINAL-URL:https://newtonculture.org
X-WR-CALDESC:Events for Newton Cultural Alliance
REFRESH-INTERVAL;VALUE=DURATION:PT1H
X-Robots-Tag:noindex
X-PUBLISHED-TTL:PT1H
BEGIN:VTIMEZONE
TZID:America/New_York
BEGIN:DAYLIGHT
TZOFFSETFROM:-0500
TZOFFSETTO:-0400
TZNAME:EDT
DTSTART:20250309T070000
END:DAYLIGHT
BEGIN:STANDARD
TZOFFSETFROM:-0400
TZOFFSETTO:-0500
TZNAME:EST
DTSTART:20251102T060000
END:STANDARD
END:VTIMEZONE
BEGIN:VEVENT
DTSTART;TZID=America/New_York:20250201T140000
DTEND;TZID=America/New_York:20250201T160000
DTSTAMP:20260419T152517
CREATED:20250110T143224Z
LAST-MODIFIED:20250110T191703Z
UID:10022785-1738418400-1738425600@newtonculture.org
SUMMARY:Newton Theatre Company Presents: DRACULA
DESCRIPTION:Step into the shadows and prepare for a thrilling twist on the classic gothic tale with NTC’s production of Dracula\, featuring Linda Goetz in the starring role. This reinterpretation breathes new life into Bram Stoker’s timeless story of Count Dracula and his insatiable need for human blood. Blending sensuality\, darkness and humor\, Dracula explores themes of desire and dominance through unconventional casting and intimate staging. Join us for an unforgettable evening where legend meets innovation\, and experience Dracula like never before. \nWe are doing three weekends of Dracula! \nTickets: \nFriday\, January 24th at 8pm\nSaturday\, January 25th at 2pm\nSaturday\, January 25th at 8pm\nand\nFriday\, January 31st at 8pm\nSaturday\, February 1st at 2pm\nSaturday\, February 1st at 8pm\nand\nFriday\, February 7th at 8pm\nSaturday\, February 8th at 2pm\nSaturday\, February 8th at 8pm
URL:https://newtonculture.org/event/newton-theatre-company-presents-dracula/2025-02-01/2/
LOCATION:Saint John’s Episcopal Church\, 96 Otis Street\, Newton\, MA\, 02460\, United States
CATEGORIES:Art,Performing Arts,Theater
ATTACH;FMTTYPE=image/jpeg:https://newtonculture.org/wp-content/uploads/2025/01/Dracula-Title-Promo.jpg
ORGANIZER;CN="Newton Theatre Company":MAILTO:info@newtontheatrecompany.com
END:VEVENT
BEGIN:VEVENT
DTSTART;TZID=America/New_York:20250201T200000
DTEND;TZID=America/New_York:20250201T220000
DTSTAMP:20260419T152517
CREATED:20250110T143224Z
LAST-MODIFIED:20250110T191703Z
UID:10022808-1738440000-1738447200@newtonculture.org
SUMMARY:Newton Theatre Company Presents: DRACULA
DESCRIPTION:Step into the shadows and prepare for a thrilling twist on the classic gothic tale with NTC’s production of Dracula\, featuring Linda Goetz in the starring role. This reinterpretation breathes new life into Bram Stoker’s timeless story of Count Dracula and his insatiable need for human blood. Blending sensuality\, darkness and humor\, Dracula explores themes of desire and dominance through unconventional casting and intimate staging. Join us for an unforgettable evening where legend meets innovation\, and experience Dracula like never before. \nWe are doing three weekends of Dracula! \nTickets: \nFriday\, January 24th at 8pm\nSaturday\, January 25th at 2pm\nSaturday\, January 25th at 8pm\nand\nFriday\, January 31st at 8pm\nSaturday\, February 1st at 2pm\nSaturday\, February 1st at 8pm\nand\nFriday\, February 7th at 8pm\nSaturday\, February 8th at 2pm\nSaturday\, February 8th at 8pm
URL:https://newtonculture.org/event/newton-theatre-company-presents-dracula/2025-02-01/3/
LOCATION:Saint John’s Episcopal Church\, 96 Otis Street\, Newton\, MA\, 02460\, United States
CATEGORIES:Art,Performing Arts,Theater
ATTACH;FMTTYPE=image/jpeg:https://newtonculture.org/wp-content/uploads/2025/01/Dracula-Title-Promo.jpg
ORGANIZER;CN="Newton Theatre Company":MAILTO:info@newtontheatrecompany.com
END:VEVENT
BEGIN:VEVENT
DTSTART;TZID=America/New_York:20250202T120000
DTEND;TZID=America/New_York:20250202T160000
DTSTAMP:20260419T152517
CREATED:20250124T155343Z
LAST-MODIFIED:20250124T155804Z
UID:10022825-1738497600-1738512000@newtonculture.org
SUMMARY:Lunar New Year
DESCRIPTION:Join the New Art Center in Newtonville for the fourth annual Lunar New Year event. The event will take place on Sunday\, February 2 from 12:00pm – 4:00pm at 61 Washington Park and is part of New Art’s Cultural Access Program\, a robust Community Outreach program providing free and inclusive art experiences. \nThe Lunar New Year event will feature a series of art-making and performance activities centered on the celebrations associated with Lunar New Year. Lunar New Year is an important time for celebration in the majority of East and Southeast Asian cultures. We welcome the New Year by spending time with family making food\, playing games\, telling stories\, and cleaning our homes! This is a family-friendly event\, free and open to the public. \nThis year is the year of the Blue Snake in the Korean calendar\, or Wood Snake in the Chinese calendar. The Year of the Blue Snake is a year for wisdom\, intuition\, creativity\, and personal growth! The Snake zodiac symbolizes wisdom and carefulness\, and the Blue element\, or Wood\, is associated with movement and growth\, as well as cooperation and idealism. This year\, we should encourage ourselves to focus on self-growth and planning long-term goals for the future. Focus on your personal relationships\, and find stability in reflection and mindful practices! \nRen Li Song will present on the art of calligraphy. Performers include the GBCCA Chinese Music Ensemble\, members of the Boston Korean Dance Academy\, and a Global String Band JUL.
URL:https://newtonculture.org/event/lunar-new-year/
LOCATION:New Art Center\, 61 Washington Park\, Newton\, MA\, 02460\, United States
CATEGORIES:Art,Community Event,Culture and Education,Family Friendly,Free Event,Music,Performing Arts,Visual Arts
ATTACH;FMTTYPE=image/png:https://newtonculture.org/wp-content/uploads/2025/01/Lunar-New-Year-9.png
ORGANIZER;CN="New Art Center":MAILTO:info@newartcenter.org
END:VEVENT
BEGIN:VEVENT
DTSTART;TZID=America/New_York:20250207T200000
DTEND;TZID=America/New_York:20250207T220000
DTSTAMP:20260419T152517
CREATED:20250110T143224Z
LAST-MODIFIED:20250110T191703Z
UID:10022809-1738958400-1738965600@newtonculture.org
SUMMARY:Newton Theatre Company Presents: DRACULA
DESCRIPTION:Step into the shadows and prepare for a thrilling twist on the classic gothic tale with NTC’s production of Dracula\, featuring Linda Goetz in the starring role. This reinterpretation breathes new life into Bram Stoker’s timeless story of Count Dracula and his insatiable need for human blood. Blending sensuality\, darkness and humor\, Dracula explores themes of desire and dominance through unconventional casting and intimate staging. Join us for an unforgettable evening where legend meets innovation\, and experience Dracula like never before. \nWe are doing three weekends of Dracula! \nTickets: \nFriday\, January 24th at 8pm\nSaturday\, January 25th at 2pm\nSaturday\, January 25th at 8pm\nand\nFriday\, January 31st at 8pm\nSaturday\, February 1st at 2pm\nSaturday\, February 1st at 8pm\nand\nFriday\, February 7th at 8pm\nSaturday\, February 8th at 2pm\nSaturday\, February 8th at 8pm
URL:https://newtonculture.org/event/newton-theatre-company-presents-dracula/2025-02-07/
LOCATION:Saint John’s Episcopal Church\, 96 Otis Street\, Newton\, MA\, 02460\, United States
CATEGORIES:Art,Performing Arts,Theater
ATTACH;FMTTYPE=image/jpeg:https://newtonculture.org/wp-content/uploads/2025/01/Dracula-Title-Promo.jpg
ORGANIZER;CN="Newton Theatre Company":MAILTO:info@newtontheatrecompany.com
END:VEVENT
BEGIN:VEVENT
DTSTART;TZID=America/New_York:20250208T140000
DTEND;TZID=America/New_York:20250208T160000
DTSTAMP:20260419T152517
CREATED:20250110T143224Z
LAST-MODIFIED:20250110T191703Z
UID:10022788-1739023200-1739030400@newtonculture.org
SUMMARY:Newton Theatre Company Presents: DRACULA
DESCRIPTION:Step into the shadows and prepare for a thrilling twist on the classic gothic tale with NTC’s production of Dracula\, featuring Linda Goetz in the starring role. This reinterpretation breathes new life into Bram Stoker’s timeless story of Count Dracula and his insatiable need for human blood. Blending sensuality\, darkness and humor\, Dracula explores themes of desire and dominance through unconventional casting and intimate staging. Join us for an unforgettable evening where legend meets innovation\, and experience Dracula like never before. \nWe are doing three weekends of Dracula! \nTickets: \nFriday\, January 24th at 8pm\nSaturday\, January 25th at 2pm\nSaturday\, January 25th at 8pm\nand\nFriday\, January 31st at 8pm\nSaturday\, February 1st at 2pm\nSaturday\, February 1st at 8pm\nand\nFriday\, February 7th at 8pm\nSaturday\, February 8th at 2pm\nSaturday\, February 8th at 8pm
URL:https://newtonculture.org/event/newton-theatre-company-presents-dracula/2025-02-08/2/
LOCATION:Saint John’s Episcopal Church\, 96 Otis Street\, Newton\, MA\, 02460\, United States
CATEGORIES:Art,Performing Arts,Theater
ATTACH;FMTTYPE=image/jpeg:https://newtonculture.org/wp-content/uploads/2025/01/Dracula-Title-Promo.jpg
ORGANIZER;CN="Newton Theatre Company":MAILTO:info@newtontheatrecompany.com
END:VEVENT
BEGIN:VEVENT
DTSTART;TZID=America/New_York:20250208T200000
DTEND;TZID=America/New_York:20250208T220000
DTSTAMP:20260419T152517
CREATED:20250110T143224Z
LAST-MODIFIED:20250110T191703Z
UID:10022810-1739044800-1739052000@newtonculture.org
SUMMARY:Newton Theatre Company Presents: DRACULA
DESCRIPTION:Step into the shadows and prepare for a thrilling twist on the classic gothic tale with NTC’s production of Dracula\, featuring Linda Goetz in the starring role. This reinterpretation breathes new life into Bram Stoker’s timeless story of Count Dracula and his insatiable need for human blood. Blending sensuality\, darkness and humor\, Dracula explores themes of desire and dominance through unconventional casting and intimate staging. Join us for an unforgettable evening where legend meets innovation\, and experience Dracula like never before. \nWe are doing three weekends of Dracula! \nTickets: \nFriday\, January 24th at 8pm\nSaturday\, January 25th at 2pm\nSaturday\, January 25th at 8pm\nand\nFriday\, January 31st at 8pm\nSaturday\, February 1st at 2pm\nSaturday\, February 1st at 8pm\nand\nFriday\, February 7th at 8pm\nSaturday\, February 8th at 2pm\nSaturday\, February 8th at 8pm
URL:https://newtonculture.org/event/newton-theatre-company-presents-dracula/2025-02-08/3/
LOCATION:Saint John’s Episcopal Church\, 96 Otis Street\, Newton\, MA\, 02460\, United States
CATEGORIES:Art,Performing Arts,Theater
ATTACH;FMTTYPE=image/jpeg:https://newtonculture.org/wp-content/uploads/2025/01/Dracula-Title-Promo.jpg
ORGANIZER;CN="Newton Theatre Company":MAILTO:info@newtontheatrecompany.com
END:VEVENT
END:VCALENDAR