BEGIN:VCALENDAR
VERSION:2.0
PRODID:-//Newton Cultural Alliance - ECPv6.13.2.1//NONSGML v1.0//EN
CALSCALE:GREGORIAN
METHOD:PUBLISH
X-ORIGINAL-URL:https://newtonculture.org
X-WR-CALDESC:Events for Newton Cultural Alliance
REFRESH-INTERVAL;VALUE=DURATION:PT1H
X-Robots-Tag:noindex
X-PUBLISHED-TTL:PT1H
BEGIN:VTIMEZONE
TZID:America/New_York
BEGIN:DAYLIGHT
TZOFFSETFROM:-0500
TZOFFSETTO:-0400
TZNAME:EDT
DTSTART:20200308T070000
END:DAYLIGHT
BEGIN:STANDARD
TZOFFSETFROM:-0400
TZOFFSETTO:-0500
TZNAME:EST
DTSTART:20201101T060000
END:STANDARD
END:VTIMEZONE
BEGIN:VEVENT
DTSTART;TZID=America/New_York:20200710T090000
DTEND;TZID=America/New_York:20200710T120000
DTSTAMP:20260425T113023
CREATED:20200605T165751Z
LAST-MODIFIED:20200605T165751Z
UID:10018694-1594371600-1594382400@newtonculture.org
SUMMARY:Newton Theatre Kids: Summer Intensive Series
DESCRIPTION:This summer\, Newton Theatre Kids is excited to offer students entering grades 5-8 the opportunity to hone their theatrical abilities in a supportive and engaging virtual environment. There are 2 intensives. Each intensive lasts for one week and focuses on a different genre of theater\, allowing participants to develop meaningful new skills while increasing their confidence and versatility as performers. Using a blend of group work\, individual coaching\, and solo rehearsal\, these intensives maximize participant growth while minimizing Zoom fatigue. All experience levels welcome! \nEach intensive will be held from 9 AM to 12 PM\, Monday through Friday. This three-hour window will include group discussions and activities over Zoom\, individualized coaching over Zoom\, and solo rehearsal time. This mix of approaches allows for an increase in personalized\, individual coaching time and encourages participants to become mindful\, self-motivated artists. \nThe price of each intensive $275. Click here to learn more and register.
URL:https://newtonculture.org/event/newton-theatre-kids-summer-intensive-series/2020-07-10/
LOCATION:Zoom
CATEGORIES:Culture and Education,Family Friendly,Performing Arts
ATTACH;FMTTYPE=image/png:https://newtonculture.org/wp-content/uploads/2019/11/Logos-500px-1.png
ORGANIZER;CN="Newton Theatre Company":MAILTO:info@newtontheatrecompany.com
END:VEVENT
END:VCALENDAR