BEGIN:VCALENDAR
VERSION:2.0
PRODID:-//Newton Cultural Alliance - ECPv6.13.2.1//NONSGML v1.0//EN
CALSCALE:GREGORIAN
METHOD:PUBLISH
X-WR-CALNAME:Newton Cultural Alliance
X-ORIGINAL-URL:https://newtonculture.org
X-WR-CALDESC:Events for Newton Cultural Alliance
REFRESH-INTERVAL;VALUE=DURATION:PT1H
X-Robots-Tag:noindex
X-PUBLISHED-TTL:PT1H
BEGIN:VTIMEZONE
TZID:America/New_York
BEGIN:DAYLIGHT
TZOFFSETFROM:-0500
TZOFFSETTO:-0400
TZNAME:EDT
DTSTART:20200308T070000
END:DAYLIGHT
BEGIN:STANDARD
TZOFFSETFROM:-0400
TZOFFSETTO:-0500
TZNAME:EST
DTSTART:20201101T060000
END:STANDARD
END:VTIMEZONE
BEGIN:VEVENT
DTSTART;TZID=America/New_York:20200723T200000
DTEND;TZID=America/New_York:20200723T210000
DTSTAMP:20260425T113004
CREATED:20200706T164219Z
LAST-MODIFIED:20200721T141846Z
UID:10018824-1595534400-1595538000@newtonculture.org
SUMMARY:NTC's Under Milk Wood: A Zoom Radio Hour Production
DESCRIPTION:Join Newton Theatre Company for the fifth installment of our Zoom Radio Hour Series\, Welsh poet Dylan Thomas’ “Under Milk Wood.” \nIn lyrical and earthy prose\, verse and song\, Thomas stages a midnight pub crawl through a Welsh fishing village\, exposing the dreams and innermost thoughts of its unforgettable inhabitants. \nTickets are $10 and can be purchased here. \nLearn more about Newton Theatre Company’s Zoom Radio Hour Series here.
URL:https://newtonculture.org/event/under-milk-wood-a-zoom-radio-hour-production/
LOCATION:Zoom
CATEGORIES:Performing Arts
ATTACH;FMTTYPE=image/png:https://newtonculture.org/wp-content/uploads/2020/07/5.png
ORGANIZER;CN="Newton Theatre Company":MAILTO:info@newtontheatrecompany.com
END:VEVENT
END:VCALENDAR