BEGIN:VCALENDAR
VERSION:2.0
PRODID:-//Newton Cultural Alliance - ECPv6.13.2.1//NONSGML v1.0//EN
CALSCALE:GREGORIAN
METHOD:PUBLISH
X-WR-CALNAME:Newton Cultural Alliance
X-ORIGINAL-URL:https://newtonculture.org
X-WR-CALDESC:Events for Newton Cultural Alliance
REFRESH-INTERVAL;VALUE=DURATION:PT1H
X-Robots-Tag:noindex
X-PUBLISHED-TTL:PT1H
BEGIN:VTIMEZONE
TZID:America/New_York
BEGIN:DAYLIGHT
TZOFFSETFROM:-0500
TZOFFSETTO:-0400
TZNAME:EDT
DTSTART:20200308T070000
END:DAYLIGHT
BEGIN:STANDARD
TZOFFSETFROM:-0400
TZOFFSETTO:-0500
TZNAME:EST
DTSTART:20201101T060000
END:STANDARD
END:VTIMEZONE
BEGIN:VEVENT
DTSTART;VALUE=DATE:20201126
DTEND;VALUE=DATE:20201127
DTSTAMP:20260425T083238
CREATED:20200918T140042Z
LAST-MODIFIED:20200918T140042Z
UID:10019201-1606348800-1606435199@newtonculture.org
SUMMARY:Boston Ballet presents: Forsythe Elements
DESCRIPTION:From new choreographic voices to narratives you know by heart\, enjoy live dance like you have never seen it before. Dance where you are with Boston Ballet’s first-ever virtual season BB@YourHome; six programs that feature fresh creations\, signature works\, and classical ballet favorites captured live in-studio and streamed directly to you. A digital subscription allows you to enjoy each production with your entire household. With each subscription\, you support our dancers\, fuel new art-making\, and invest in Boston Ballet’s future. Subscribe today\, or click here to learn more about virtual performances. \nForsythe Elements\nNovember 19 – 29 \nJoin choreographic genius William Forsythe for an in-depth look at his incredible work\, past and present. With live-captured excerpts from our studio\, Forsythe personally leads a conversation on dance\, music\, form\, and function with Boston Ballet dancers\, encouraging us all to think physically.
URL:https://newtonculture.org/event/boston-ballet-presents-forsythe-elements/2020-11-26/
LOCATION:ONLINE\, United Kingdom\, E16 2DQ
CATEGORIES:Culture and Education,Performing Arts
ATTACH;FMTTYPE=image/jpeg:https://newtonculture.org/wp-content/uploads/2020/09/perf-large_FY21_BBatyourhome.jpeg
ORGANIZER;CN="Boston Ballet School":MAILTO:school@bostonballet.org
END:VEVENT
BEGIN:VEVENT
DTSTART;TZID=America/New_York:20201126T170000
DTEND;TZID=America/New_York:20201126T174500
DTSTAMP:20260425T083238
CREATED:20200826T195156Z
LAST-MODIFIED:20200826T195156Z
UID:10019085-1606410000-1606412700@newtonculture.org
SUMMARY:All Newton Music School: Broadway Bound Online Class
DESCRIPTION:Actors will spend the Semester creating and exploring imaginative characters\, learning choreography\, and proper singing technique with director\, composer\, and playwright Kelvyn Koning; an experienced musical theatre educator. \nBroadway Bound will allow each actor to sing\, dance\, deliver lines\, and be part of a virtual theatrical ensemble which builds presence and self-confidence. \nCreative and engaging instructor Mr. Kelvyn will work with the young actors ideas to compose original music and scenes for each class as they prepare a virtual world premiere production! \nBefore filming\, the student will be provided with a Broadway Bound “Backstage” Box with all the costume pieces and props needed to film their scenes\, songs\, and choreography with flair! \nClick here for registration. \nAges 5-7 years\nSept. 12 to Jan. 16 – Saturdays: 1:00 – 1:45 pm \nAges 8-10 years\nSept. 10 to Jan. 7  – Thursday: 5:00 – 5:45 pm\nSept. 12 to Jan. 16 – Saturday: 1:45 – 2:30 pm
URL:https://newtonculture.org/event/all-newton-music-school-broadway-bound-online-class/2020-11-26/
LOCATION:ONLINE\, United Kingdom\, E16 2DQ
CATEGORIES:Culture and Education,Family Friendly,Music,Performing Arts
ATTACH;FMTTYPE=image/png:https://newtonculture.org/wp-content/uploads/2020/08/ScreenShot2020-08-11at7.03.56PM.png
END:VEVENT
END:VCALENDAR