BEGIN:VCALENDAR
VERSION:2.0
PRODID:-//Newton Cultural Alliance - ECPv6.13.2.1//NONSGML v1.0//EN
CALSCALE:GREGORIAN
METHOD:PUBLISH
X-WR-CALNAME:Newton Cultural Alliance
X-ORIGINAL-URL:https://newtonculture.org
X-WR-CALDESC:Events for Newton Cultural Alliance
REFRESH-INTERVAL;VALUE=DURATION:PT1H
X-Robots-Tag:noindex
X-PUBLISHED-TTL:PT1H
BEGIN:VTIMEZONE
TZID:America/New_York
BEGIN:DAYLIGHT
TZOFFSETFROM:-0500
TZOFFSETTO:-0400
TZNAME:EDT
DTSTART:20200308T070000
END:DAYLIGHT
BEGIN:STANDARD
TZOFFSETFROM:-0400
TZOFFSETTO:-0500
TZNAME:EST
DTSTART:20201101T060000
END:STANDARD
END:VTIMEZONE
BEGIN:VEVENT
DTSTART;TZID=America/New_York:20201212T130000
DTEND;TZID=America/New_York:20201212T134500
DTSTAMP:20260424T234901
CREATED:20200826T195444Z
LAST-MODIFIED:20200826T195444Z
UID:10019105-1607778000-1607780700@newtonculture.org
SUMMARY:All Newton Music School: Broadway Bound Online Class
DESCRIPTION:Actors will spend the Semester creating and exploring imaginative characters\, learning choreography\, and proper singing technique with director\, composer\, and playwright Kelvyn Koning; an experienced musical theatre educator. \nBroadway Bound will allow each actor to sing\, dance\, deliver lines\, and be part of a virtual theatrical ensemble which builds presence and self-confidence. \nCreative and engaging instructor Mr. Kelvyn will work with the young actors ideas to compose original music and scenes for each class as they prepare a virtual world premiere production! \nBefore filming\, the student will be provided with a Broadway Bound “Backstage” Box with all the costume pieces and props needed to film their scenes\, songs\, and choreography with flair! \nClick here for registration. \nAges 5-7 years\nSept. 12 to Jan. 16 – Saturdays: 1:00 – 1:45 pm \nAges 8-10 years\nSept. 10 to Jan. 7  – Thursday: 5:00 – 5:45 pm\nSept. 12 to Jan. 16 – Saturday: 1:45 – 2:30 pm
URL:https://newtonculture.org/event/all-newton-music-school-broadway-bound-online-class-2/2020-12-12/
LOCATION:ONLINE\, United Kingdom\, E16 2DQ
CATEGORIES:Art,Family Friendly,Music,Performing Arts
ATTACH;FMTTYPE=image/png:https://newtonculture.org/wp-content/uploads/2020/08/ScreenShot2020-08-11at7.03.56PM.png
END:VEVENT
BEGIN:VEVENT
DTSTART;TZID=America/New_York:20201212T134500
DTEND;TZID=America/New_York:20201212T143000
DTSTAMP:20260424T234901
CREATED:20200826T195622Z
LAST-MODIFIED:20201001T153407Z
UID:10019124-1607780700-1607783400@newtonculture.org
SUMMARY:All Newton Music School: Broadway Bound Online Class
DESCRIPTION:Actors will spend the Semester creating and exploring imaginative characters\, learning choreography\, and proper singing technique with director\, composer\, and playwright Kelvyn Koning; an experienced musical theatre educator. \nBroadway Bound will allow each actor to sing\, dance\, deliver lines\, and be part of a virtual theatrical ensemble which builds presence and self-confidence. \nCreative and engaging instructor Mr. Kelvyn will work with the young actors ideas to compose original music and scenes for each class as they prepare a virtual world premiere production! \nBefore filming\, the student will be provided with a Broadway Bound “Backstage” Box with all the costume pieces and props needed to film their scenes\, songs\, and choreography with flair! \nClick here for registration. \nAges 5-7 years\nSept. 12 to Jan. 16 – Saturdays: 1:00 – 1:45 pm \nAges 8-10 years\nSept. 10 to Jan. 7  – Thursday: 5:00 – 5:45 pm\nSept. 12 to Jan. 16 – Saturday: 1:45 – 2:30 pm
URL:https://newtonculture.org/event/all-newton-music-school-broadway-bound-online-class-3/2020-12-12/
LOCATION:ONLINE\, United Kingdom\, E16 2DQ
CATEGORIES:Culture and Education,Family Friendly,Music,Performing Arts
ATTACH;FMTTYPE=image/png:https://newtonculture.org/wp-content/uploads/2020/08/ScreenShot2020-08-11at7.03.56PM.png
END:VEVENT
BEGIN:VEVENT
DTSTART;TZID=America/New_York:20201212T160000
DTEND;TZID=America/New_York:20201212T180000
DTSTAMP:20260424T234901
CREATED:20201208T165411Z
LAST-MODIFIED:20201208T165411Z
UID:10019350-1607788800-1607796000@newtonculture.org
SUMMARY:Suzuki School of Newton Solo Recitals
DESCRIPTION:Join us online for our solo recitals\, where Suzuki students individually play a concert polished pieces of a variety of instruments and ability levels. \nSolo recitals are a chance for students to share their hard work with parents\, friends\, and the community\, and we’d love to have you there. ZOOM information will be shared each week in our Friday Upbeat. \nSee you there!
URL:https://newtonculture.org/event/suzuki-school-of-newton-solo-recitals-3/2020-12-12/
LOCATION:Zoom
CATEGORIES:Music,Performing Arts
ATTACH;FMTTYPE=image/png:https://newtonculture.org/wp-content/uploads/2020/11/Screen-Shot-2020-11-24-at-12.48.11-PM.png
ORGANIZER;CN="Suzuki School of Newton":MAILTO:email@suzukinewton.org
END:VEVENT
END:VCALENDAR