BEGIN:VCALENDAR
VERSION:2.0
PRODID:-//Newton Cultural Alliance - ECPv6.13.2.1//NONSGML v1.0//EN
CALSCALE:GREGORIAN
METHOD:PUBLISH
X-WR-CALNAME:Newton Cultural Alliance
X-ORIGINAL-URL:https://newtonculture.org
X-WR-CALDESC:Events for Newton Cultural Alliance
REFRESH-INTERVAL;VALUE=DURATION:PT1H
X-Robots-Tag:noindex
X-PUBLISHED-TTL:PT1H
BEGIN:VTIMEZONE
TZID:America/New_York
BEGIN:DAYLIGHT
TZOFFSETFROM:-0500
TZOFFSETTO:-0400
TZNAME:EDT
DTSTART:20210314T070000
END:DAYLIGHT
BEGIN:STANDARD
TZOFFSETFROM:-0400
TZOFFSETTO:-0500
TZNAME:EST
DTSTART:20211107T060000
END:STANDARD
END:VTIMEZONE
BEGIN:VEVENT
DTSTART;TZID=America/New_York:20210912T190000
DTEND;TZID=America/New_York:20210912T210000
DTSTAMP:20260422T171052
CREATED:20210802T152818Z
LAST-MODIFIED:20210802T152818Z
UID:10019855-1631473200-1631480400@newtonculture.org
SUMMARY:Zamir Chorale Auditions
DESCRIPTION:Auditions for the Zamir Chorale of Boston’s 2021-22 season will be held Sunday\, Sept. 12\, 2021\, 7:00 to 9:00 p.m. \, at Temple Reyim\, 1860 Washington St.\, Auburndale (Newton). \nAuditions are by appointment only and must be scheduled in advance by emailing manager@zamir.org. \nCandidates should have excellent vocal quality\, the ability to sight-read music\, and previous choral experience. In addition to the audition\, candidates are required to attend open rehearsals from 7:15 to 10:00 p.m. on Tuesday\, September 14\, and Tuesday\, October 5\, at Temple Reyim. Rehearsals throughout the year are generally held on Tuesdays at Temple Reyim\, from 7:15 to 10:00 p.m.\, from September through early June.
URL:https://newtonculture.org/event/zamir-chorale-auditions/
LOCATION:Temple Reyim\, 1860 Washington St\, Auburndale\, MA\, 02466\, United States
CATEGORIES:Community Event,Music,Performing Arts
ATTACH;FMTTYPE=image/jpeg:https://newtonculture.org/wp-content/uploads/2021/08/ZamirSatniteBerlin-slider.jpg
ORGANIZER;CN="Zamir Chorale of Boston":MAILTO:manager@zamir.org
END:VEVENT
END:VCALENDAR