BEGIN:VCALENDAR
VERSION:2.0
PRODID:-//Newton Cultural Alliance - ECPv6.13.2.1//NONSGML v1.0//EN
CALSCALE:GREGORIAN
METHOD:PUBLISH
X-WR-CALNAME:Newton Cultural Alliance
X-ORIGINAL-URL:https://newtonculture.org
X-WR-CALDESC:Events for Newton Cultural Alliance
REFRESH-INTERVAL;VALUE=DURATION:PT1H
X-Robots-Tag:noindex
X-PUBLISHED-TTL:PT1H
BEGIN:VTIMEZONE
TZID:America/New_York
BEGIN:DAYLIGHT
TZOFFSETFROM:-0500
TZOFFSETTO:-0400
TZNAME:EDT
DTSTART:20220313T070000
END:DAYLIGHT
BEGIN:STANDARD
TZOFFSETFROM:-0400
TZOFFSETTO:-0500
TZNAME:EST
DTSTART:20221106T060000
END:STANDARD
END:VTIMEZONE
BEGIN:VEVENT
DTSTART;TZID=America/New_York:20220319T200000
DTEND;TZID=America/New_York:20220319T200000
DTSTAMP:20260422T000412
CREATED:20211012T160837Z
LAST-MODIFIED:20211012T160838Z
UID:10019138-1647720000-1647720000@newtonculture.org
SUMMARY:Cappella Clausura presents: Her Story
DESCRIPTION:This year\, we are proud to crack open the classical canon with a variety of new works by women. With vibrant performances of music spanning continents and centuries\, Artistic Director Amelia LeClair will lead our ensemble in a celebration of live\, in-person performances. Learn more about the four programs we have planned for this season. \nTickets for each concert will become available one month ahead of the opening performance. \nHer Story:\nCelebrate Women’s History Month with music by women! A cappella quartets by Fanny Hensel\, Clara Schumann\, Florence Price\, Joan Tower\, Gabriela Frank. \nMarch 19th @ 8 PM: Eliot Church in Newton \nMarch 20th @ 4 PM: Emmanuel Church in Boston
URL:https://newtonculture.org/event/cappella-clausura-presents-her-story/2022-03-19/
LOCATION:MA
CATEGORIES:Community Event,Music,Performing Arts
ATTACH;FMTTYPE=image/png:https://newtonculture.org/wp-content/uploads/2019/11/4-1-e1634054668755.png
ORGANIZER;CN="Cappella Clausura":MAILTO:manager@clausura.org
END:VEVENT
END:VCALENDAR