BEGIN:VCALENDAR
VERSION:2.0
PRODID:-//Newton Cultural Alliance - ECPv6.13.2.1//NONSGML v1.0//EN
CALSCALE:GREGORIAN
METHOD:PUBLISH
X-WR-CALNAME:Newton Cultural Alliance
X-ORIGINAL-URL:https://newtonculture.org
X-WR-CALDESC:Events for Newton Cultural Alliance
REFRESH-INTERVAL;VALUE=DURATION:PT1H
X-Robots-Tag:noindex
X-PUBLISHED-TTL:PT1H
BEGIN:VTIMEZONE
TZID:America/New_York
BEGIN:DAYLIGHT
TZOFFSETFROM:-0500
TZOFFSETTO:-0400
TZNAME:EDT
DTSTART:20220313T070000
END:DAYLIGHT
BEGIN:STANDARD
TZOFFSETFROM:-0400
TZOFFSETTO:-0500
TZNAME:EST
DTSTART:20221106T060000
END:STANDARD
END:VTIMEZONE
BEGIN:VEVENT
DTSTART;TZID=America/New_York:20220910T200000
DTEND;TZID=America/New_York:20220910T213000
DTSTAMP:20260421T123142
CREATED:20220815T192715Z
LAST-MODIFIED:20220815T192805Z
UID:10020697-1662840000-1662845400@newtonculture.org
SUMMARY:Newton Theatre Company presents No Child...
DESCRIPTION:Join Newton Theatre Company for the kickoff performance of their 10th season\, brought to you by the team behind Twilight: Los Angeles\, 1992. No Child… is a tour-de-force exploration of the New York City public school system\, in which Regan Sims* transforms with rapid-fire precision into the teachers\, students\, parents\, janitors\, security guards\, and administrators who inhabit these schools. The story unfolds over six weeks as a visiting actor/guest teacher directs a high school play with students who have never performed before. Described as insightful\, touching\, and hilarious\, this one-night-only event is not to be missed!  Tickets are available here.
URL:https://newtonculture.org/event/newton-theatre-company-presents-no-child/
LOCATION:Saint John’s Episcopal Church\, 96 Otis Street\, Newton\, MA\, 02460\, United States
CATEGORIES:Performing Arts,Theater
ORGANIZER;CN="Newton Theatre Company":MAILTO:info@newtontheatrecompany.com
END:VEVENT
END:VCALENDAR