BEGIN:VCALENDAR
VERSION:2.0
PRODID:-//Newton Cultural Alliance - ECPv6.13.2.1//NONSGML v1.0//EN
CALSCALE:GREGORIAN
METHOD:PUBLISH
X-ORIGINAL-URL:https://newtonculture.org
X-WR-CALDESC:Events for Newton Cultural Alliance
REFRESH-INTERVAL;VALUE=DURATION:PT1H
X-Robots-Tag:noindex
X-PUBLISHED-TTL:PT1H
BEGIN:VTIMEZONE
TZID:America/New_York
BEGIN:DAYLIGHT
TZOFFSETFROM:-0500
TZOFFSETTO:-0400
TZNAME:EDT
DTSTART:20200308T070000
END:DAYLIGHT
BEGIN:STANDARD
TZOFFSETFROM:-0400
TZOFFSETTO:-0500
TZNAME:EST
DTSTART:20201101T060000
END:STANDARD
END:VTIMEZONE
BEGIN:VEVENT
DTSTART;TZID=America/New_York:20200418T193000
DTEND;TZID=America/New_York:20200418T203000
DTSTAMP:20260425T221209
CREATED:20200415T171429Z
LAST-MODIFIED:20200415T171429Z
UID:10018165-1587238200-1587241800@newtonculture.org
SUMMARY:Newton Nomadic Theater presents: Lunatic Talent Jamboree
DESCRIPTION:A banjo-playing wolf put a bug in our brains and out came the Lunatic Talent Jamboree \nThis Saturday\, April 18\, 7:30 PM we’ll be producing an hour long\, on-line\, live gonzo variety show streamed to Facebook Live.  We’ve got some fabulous talent lined up\, some total lunacy planned and we’re going to put it all in a big blender to create the Lunatic Talent Jamboree. \nDon’t miss this hour of off-the wall fun and entertainment. \nClick here at 7:30 on Saturday night
URL:https://newtonculture.org/event/newton-nomadic-theater-presents-lunatic-talent-jamboree/
LOCATION:United Kingdom
CATEGORIES:Free Event,Performing Arts
ATTACH;FMTTYPE=image/jpeg:https://newtonculture.org/wp-content/uploads/2020/04/LunaticLogo.jpg
ORGANIZER;CN="Newton Nomadic Theater":MAILTO:jerreilly@yahoo.com
END:VEVENT
BEGIN:VEVENT
DTSTART;VALUE=DATE:20200418
DTEND;VALUE=DATE:20200419
DTSTAMP:20260425T221209
CREATED:20200330T175720Z
LAST-MODIFIED:20200330T175720Z
UID:10018108-1587168000-1587254399@newtonculture.org
SUMMARY:First Church Chestnut Hill: Organ Music Online
DESCRIPTION:First Church in Chestnut Hill is pleased to share this soothing organ music – ‘Meditation #3 Twilight’ by Pamela Marshall. Go here to listen right now. Scroll down the page\, push the blue button\, and enjoy! More info about First Church Chestnut Hill at firstchurchchestnuthill.org.
URL:https://newtonculture.org/event/first-church-chestnut-hill-organ-music-online/2020-04-18/
LOCATION:United Kingdom
CATEGORIES:Free Event,Music,Performing Arts
ORGANIZER;CN="First Church in Chestnut Hill":MAILTO:26suffolk@gmail.com
END:VEVENT
BEGIN:VEVENT
DTSTART;VALUE=DATE:20200418
DTEND;VALUE=DATE:20200419
DTSTAMP:20260425T221209
CREATED:20200330T174638Z
LAST-MODIFIED:20200330T174638Z
UID:10018035-1587168000-1587254399@newtonculture.org
SUMMARY:Cappella Clausura: Encore Performance of Fanny Mendelssohn Hensel’s Cantatas
DESCRIPTION:Enjoy Cappella Clausura’s beautiful performances of Fanny Mendelssohn Hensel’s cantatas. Fanny wrote her extraordinary and timely “Cholera” cantata in 1831 to commemorate that year’s epidemic in Berlin\, so Cappella Clausura is particularly pleased to be able to share it with you now. More info about Cappella Clausura at clausura.org. View this performance here.
URL:https://newtonculture.org/event/cappella-clausura-encore-performance-of-fanny-mendelssohn-hensels-cantatas/2020-04-18/
LOCATION:ONLINE\, United Kingdom\, E16 2DQ
CATEGORIES:Free Event,Music,Performing Arts
ORGANIZER;CN="Cappella Clausura":MAILTO:manager@clausura.org
END:VEVENT
BEGIN:VEVENT
DTSTART;VALUE=DATE:20200418
DTEND;VALUE=DATE:20200419
DTSTAMP:20260425T221209
CREATED:20200330T173738Z
LAST-MODIFIED:20200421T155356Z
UID:10016294-1587168000-1587254399@newtonculture.org
SUMMARY:Newton Baroque: Encore Performance on Facebook
DESCRIPTION:Newton Baroque presents its January 12\, 2019\, performance of Johann Jakob Walther ‘Hortulus Chelicus’ Sonata 24\, Prelude via Facebook. This program features Susanna Ogata\, violin; Sarah Freiberg Ellison\, cello; Simon Martyn-Ellis\, theorbo; and Andrus Madsen\, harpsichord. Listen to this delightful performance now here. More about Newton Baroque at newtonbaroque.org.
URL:https://newtonculture.org/event/newton-baroque-encore-performance-on-facebook/2020-04-18/
LOCATION:ONLINE\, United Kingdom\, E16 2DQ
CATEGORIES:Free Event,Music,Performing Arts
ATTACH;FMTTYPE=image/png:https://newtonculture.org/wp-content/uploads/2019/11/Logos-500px-19-newtonbaroque.png
END:VEVENT
BEGIN:VEVENT
DTSTART;VALUE=DATE:20200417
DTEND;VALUE=DATE:20200418
DTSTAMP:20260425T221209
CREATED:20200330T175720Z
LAST-MODIFIED:20200330T175720Z
UID:10018107-1587081600-1587167999@newtonculture.org
SUMMARY:First Church Chestnut Hill: Organ Music Online
DESCRIPTION:First Church in Chestnut Hill is pleased to share this soothing organ music – ‘Meditation #3 Twilight’ by Pamela Marshall. Go here to listen right now. Scroll down the page\, push the blue button\, and enjoy! More info about First Church Chestnut Hill at firstchurchchestnuthill.org.
URL:https://newtonculture.org/event/first-church-chestnut-hill-organ-music-online/2020-04-17/
LOCATION:United Kingdom
CATEGORIES:Free Event,Music,Performing Arts
ORGANIZER;CN="First Church in Chestnut Hill":MAILTO:26suffolk@gmail.com
END:VEVENT
BEGIN:VEVENT
DTSTART;VALUE=DATE:20200417
DTEND;VALUE=DATE:20200418
DTSTAMP:20260425T221209
CREATED:20200330T174638Z
LAST-MODIFIED:20200330T174638Z
UID:10018034-1587081600-1587167999@newtonculture.org
SUMMARY:Cappella Clausura: Encore Performance of Fanny Mendelssohn Hensel’s Cantatas
DESCRIPTION:Enjoy Cappella Clausura’s beautiful performances of Fanny Mendelssohn Hensel’s cantatas. Fanny wrote her extraordinary and timely “Cholera” cantata in 1831 to commemorate that year’s epidemic in Berlin\, so Cappella Clausura is particularly pleased to be able to share it with you now. More info about Cappella Clausura at clausura.org. View this performance here.
URL:https://newtonculture.org/event/cappella-clausura-encore-performance-of-fanny-mendelssohn-hensels-cantatas/2020-04-17/
LOCATION:ONLINE\, United Kingdom\, E16 2DQ
CATEGORIES:Free Event,Music,Performing Arts
ORGANIZER;CN="Cappella Clausura":MAILTO:manager@clausura.org
END:VEVENT
BEGIN:VEVENT
DTSTART;VALUE=DATE:20200417
DTEND;VALUE=DATE:20200418
DTSTAMP:20260425T221209
CREATED:20200330T173738Z
LAST-MODIFIED:20200421T155356Z
UID:10016293-1587081600-1587167999@newtonculture.org
SUMMARY:Newton Baroque: Encore Performance on Facebook
DESCRIPTION:Newton Baroque presents its January 12\, 2019\, performance of Johann Jakob Walther ‘Hortulus Chelicus’ Sonata 24\, Prelude via Facebook. This program features Susanna Ogata\, violin; Sarah Freiberg Ellison\, cello; Simon Martyn-Ellis\, theorbo; and Andrus Madsen\, harpsichord. Listen to this delightful performance now here. More about Newton Baroque at newtonbaroque.org.
URL:https://newtonculture.org/event/newton-baroque-encore-performance-on-facebook/2020-04-17/
LOCATION:ONLINE\, United Kingdom\, E16 2DQ
CATEGORIES:Free Event,Music,Performing Arts
ATTACH;FMTTYPE=image/png:https://newtonculture.org/wp-content/uploads/2019/11/Logos-500px-19-newtonbaroque.png
END:VEVENT
BEGIN:VEVENT
DTSTART;VALUE=DATE:20200416
DTEND;VALUE=DATE:20200417
DTSTAMP:20260425T221209
CREATED:20200330T175720Z
LAST-MODIFIED:20200330T175720Z
UID:10018106-1586995200-1587081599@newtonculture.org
SUMMARY:First Church Chestnut Hill: Organ Music Online
DESCRIPTION:First Church in Chestnut Hill is pleased to share this soothing organ music – ‘Meditation #3 Twilight’ by Pamela Marshall. Go here to listen right now. Scroll down the page\, push the blue button\, and enjoy! More info about First Church Chestnut Hill at firstchurchchestnuthill.org.
URL:https://newtonculture.org/event/first-church-chestnut-hill-organ-music-online/2020-04-16/
LOCATION:United Kingdom
CATEGORIES:Free Event,Music,Performing Arts
ORGANIZER;CN="First Church in Chestnut Hill":MAILTO:26suffolk@gmail.com
END:VEVENT
BEGIN:VEVENT
DTSTART;VALUE=DATE:20200416
DTEND;VALUE=DATE:20200417
DTSTAMP:20260425T221209
CREATED:20200330T174638Z
LAST-MODIFIED:20200330T174638Z
UID:10018033-1586995200-1587081599@newtonculture.org
SUMMARY:Cappella Clausura: Encore Performance of Fanny Mendelssohn Hensel’s Cantatas
DESCRIPTION:Enjoy Cappella Clausura’s beautiful performances of Fanny Mendelssohn Hensel’s cantatas. Fanny wrote her extraordinary and timely “Cholera” cantata in 1831 to commemorate that year’s epidemic in Berlin\, so Cappella Clausura is particularly pleased to be able to share it with you now. More info about Cappella Clausura at clausura.org. View this performance here.
URL:https://newtonculture.org/event/cappella-clausura-encore-performance-of-fanny-mendelssohn-hensels-cantatas/2020-04-16/
LOCATION:ONLINE\, United Kingdom\, E16 2DQ
CATEGORIES:Free Event,Music,Performing Arts
ORGANIZER;CN="Cappella Clausura":MAILTO:manager@clausura.org
END:VEVENT
BEGIN:VEVENT
DTSTART;VALUE=DATE:20200416
DTEND;VALUE=DATE:20200417
DTSTAMP:20260425T221209
CREATED:20200330T173738Z
LAST-MODIFIED:20200421T155356Z
UID:10016292-1586995200-1587081599@newtonculture.org
SUMMARY:Newton Baroque: Encore Performance on Facebook
DESCRIPTION:Newton Baroque presents its January 12\, 2019\, performance of Johann Jakob Walther ‘Hortulus Chelicus’ Sonata 24\, Prelude via Facebook. This program features Susanna Ogata\, violin; Sarah Freiberg Ellison\, cello; Simon Martyn-Ellis\, theorbo; and Andrus Madsen\, harpsichord. Listen to this delightful performance now here. More about Newton Baroque at newtonbaroque.org.
URL:https://newtonculture.org/event/newton-baroque-encore-performance-on-facebook/2020-04-16/
LOCATION:ONLINE\, United Kingdom\, E16 2DQ
CATEGORIES:Free Event,Music,Performing Arts
ATTACH;FMTTYPE=image/png:https://newtonculture.org/wp-content/uploads/2019/11/Logos-500px-19-newtonbaroque.png
END:VEVENT
BEGIN:VEVENT
DTSTART;VALUE=DATE:20200415
DTEND;VALUE=DATE:20200416
DTSTAMP:20260425T221209
CREATED:20200330T175720Z
LAST-MODIFIED:20200330T175720Z
UID:10018105-1586908800-1586995199@newtonculture.org
SUMMARY:First Church Chestnut Hill: Organ Music Online
DESCRIPTION:First Church in Chestnut Hill is pleased to share this soothing organ music – ‘Meditation #3 Twilight’ by Pamela Marshall. Go here to listen right now. Scroll down the page\, push the blue button\, and enjoy! More info about First Church Chestnut Hill at firstchurchchestnuthill.org.
URL:https://newtonculture.org/event/first-church-chestnut-hill-organ-music-online/2020-04-15/
LOCATION:United Kingdom
CATEGORIES:Free Event,Music,Performing Arts
ORGANIZER;CN="First Church in Chestnut Hill":MAILTO:26suffolk@gmail.com
END:VEVENT
BEGIN:VEVENT
DTSTART;VALUE=DATE:20200415
DTEND;VALUE=DATE:20200416
DTSTAMP:20260425T221209
CREATED:20200330T174638Z
LAST-MODIFIED:20200330T174638Z
UID:10018032-1586908800-1586995199@newtonculture.org
SUMMARY:Cappella Clausura: Encore Performance of Fanny Mendelssohn Hensel’s Cantatas
DESCRIPTION:Enjoy Cappella Clausura’s beautiful performances of Fanny Mendelssohn Hensel’s cantatas. Fanny wrote her extraordinary and timely “Cholera” cantata in 1831 to commemorate that year’s epidemic in Berlin\, so Cappella Clausura is particularly pleased to be able to share it with you now. More info about Cappella Clausura at clausura.org. View this performance here.
URL:https://newtonculture.org/event/cappella-clausura-encore-performance-of-fanny-mendelssohn-hensels-cantatas/2020-04-15/
LOCATION:ONLINE\, United Kingdom\, E16 2DQ
CATEGORIES:Free Event,Music,Performing Arts
ORGANIZER;CN="Cappella Clausura":MAILTO:manager@clausura.org
END:VEVENT
BEGIN:VEVENT
DTSTART;VALUE=DATE:20200415
DTEND;VALUE=DATE:20200416
DTSTAMP:20260425T221209
CREATED:20200330T173738Z
LAST-MODIFIED:20200421T155356Z
UID:10016291-1586908800-1586995199@newtonculture.org
SUMMARY:Newton Baroque: Encore Performance on Facebook
DESCRIPTION:Newton Baroque presents its January 12\, 2019\, performance of Johann Jakob Walther ‘Hortulus Chelicus’ Sonata 24\, Prelude via Facebook. This program features Susanna Ogata\, violin; Sarah Freiberg Ellison\, cello; Simon Martyn-Ellis\, theorbo; and Andrus Madsen\, harpsichord. Listen to this delightful performance now here. More about Newton Baroque at newtonbaroque.org.
URL:https://newtonculture.org/event/newton-baroque-encore-performance-on-facebook/2020-04-15/
LOCATION:ONLINE\, United Kingdom\, E16 2DQ
CATEGORIES:Free Event,Music,Performing Arts
ATTACH;FMTTYPE=image/png:https://newtonculture.org/wp-content/uploads/2019/11/Logos-500px-19-newtonbaroque.png
END:VEVENT
BEGIN:VEVENT
DTSTART;VALUE=DATE:20200414
DTEND;VALUE=DATE:20200415
DTSTAMP:20260425T221209
CREATED:20200330T175720Z
LAST-MODIFIED:20200330T175720Z
UID:10018104-1586822400-1586908799@newtonculture.org
SUMMARY:First Church Chestnut Hill: Organ Music Online
DESCRIPTION:First Church in Chestnut Hill is pleased to share this soothing organ music – ‘Meditation #3 Twilight’ by Pamela Marshall. Go here to listen right now. Scroll down the page\, push the blue button\, and enjoy! More info about First Church Chestnut Hill at firstchurchchestnuthill.org.
URL:https://newtonculture.org/event/first-church-chestnut-hill-organ-music-online/2020-04-14/
LOCATION:United Kingdom
CATEGORIES:Free Event,Music,Performing Arts
ORGANIZER;CN="First Church in Chestnut Hill":MAILTO:26suffolk@gmail.com
END:VEVENT
BEGIN:VEVENT
DTSTART;VALUE=DATE:20200414
DTEND;VALUE=DATE:20200415
DTSTAMP:20260425T221209
CREATED:20200330T174638Z
LAST-MODIFIED:20200330T174638Z
UID:10018031-1586822400-1586908799@newtonculture.org
SUMMARY:Cappella Clausura: Encore Performance of Fanny Mendelssohn Hensel’s Cantatas
DESCRIPTION:Enjoy Cappella Clausura’s beautiful performances of Fanny Mendelssohn Hensel’s cantatas. Fanny wrote her extraordinary and timely “Cholera” cantata in 1831 to commemorate that year’s epidemic in Berlin\, so Cappella Clausura is particularly pleased to be able to share it with you now. More info about Cappella Clausura at clausura.org. View this performance here.
URL:https://newtonculture.org/event/cappella-clausura-encore-performance-of-fanny-mendelssohn-hensels-cantatas/2020-04-14/
LOCATION:ONLINE\, United Kingdom\, E16 2DQ
CATEGORIES:Free Event,Music,Performing Arts
ORGANIZER;CN="Cappella Clausura":MAILTO:manager@clausura.org
END:VEVENT
BEGIN:VEVENT
DTSTART;VALUE=DATE:20200414
DTEND;VALUE=DATE:20200415
DTSTAMP:20260425T221209
CREATED:20200330T173738Z
LAST-MODIFIED:20200421T155356Z
UID:10016290-1586822400-1586908799@newtonculture.org
SUMMARY:Newton Baroque: Encore Performance on Facebook
DESCRIPTION:Newton Baroque presents its January 12\, 2019\, performance of Johann Jakob Walther ‘Hortulus Chelicus’ Sonata 24\, Prelude via Facebook. This program features Susanna Ogata\, violin; Sarah Freiberg Ellison\, cello; Simon Martyn-Ellis\, theorbo; and Andrus Madsen\, harpsichord. Listen to this delightful performance now here. More about Newton Baroque at newtonbaroque.org.
URL:https://newtonculture.org/event/newton-baroque-encore-performance-on-facebook/2020-04-14/
LOCATION:ONLINE\, United Kingdom\, E16 2DQ
CATEGORIES:Free Event,Music,Performing Arts
ATTACH;FMTTYPE=image/png:https://newtonculture.org/wp-content/uploads/2019/11/Logos-500px-19-newtonbaroque.png
END:VEVENT
BEGIN:VEVENT
DTSTART;VALUE=DATE:20200413
DTEND;VALUE=DATE:20200414
DTSTAMP:20260425T221209
CREATED:20200330T175720Z
LAST-MODIFIED:20200330T175720Z
UID:10018103-1586736000-1586822399@newtonculture.org
SUMMARY:First Church Chestnut Hill: Organ Music Online
DESCRIPTION:First Church in Chestnut Hill is pleased to share this soothing organ music – ‘Meditation #3 Twilight’ by Pamela Marshall. Go here to listen right now. Scroll down the page\, push the blue button\, and enjoy! More info about First Church Chestnut Hill at firstchurchchestnuthill.org.
URL:https://newtonculture.org/event/first-church-chestnut-hill-organ-music-online/2020-04-13/
LOCATION:United Kingdom
CATEGORIES:Free Event,Music,Performing Arts
ORGANIZER;CN="First Church in Chestnut Hill":MAILTO:26suffolk@gmail.com
END:VEVENT
BEGIN:VEVENT
DTSTART;VALUE=DATE:20200413
DTEND;VALUE=DATE:20200414
DTSTAMP:20260425T221209
CREATED:20200330T174638Z
LAST-MODIFIED:20200330T174638Z
UID:10018030-1586736000-1586822399@newtonculture.org
SUMMARY:Cappella Clausura: Encore Performance of Fanny Mendelssohn Hensel’s Cantatas
DESCRIPTION:Enjoy Cappella Clausura’s beautiful performances of Fanny Mendelssohn Hensel’s cantatas. Fanny wrote her extraordinary and timely “Cholera” cantata in 1831 to commemorate that year’s epidemic in Berlin\, so Cappella Clausura is particularly pleased to be able to share it with you now. More info about Cappella Clausura at clausura.org. View this performance here.
URL:https://newtonculture.org/event/cappella-clausura-encore-performance-of-fanny-mendelssohn-hensels-cantatas/2020-04-13/
LOCATION:ONLINE\, United Kingdom\, E16 2DQ
CATEGORIES:Free Event,Music,Performing Arts
ORGANIZER;CN="Cappella Clausura":MAILTO:manager@clausura.org
END:VEVENT
BEGIN:VEVENT
DTSTART;VALUE=DATE:20200413
DTEND;VALUE=DATE:20200414
DTSTAMP:20260425T221209
CREATED:20200330T173738Z
LAST-MODIFIED:20200421T155356Z
UID:10016289-1586736000-1586822399@newtonculture.org
SUMMARY:Newton Baroque: Encore Performance on Facebook
DESCRIPTION:Newton Baroque presents its January 12\, 2019\, performance of Johann Jakob Walther ‘Hortulus Chelicus’ Sonata 24\, Prelude via Facebook. This program features Susanna Ogata\, violin; Sarah Freiberg Ellison\, cello; Simon Martyn-Ellis\, theorbo; and Andrus Madsen\, harpsichord. Listen to this delightful performance now here. More about Newton Baroque at newtonbaroque.org.
URL:https://newtonculture.org/event/newton-baroque-encore-performance-on-facebook/2020-04-13/
LOCATION:ONLINE\, United Kingdom\, E16 2DQ
CATEGORIES:Free Event,Music,Performing Arts
ATTACH;FMTTYPE=image/png:https://newtonculture.org/wp-content/uploads/2019/11/Logos-500px-19-newtonbaroque.png
END:VEVENT
BEGIN:VEVENT
DTSTART;VALUE=DATE:20200412
DTEND;VALUE=DATE:20200413
DTSTAMP:20260425T221209
CREATED:20200330T175720Z
LAST-MODIFIED:20200330T175720Z
UID:10018102-1586649600-1586735999@newtonculture.org
SUMMARY:First Church Chestnut Hill: Organ Music Online
DESCRIPTION:First Church in Chestnut Hill is pleased to share this soothing organ music – ‘Meditation #3 Twilight’ by Pamela Marshall. Go here to listen right now. Scroll down the page\, push the blue button\, and enjoy! More info about First Church Chestnut Hill at firstchurchchestnuthill.org.
URL:https://newtonculture.org/event/first-church-chestnut-hill-organ-music-online/2020-04-12/
LOCATION:United Kingdom
CATEGORIES:Free Event,Music,Performing Arts
ORGANIZER;CN="First Church in Chestnut Hill":MAILTO:26suffolk@gmail.com
END:VEVENT
BEGIN:VEVENT
DTSTART;VALUE=DATE:20200412
DTEND;VALUE=DATE:20200413
DTSTAMP:20260425T221209
CREATED:20200330T174638Z
LAST-MODIFIED:20200330T174638Z
UID:10018029-1586649600-1586735999@newtonculture.org
SUMMARY:Cappella Clausura: Encore Performance of Fanny Mendelssohn Hensel’s Cantatas
DESCRIPTION:Enjoy Cappella Clausura’s beautiful performances of Fanny Mendelssohn Hensel’s cantatas. Fanny wrote her extraordinary and timely “Cholera” cantata in 1831 to commemorate that year’s epidemic in Berlin\, so Cappella Clausura is particularly pleased to be able to share it with you now. More info about Cappella Clausura at clausura.org. View this performance here.
URL:https://newtonculture.org/event/cappella-clausura-encore-performance-of-fanny-mendelssohn-hensels-cantatas/2020-04-12/
LOCATION:ONLINE\, United Kingdom\, E16 2DQ
CATEGORIES:Free Event,Music,Performing Arts
ORGANIZER;CN="Cappella Clausura":MAILTO:manager@clausura.org
END:VEVENT
BEGIN:VEVENT
DTSTART;VALUE=DATE:20200412
DTEND;VALUE=DATE:20200413
DTSTAMP:20260425T221209
CREATED:20200330T173738Z
LAST-MODIFIED:20200421T155356Z
UID:10016288-1586649600-1586735999@newtonculture.org
SUMMARY:Newton Baroque: Encore Performance on Facebook
DESCRIPTION:Newton Baroque presents its January 12\, 2019\, performance of Johann Jakob Walther ‘Hortulus Chelicus’ Sonata 24\, Prelude via Facebook. This program features Susanna Ogata\, violin; Sarah Freiberg Ellison\, cello; Simon Martyn-Ellis\, theorbo; and Andrus Madsen\, harpsichord. Listen to this delightful performance now here. More about Newton Baroque at newtonbaroque.org.
URL:https://newtonculture.org/event/newton-baroque-encore-performance-on-facebook/2020-04-12/
LOCATION:ONLINE\, United Kingdom\, E16 2DQ
CATEGORIES:Free Event,Music,Performing Arts
ATTACH;FMTTYPE=image/png:https://newtonculture.org/wp-content/uploads/2019/11/Logos-500px-19-newtonbaroque.png
END:VEVENT
BEGIN:VEVENT
DTSTART;TZID=America/New_York:20200411T193000
DTEND;TZID=America/New_York:20200411T210000
DTSTAMP:20260425T221209
CREATED:20200406T172430Z
LAST-MODIFIED:20200406T172431Z
UID:10018164-1586633400-1586638800@newtonculture.org
SUMMARY:Newton Nomadic Theater: Love Letters featuring Paula Plum and Richard Snee
DESCRIPTION:Newton Nomadic Theater will host a free live streamed production of Love Letters featuring Paula Plum and Richard Snee on Saturday\, April 11\, 7:30 p.m. on the Newton Nomadic Theater’s Facebook page. More info about Newton Nomadic Theater at https://sites.google.com/site/newtonnomadictheater/.
URL:https://newtonculture.org/event/newton-nomadic-theater-love-letters-featuring-paula-plum-and-richard-snee/
LOCATION:ONLINE\, United Kingdom\, E16 2DQ
CATEGORIES:Free Event,Performing Arts
ATTACH;FMTTYPE=image/png:https://newtonculture.org/wp-content/uploads/2019/11/Logos-500px-7-nomadic.png
ORGANIZER;CN="Newton Nomadic Theater":MAILTO:jerreilly@yahoo.com
END:VEVENT
BEGIN:VEVENT
DTSTART;VALUE=DATE:20200411
DTEND;VALUE=DATE:20200412
DTSTAMP:20260425T221209
CREATED:20200330T175720Z
LAST-MODIFIED:20200330T175720Z
UID:10018101-1586563200-1586649599@newtonculture.org
SUMMARY:First Church Chestnut Hill: Organ Music Online
DESCRIPTION:First Church in Chestnut Hill is pleased to share this soothing organ music – ‘Meditation #3 Twilight’ by Pamela Marshall. Go here to listen right now. Scroll down the page\, push the blue button\, and enjoy! More info about First Church Chestnut Hill at firstchurchchestnuthill.org.
URL:https://newtonculture.org/event/first-church-chestnut-hill-organ-music-online/2020-04-11/
LOCATION:United Kingdom
CATEGORIES:Free Event,Music,Performing Arts
ORGANIZER;CN="First Church in Chestnut Hill":MAILTO:26suffolk@gmail.com
END:VEVENT
BEGIN:VEVENT
DTSTART;VALUE=DATE:20200411
DTEND;VALUE=DATE:20200412
DTSTAMP:20260425T221209
CREATED:20200330T174638Z
LAST-MODIFIED:20200330T174638Z
UID:10018028-1586563200-1586649599@newtonculture.org
SUMMARY:Cappella Clausura: Encore Performance of Fanny Mendelssohn Hensel’s Cantatas
DESCRIPTION:Enjoy Cappella Clausura’s beautiful performances of Fanny Mendelssohn Hensel’s cantatas. Fanny wrote her extraordinary and timely “Cholera” cantata in 1831 to commemorate that year’s epidemic in Berlin\, so Cappella Clausura is particularly pleased to be able to share it with you now. More info about Cappella Clausura at clausura.org. View this performance here.
URL:https://newtonculture.org/event/cappella-clausura-encore-performance-of-fanny-mendelssohn-hensels-cantatas/2020-04-11/
LOCATION:ONLINE\, United Kingdom\, E16 2DQ
CATEGORIES:Free Event,Music,Performing Arts
ORGANIZER;CN="Cappella Clausura":MAILTO:manager@clausura.org
END:VEVENT
BEGIN:VEVENT
DTSTART;VALUE=DATE:20200411
DTEND;VALUE=DATE:20200412
DTSTAMP:20260425T221209
CREATED:20200330T173738Z
LAST-MODIFIED:20200406T172554Z
UID:10018017-1586563200-1586649599@newtonculture.org
SUMMARY:Newton Baroque: Encore Performance on Facebook
DESCRIPTION:Newton Baroque presents its January 12\, 2019\, performance of Johann Jakob Walther ‘Hortulus Chelicus’ Sonata 24\, Prelude via Facebook. This program features Susanna Ogata\, violin; Sarah Freiberg Ellison\, cello; Simon Martyn-Ellis\, theorbo; and Andrus Madsen\, harpsichord. Listen to this delightful performance now here. More about Newton Baroque at newtonbaroque.org.
URL:https://newtonculture.org/event/newton-baroque-encore-performance-on-facebook-2020-04-11/
LOCATION:ONLINE\, United Kingdom\, E16 2DQ
CATEGORIES:Free Event,Music,Performing Arts
ATTACH;FMTTYPE=image/png:https://newtonculture.org/wp-content/uploads/2019/11/Logos-500px-19-newtonbaroque.png
END:VEVENT
BEGIN:VEVENT
DTSTART;VALUE=DATE:20200410
DTEND;VALUE=DATE:20200411
DTSTAMP:20260425T221209
CREATED:20200330T175720Z
LAST-MODIFIED:20200330T175720Z
UID:10018100-1586476800-1586563199@newtonculture.org
SUMMARY:First Church Chestnut Hill: Organ Music Online
DESCRIPTION:First Church in Chestnut Hill is pleased to share this soothing organ music – ‘Meditation #3 Twilight’ by Pamela Marshall. Go here to listen right now. Scroll down the page\, push the blue button\, and enjoy! More info about First Church Chestnut Hill at firstchurchchestnuthill.org.
URL:https://newtonculture.org/event/first-church-chestnut-hill-organ-music-online/2020-04-10/
LOCATION:United Kingdom
CATEGORIES:Free Event,Music,Performing Arts
ORGANIZER;CN="First Church in Chestnut Hill":MAILTO:26suffolk@gmail.com
END:VEVENT
BEGIN:VEVENT
DTSTART;VALUE=DATE:20200410
DTEND;VALUE=DATE:20200411
DTSTAMP:20260425T221209
CREATED:20200330T174638Z
LAST-MODIFIED:20200330T174638Z
UID:10018027-1586476800-1586563199@newtonculture.org
SUMMARY:Cappella Clausura: Encore Performance of Fanny Mendelssohn Hensel’s Cantatas
DESCRIPTION:Enjoy Cappella Clausura’s beautiful performances of Fanny Mendelssohn Hensel’s cantatas. Fanny wrote her extraordinary and timely “Cholera” cantata in 1831 to commemorate that year’s epidemic in Berlin\, so Cappella Clausura is particularly pleased to be able to share it with you now. More info about Cappella Clausura at clausura.org. View this performance here.
URL:https://newtonculture.org/event/cappella-clausura-encore-performance-of-fanny-mendelssohn-hensels-cantatas/2020-04-10/
LOCATION:ONLINE\, United Kingdom\, E16 2DQ
CATEGORIES:Free Event,Music,Performing Arts
ORGANIZER;CN="Cappella Clausura":MAILTO:manager@clausura.org
END:VEVENT
BEGIN:VEVENT
DTSTART;VALUE=DATE:20200410
DTEND;VALUE=DATE:20200411
DTSTAMP:20260425T221209
CREATED:20200330T173738Z
LAST-MODIFIED:20200406T172634Z
UID:10018016-1586476800-1586563199@newtonculture.org
SUMMARY:Newton Baroque: Encore Performance on Facebook
DESCRIPTION:Newton Baroque presents its January 12\, 2019\, performance of Johann Jakob Walther ‘Hortulus Chelicus’ Sonata 24\, Prelude via Facebook. This program features Susanna Ogata\, violin; Sarah Freiberg Ellison\, cello; Simon Martyn-Ellis\, theorbo; and Andrus Madsen\, harpsichord. Listen to this delightful performance now here. More about Newton Baroque at newtonbaroque.org.
URL:https://newtonculture.org/event/newton-baroque-encore-performance-on-facebook-2020-04-10/
LOCATION:ONLINE\, United Kingdom\, E16 2DQ
CATEGORIES:Free Event,Music,Performing Arts
ATTACH;FMTTYPE=image/png:https://newtonculture.org/wp-content/uploads/2019/11/Logos-500px-19-newtonbaroque.png
END:VEVENT
BEGIN:VEVENT
DTSTART;VALUE=DATE:20200409
DTEND;VALUE=DATE:20200410
DTSTAMP:20260425T221209
CREATED:20200330T175720Z
LAST-MODIFIED:20200330T175720Z
UID:10018099-1586390400-1586476799@newtonculture.org
SUMMARY:First Church Chestnut Hill: Organ Music Online
DESCRIPTION:First Church in Chestnut Hill is pleased to share this soothing organ music – ‘Meditation #3 Twilight’ by Pamela Marshall. Go here to listen right now. Scroll down the page\, push the blue button\, and enjoy! More info about First Church Chestnut Hill at firstchurchchestnuthill.org.
URL:https://newtonculture.org/event/first-church-chestnut-hill-organ-music-online/2020-04-09/
LOCATION:United Kingdom
CATEGORIES:Free Event,Music,Performing Arts
ORGANIZER;CN="First Church in Chestnut Hill":MAILTO:26suffolk@gmail.com
END:VEVENT
END:VCALENDAR