BEGIN:VCALENDAR
VERSION:2.0
PRODID:-//Newton Cultural Alliance - ECPv6.13.2.1//NONSGML v1.0//EN
CALSCALE:GREGORIAN
METHOD:PUBLISH
X-WR-CALNAME:Newton Cultural Alliance
X-ORIGINAL-URL:https://newtonculture.org
X-WR-CALDESC:Events for Newton Cultural Alliance
REFRESH-INTERVAL;VALUE=DURATION:PT1H
X-Robots-Tag:noindex
X-PUBLISHED-TTL:PT1H
BEGIN:VTIMEZONE
TZID:America/New_York
BEGIN:DAYLIGHT
TZOFFSETFROM:-0500
TZOFFSETTO:-0400
TZNAME:EDT
DTSTART:20220313T070000
END:DAYLIGHT
BEGIN:STANDARD
TZOFFSETFROM:-0400
TZOFFSETTO:-0500
TZNAME:EST
DTSTART:20221106T060000
END:STANDARD
BEGIN:DAYLIGHT
TZOFFSETFROM:-0500
TZOFFSETTO:-0400
TZNAME:EDT
DTSTART:20230312T070000
END:DAYLIGHT
BEGIN:STANDARD
TZOFFSETFROM:-0400
TZOFFSETTO:-0500
TZNAME:EST
DTSTART:20231105T060000
END:STANDARD
END:VTIMEZONE
BEGIN:VEVENT
DTSTART;VALUE=DATE:20221122
DTEND;VALUE=DATE:20230101
DTSTAMP:20260421T035302
CREATED:20221207T184008Z
LAST-MODIFIED:20221207T184008Z
UID:10019443-1669075200-1672531199@newtonculture.org
SUMMARY:Newton Artists Selling Art to Support "Facing Cancer Together"
DESCRIPTION:Art Works for Good to Support Facing Cancer Together \nNewton Art Association (NAA) is relaunching Art Works for Good\, to make a difference to\nthose in need. This year\, NAA members are donating proceeds to Facing Cancer Together\n(FCT)\, an organization that provides care to cancer survivors and their families who can’t afford\nor access to essential support services. \nNAA’s fundraiser is an opportunity to purchase original artwork while helping cancer survivors in our community. Enjoy browsing NAA’s Art Works for Good online (Newtonartassociation.com) art exhibition from November 16 through December 31\, 2022. Thirty nine artists are participating in the exhibit which features 140 paintings\, drawings\, sculptures\, and photographs. Half of all proceeds go to FCT and the other half to the artists. Many NAA artists are donating all the sale price to FCT. If you are interested in purchasing art\, visit the NAA website (Newtonartassociation.com).\n2\nFacing Cancer Together depends solely upon donations. They are one of the free-standing\, nonhospital-based cancer support organizations in the state of Massachusetts that provides free\,\nonline psychological support\, in addition to person services. For more information\, please visit\nFCT’s website\, facing-cancer.org. Make a difference improving the lives of people with cancer\, and enjoy an original work of art!
URL:https://newtonculture.org/event/newton-artists-selling-art-to-support-facing-cancer-together/
LOCATION:Newton Art Association\, Newton\, MA
CATEGORIES:Art
ATTACH;FMTTYPE=image/jpeg:https://newtonculture.org/wp-content/uploads/2022/11/Cole_Cynthia_NurturedbySunshine_digitalpainting_20x16_2016_130-300x300-1.jpg
ORGANIZER;CN="Newton Art Association":MAILTO:info@newtonartassociation.com
END:VEVENT
BEGIN:VEVENT
DTSTART;TZID=America/New_York:20221202T183000
DTEND;TZID=America/New_York:20221202T193000
DTSTAMP:20260421T035302
CREATED:20221024T150517Z
LAST-MODIFIED:20221107T202827Z
UID:10020747-1670005800-1670009400@newtonculture.org
SUMMARY:All Newton Music School presents Up Close and Musical : Faculty Concert
DESCRIPTION:Listening to your teachers perform chamber music together enhances the music lesson experience. These concerts are one hour in length and presented in a relaxed setting.
URL:https://newtonculture.org/event/all-newton-music-school-presents-up-close-and-musical-december-faculty-concert/2022-12-02/
LOCATION:All Newton Music School\, 321 Chestnut St\, West Newton\, MA\, 02465\, United States
CATEGORIES:Music
ATTACH;FMTTYPE=image/png:https://newtonculture.org/wp-content/uploads/2022/10/1.png
END:VEVENT
BEGIN:VEVENT
DTSTART;TZID=America/New_York:20221203T150000
DTEND;TZID=America/New_York:20221203T170000
DTSTAMP:20260421T035302
CREATED:20220907T151614Z
LAST-MODIFIED:20220907T151614Z
UID:10020707-1670079600-1670086800@newtonculture.org
SUMMARY:Highland Glee Club presents Holiday Songfest Winter Concert
DESCRIPTION:Holiday Songfest Winter Concert\n\n\n\n\n\n\nSaturday\, December 3\, 2022\, 3 PM: Christ Episcopal Church\, Needham\n\n Carols and songs for Christmas and Hanukah\, in a variety of styles
URL:https://newtonculture.org/event/highland-glee-club-presents-holiday-songfest-winter-concert/
LOCATION:Christ Episcopal Church\, 1132 Highland Ave.\, Needham Heights\, MA\, 02494\, United States
END:VEVENT
BEGIN:VEVENT
DTSTART;TZID=America/New_York:20221203T150000
DTEND;TZID=America/New_York:20221203T170000
DTSTAMP:20260421T035302
CREATED:20221114T153536Z
LAST-MODIFIED:20221114T153536Z
UID:10020755-1670079600-1670086800@newtonculture.org
SUMMARY:Highland Glee Club presents A Holiday Songfest
DESCRIPTION:The men of the Highland Glee Club usher in the holidays with songs for Christmas and Chanukah in a variety of styles. Reception to follow.
URL:https://newtonculture.org/event/highland-glee-club-presents-a-holiday-songfest-2/
LOCATION:Christ Episcopal Church\, 1132 Highland Ave.\, Needham Heights\, MA\, 02494\, United States
ATTACH;FMTTYPE=image/png:https://newtonculture.org/wp-content/uploads/2022/11/hgc.png
END:VEVENT
BEGIN:VEVENT
DTSTART;TZID=America/New_York:20221204T100000
DTEND;TZID=America/New_York:20221204T160000
DTSTAMP:20260421T035302
CREATED:20220725T183929Z
LAST-MODIFIED:20220928T174439Z
UID:10020692-1670148000-1670169600@newtonculture.org
SUMMARY:Celebrate Newton Holiday Craft Fair 2022
DESCRIPTION:Celebrate Newton is back at Newton South High School\, 140 Brandeis Road. Come shop for unique handmade items from up to 50 local artisans. You’ll find something for everyone on your holiday gift list including jewelry\, textiles\, ceramics\, woodwork\, framed art\, and more. There will be no shipping delays or empty retail shelves to deal with while you stroll the wide aisles of the well-ventilated Newton South High School cafeteria. Admission is $5. Celebrate Newton is produced by the Newton Cultural Alliance\, an advocacy non-profit supporting over 30 local arts and culture organizations.
URL:https://newtonculture.org/event/celebrate-newton-holiday-craft-fair-2022/
LOCATION:Newton South High School\, 140 Brandeis Rd\, Newton\, MA\, 02459
ATTACH;FMTTYPE=image/png:https://newtonculture.org/wp-content/uploads/2022/07/CN-2022-logo.png
ORGANIZER;CN="Newton Cultural Alliance":MAILTO:contact@newtonculture.org
END:VEVENT
BEGIN:VEVENT
DTSTART;TZID=America/New_York:20221204T160000
DTEND;TZID=America/New_York:20221204T170000
DTSTAMP:20260421T035302
CREATED:20221207T184108Z
LAST-MODIFIED:20221207T184108Z
UID:10019445-1670169600-1670173200@newtonculture.org
SUMMARY:Christmas Carol Sing
DESCRIPTION:Come welcome in the season at a Christmas Carol Sing on December 4th at 4pm at Newton Highlands Congregational Church in the heart of the Highlands. Join in singing traditional and popular family friendly Christmas Tunes accompanied by piano and organ. Free to all. Parking available on the street and in the Hartford Street parking lot.
URL:https://newtonculture.org/event/christmas-carol-sing/
LOCATION:Newton Highlands Congregational Church\, 54 Lincoln Street\, Newton\, MA\, 02461\, United States
CATEGORIES:Family Friendly
ATTACH;FMTTYPE=image/png:https://newtonculture.org/wp-content/uploads/2022/11/Christmas-Carol-Sing-flyer.png
ORGANIZER;CN="Newton Highlands Congregational Church":MAILTO:carol@cjsw.us
END:VEVENT
BEGIN:VEVENT
DTSTART;TZID=America/New_York:20221211T150000
DTEND;TZID=America/New_York:20221211T170000
DTSTAMP:20260421T035302
CREATED:20221207T183938Z
LAST-MODIFIED:20221207T183938Z
UID:10019442-1670770800-1670778000@newtonculture.org
SUMMARY:Holiday Concert - Celebrations!
DESCRIPTION:The New Philharmonia Orchestra joins the Boston Ballet School for an afternoon of lively holiday music! Featuring excerpts from Tchaikovsky’s Nutcracker Suite\, this kid-friendly program is sure to put everyone into the holiday spirit. \nTickets are $20 for adults and $10 for students (under 25). Tickets can be bought here: https://app.arts-people.com/index.php?ticketing=nphil
URL:https://newtonculture.org/event/holiday-concert-celebrations/
LOCATION:MA
CATEGORIES:Music,Performing Arts
ATTACH;FMTTYPE=image/jpeg:https://newtonculture.org/wp-content/uploads/2022/11/boston-ballet-school.jpg
ORGANIZER;CN="New Philharmonia Orchestra":MAILTO:info@newphil.org
END:VEVENT
BEGIN:VEVENT
DTSTART;VALUE=DATE:20221214
DTEND;VALUE=DATE:20230115
DTSTAMP:20260421T035302
CREATED:20221219T144229Z
LAST-MODIFIED:20221219T144229Z
UID:10019450-1670976000-1673740799@newtonculture.org
SUMMARY:Purchase Art Works - to Support Cancer Survivors
DESCRIPTION:Newton Art Association (NAA) members are donating original art to raise funds for Facing Cancer Together (FCT)\, an organization that provides care to cancer survivors and their families who can’t afford or access to essential support services. NAA’s fundraiser is online through January 14\, 2023. Thirty nine artists are participating in the exhibit which features 140 paintings\, drawings\, sculptures\, and photographs. Half of all proceeds go to FCT and the other half to the artists. Many NAA artists are donating all the sale price to FCT. If you are interested in purchasing art\, visit the NAA website (www.newtonartassociation.com).
URL:https://newtonculture.org/event/purchase-art-works-to-support-cancer-survivors/
LOCATION:Newton Art Association\, Newton\, MA
CATEGORIES:Art
ATTACH;FMTTYPE=image/jpeg:https://newtonculture.org/wp-content/uploads/2022/12/Art-for-Good.jpg
END:VEVENT
BEGIN:VEVENT
DTSTART;TZID=America/New_York:20221215T160000
DTEND;TZID=America/New_York:20221215T170000
DTSTAMP:20260421T035302
CREATED:20221212T154310Z
LAST-MODIFIED:20230125T144238Z
UID:10019446-1671120000-1671123600@newtonculture.org
SUMMARY:Invitation to Imagine at The Allen Center
DESCRIPTION:This visit invites children and their families to travel 150 years back in time to imagine what it would have been like to live and learn at the Allen home and this historic school. \nThis historic house was once the home of Nathaniel Allen\, founder of The West Newton English and Classical School. Nathaniel Allen was a progressive educator who provided equal opportunities for girls and boys in racially mixed classrooms even before the Civil War. His curriculum was innovative\, and students came from all over the world to attend his school. \nGuests will explore the parlor\, a classroom\, and even the bowling alley as we learn about the family\, the students\, the school\, and the unique curriculum. Our visit will finish in the barn\, where you will have the opportunity to try some of the games and activities that children enjoyed at this time. \nWe hope you can join us to learn about the history of this newly renovated Newton treasure! Each visit will run approximately one hour. Free event\, 3rd grade and up\, registration required (see button below). \n\n\n\n\n\n\n\n\nDates\n\n\nSunday\, December 11 3:00-4:00 PM \nThursday\, December 15  4:00-5:00 PM \nSunday\, January 22  3:00-4:00 PM \nThursday\, January 26  4:00-5:00 PM
URL:https://newtonculture.org/event/invitation-to-imagine-at-the-allen-center/2022-12-15/
LOCATION:The Allen Center\, 35 Webster St\, WEST NEWTON\, MA\, 02465\, United States
ATTACH;FMTTYPE=image/png:https://newtonculture.org/wp-content/uploads/2022/12/0a36d446-78ce-cbe7-ea33-d08944c66d60.png
ORGANIZER;CN="Newton Cultural Alliance":MAILTO:contact@newtonculture.org
END:VEVENT
BEGIN:VEVENT
DTSTART;TZID=America/New_York:20221231T130000
DTEND;TZID=America/New_York:20221231T143000
DTSTAMP:20260421T035302
CREATED:20221003T145702Z
LAST-MODIFIED:20221003T145702Z
UID:10020729-1672491600-1672497000@newtonculture.org
SUMMARY:Amherst Early Music Classes
DESCRIPTION:Weekend Classes: October 15 & 16\nPlaying Music from the iPad with Tish Berlin\n3:00 – 4:30 pm\, 15 October 2022\nLetitia Berlin recorder \nExploring the GAMUT with Tabea Schwartz\n1:00 – 2:30 pm\, 16 October 2022 \nVincenzo Ruffo’s Capricci in musica with Rainer Beckmann\n3:00 – 4:30 pm\, 16 October 2022\nRainer Beckmann ** recorder \nWeekend Classes October 29 & 30\nTime for trio sonatas! with Na’ama Lion and Sarah Freiberg\n3:00 – 4:30 pm\, 29 October 2022 \nMusic for Halloween and All Souls Day with Shira Kammen\n1:00 – 2:30 pm\, 30 October 2022\nShira Kammen vielle \nMONOPHONY – chants\, songs\, and dances with Daphna Mor\n3:00 – 4:30 pm\, 30 October 2022\nDaphna Mor recorder \nOnline Class\n1:00 – 2:30 pm\, 31 December 2023
URL:https://newtonculture.org/event/amherst-early-music-classes-3/2022-12-31/
LOCATION:MA
ATTACH;FMTTYPE=image/jpeg:https://newtonculture.org/wp-content/uploads/2022/10/AEM_ONLINE_POSTER_OCTOBER_2022.jpg
ORGANIZER;CN="Amherst Early Music":MAILTO:info@amherstearlymusic.org
END:VEVENT
END:VCALENDAR