BEGIN:VCALENDAR
VERSION:2.0
PRODID:-//Newton Cultural Alliance - ECPv6.13.2.1//NONSGML v1.0//EN
CALSCALE:GREGORIAN
METHOD:PUBLISH
X-WR-CALNAME:Newton Cultural Alliance
X-ORIGINAL-URL:https://newtonculture.org
X-WR-CALDESC:Events for Newton Cultural Alliance
REFRESH-INTERVAL;VALUE=DURATION:PT1H
X-Robots-Tag:noindex
X-PUBLISHED-TTL:PT1H
BEGIN:VTIMEZONE
TZID:America/New_York
BEGIN:DAYLIGHT
TZOFFSETFROM:-0500
TZOFFSETTO:-0400
TZNAME:EDT
DTSTART:20230312T070000
END:DAYLIGHT
BEGIN:STANDARD
TZOFFSETFROM:-0400
TZOFFSETTO:-0500
TZNAME:EST
DTSTART:20231105T060000
END:STANDARD
END:VTIMEZONE
BEGIN:VEVENT
DTSTART;TZID=America/New_York:20230110T190000
DTEND;TZID=America/New_York:20230110T213000
DTSTAMP:20260420T234439
CREATED:20230103T144418Z
LAST-MODIFIED:20230105T191315Z
UID:10019451-1673377200-1673386200@newtonculture.org
SUMMARY:Highland Glee Club presents Open Rehearsals
DESCRIPTION:The Highland Glee Club\, established in 1908\, is seeking men’s voices.\nThese will be at 7:00 pm at the Christ Episcopal Church\, 76 Eldredge St\, Newton\, MA\non Tuesday January 10 and 17.
URL:https://newtonculture.org/event/open-rehearsals/
LOCATION:Christ Episcopal Church\, 1132 Highland Ave.\, Needham Heights\, MA\, 02494\, United States
CATEGORIES:Music
ATTACH;FMTTYPE=image/png:https://newtonculture.org/wp-content/uploads/2023/01/HGC-Recruitment.png
END:VEVENT
END:VCALENDAR