BEGIN:VCALENDAR
VERSION:2.0
PRODID:-//Newton Cultural Alliance - ECPv6.13.2.1//NONSGML v1.0//EN
CALSCALE:GREGORIAN
METHOD:PUBLISH
X-WR-CALNAME:Newton Cultural Alliance
X-ORIGINAL-URL:https://newtonculture.org
X-WR-CALDESC:Events for Newton Cultural Alliance
REFRESH-INTERVAL;VALUE=DURATION:PT1H
X-Robots-Tag:noindex
X-PUBLISHED-TTL:PT1H
BEGIN:VTIMEZONE
TZID:America/New_York
BEGIN:DAYLIGHT
TZOFFSETFROM:-0500
TZOFFSETTO:-0400
TZNAME:EDT
DTSTART:20240310T070000
END:DAYLIGHT
BEGIN:STANDARD
TZOFFSETFROM:-0400
TZOFFSETTO:-0500
TZNAME:EST
DTSTART:20241103T060000
END:STANDARD
END:VTIMEZONE
BEGIN:VEVENT
DTSTART;TZID=America/New_York:20240425T190000
DTEND;TZID=America/New_York:20240425T210000
DTSTAMP:20260424T151142
CREATED:20240417T133730Z
LAST-MODIFIED:20240417T133730Z
UID:10021956-1714071600-1714078800@newtonculture.org
SUMMARY:Sofia Talvik - Concert at Scandinavian Cultural Center
DESCRIPTION:Mark your calendars for an enchanting evening in West Newton! Folk/Americana artist Sofia Talvik is set to perform at the Scandinavian Cultural Center on Thursday\, April 25th\, 2024. This special concert will be an excellent showcase of Sofia’s evocative melodies and rich storytelling\, all within a venue that celebrates her Swedish heritage. \nBorn and raised in Sweden\, Sofia has toured extensively across 48 states in the U.S.\, incorporating the vast musical influences she’s encountered into her distinctive sound. This blend of Nordic roots with American musical styles makes her upcoming performance at the Scandinavian Cultural Center particularly fitting. \nSofia is enthusiastic about her first visit to West Newton and performing at a venue that resonates with her heritage. “I’m thrilled to be coming to West Newton for the first time and performing at the Scandinavian Cultural Center. It’s an exciting opportunity to connect with new faces and share my music in such a culturally rich setting\,” Sofia said. \nHer latest album\, released in 2023\, gained significant attention\, charting on Folk radio charts throughout the fall and was considered for a Grammy nomination in the Best Folk Album category. Her ability to weave heartfelt stories with evocative melodies promises to deliver a deeply engaging concert experience. \nThe Scandinavian Cultural Center\, dedicated to promoting Scandinavian culture\, is the ideal venue for Sofia’s performance\, providing a resonant backdrop that complements her musical style. \nMark your calendar for April 25th and join us at the Scandinavian Cultural Center in West Newton for Sofia Talvik’s first-ever performance in the town. It will be a night of beautiful music and cultural celebration\, bridging Scandinavian and American folk traditions in an unforgettable setting.
URL:https://newtonculture.org/event/sofia-talvik-concert-at-scandinavian-cultural-center/
LOCATION:Scandinavian Cultural Center\, 206 Waltham St\, Newton\, MA\, 02465\, United States
CATEGORIES:Music
ATTACH;FMTTYPE=image/jpeg:https://newtonculture.org/wp-content/uploads/2024/04/Sofia_live_closeup_small.jpg
END:VEVENT
BEGIN:VEVENT
DTSTART;TZID=America/New_York:20240427T200000
DTEND;TZID=America/New_York:20240427T213000
DTSTAMP:20260424T151142
CREATED:20240403T125724Z
LAST-MODIFIED:20240403T125724Z
UID:10021948-1714248000-1714253400@newtonculture.org
SUMMARY:The Highland Glee Club: A Schubertiade
DESCRIPTION:The Highland Glee Club presents an elegant evening of Old World charm and sophistication.\nThis will be an entire evening of works of Fran Schubert. Works for men’s choir will be interspersed\nwith piano solos by Jonathan Reddix and the rarely heard “Arpeggione” Sonata performed on double bass.
URL:https://newtonculture.org/event/the-highland-glee-club-a-schubertiade/
LOCATION:Newton Highland Congregational Church\, 54 Lincoln St\, Newton Highlands\, MA\, 02494\, United States
CATEGORIES:Music
ATTACH;FMTTYPE=image/png:https://newtonculture.org/wp-content/uploads/2024/03/HGC-Schubertiade.png
END:VEVENT
END:VCALENDAR