BEGIN:VCALENDAR
VERSION:2.0
PRODID:-//Newton Cultural Alliance - ECPv6.13.2.1//NONSGML v1.0//EN
CALSCALE:GREGORIAN
METHOD:PUBLISH
X-WR-CALNAME:Newton Cultural Alliance
X-ORIGINAL-URL:https://newtonculture.org
X-WR-CALDESC:Events for Newton Cultural Alliance
REFRESH-INTERVAL;VALUE=DURATION:PT1H
X-Robots-Tag:noindex
X-PUBLISHED-TTL:PT1H
BEGIN:VTIMEZONE
TZID:America/New_York
BEGIN:DAYLIGHT
TZOFFSETFROM:-0500
TZOFFSETTO:-0400
TZNAME:EDT
DTSTART:20240310T070000
END:DAYLIGHT
BEGIN:STANDARD
TZOFFSETFROM:-0400
TZOFFSETTO:-0500
TZNAME:EST
DTSTART:20241103T060000
END:STANDARD
END:VTIMEZONE
BEGIN:VEVENT
DTSTART;TZID=America/New_York:20241026T150000
DTEND;TZID=America/New_York:20241026T163000
DTSTAMP:20260419T121105
CREATED:20241003T144420Z
LAST-MODIFIED:20241003T144420Z
UID:10022638-1729954800-1729960200@newtonculture.org
SUMMARY:Oktoberfest: A Concert of Drinking Songs for Men’s Choir
DESCRIPTION:On offer will be a selection of rousing drinking songs for men’s choir\, spanning time\, place\, and genre including Mendelssohn’s Opus 50 song cycle.\nWith a special guest appearance by operatic baritone Junhan Choi who will join the men in Schubert’s Trinklied D. 75 and sing a set of themed arias. To add to the fun he has been persuaded to sing Rossini’s famous “Figaro” aria. The concert will be followed by a special beer garden reception courtesy of\nThe Highland Glee Club and the Mighty Squirrel. It’s going to be WICKED FUN. But also extremely classy.
URL:https://newtonculture.org/event/oktoberfest-a-concert-of-drinking-songs-for-mens-choir/
LOCATION:Grace Episcopal Church\, 76 Eldredge Street\, Newton\, MA\, 02458\, United States
CATEGORIES:Music
ATTACH;FMTTYPE=image/png:https://newtonculture.org/wp-content/uploads/2024/09/HGC-Oktoberfest-2024.png
END:VEVENT
END:VCALENDAR