BEGIN:VCALENDAR
VERSION:2.0
PRODID:-//Newton Cultural Alliance - ECPv6.13.2.1//NONSGML v1.0//EN
CALSCALE:GREGORIAN
METHOD:PUBLISH
X-WR-CALNAME:Newton Cultural Alliance
X-ORIGINAL-URL:https://newtonculture.org
X-WR-CALDESC:Events for Newton Cultural Alliance
REFRESH-INTERVAL;VALUE=DURATION:PT1H
X-Robots-Tag:noindex
X-PUBLISHED-TTL:PT1H
BEGIN:VTIMEZONE
TZID:America/New_York
BEGIN:DAYLIGHT
TZOFFSETFROM:-0500
TZOFFSETTO:-0400
TZNAME:EDT
DTSTART:20240310T070000
END:DAYLIGHT
BEGIN:STANDARD
TZOFFSETFROM:-0400
TZOFFSETTO:-0500
TZNAME:EST
DTSTART:20241103T060000
END:STANDARD
END:VTIMEZONE
BEGIN:VEVENT
DTSTART;TZID=America/New_York:20240512T200000
DTEND;TZID=America/New_York:20240512T220000
DTSTAMP:20260424T123020
CREATED:20240408T155534Z
LAST-MODIFIED:20240430T193702Z
UID:10021951-1715544000-1715551200@newtonculture.org
SUMMARY:Commonwealth Chorale presents The Dream Unfinished
DESCRIPTION:The Dream Unfinished\nSaturday\, May 11\, 2024 • 8:00pm\nCommonwealth Chorale performs The Dream Unfinished. Told through the voices of a diverse selection of composers\, the music for this concert celebrates the ideals of the American Dream\, by exploring racial injustice\, hope\, human resilience\, and the possibility of realizing a world where people are not enslaved and where people of all backgrounds can coexist harmoniously. \nFlorence Price:  Abraham Lincoln Walks at Midnight\nWilliam Grant Still:  Plain-Chant for America \nPlus works by Margaret Bonds\, Irving Berlin\, Randall Thompson\, André Thomas\, and Dorothy Rudd Moore.\nPhilip Lima\, baritone\nValerie Becker\, piano
URL:https://newtonculture.org/event/the-dream-unfinished/
LOCATION:Church of the Holy Name\, 1689 Centre Street\, West Roxbury\, MA\, 02132\, United States
CATEGORIES:Music
ATTACH;FMTTYPE=image/jpeg:https://newtonculture.org/wp-content/uploads/2024/04/The-Dream-Unfinished.jpg
ORGANIZER;CN="Commonwealth Chorale":MAILTO:info@commonwealthchorale.com
END:VEVENT
END:VCALENDAR