BEGIN:VCALENDAR
VERSION:2.0
PRODID:-//Newton Cultural Alliance - ECPv6.13.2.1//NONSGML v1.0//EN
CALSCALE:GREGORIAN
METHOD:PUBLISH
X-WR-CALNAME:Newton Cultural Alliance
X-ORIGINAL-URL:https://newtonculture.org
X-WR-CALDESC:Events for Newton Cultural Alliance
REFRESH-INTERVAL;VALUE=DURATION:PT1H
X-Robots-Tag:noindex
X-PUBLISHED-TTL:PT1H
BEGIN:VTIMEZONE
TZID:America/New_York
BEGIN:DAYLIGHT
TZOFFSETFROM:-0500
TZOFFSETTO:-0400
TZNAME:EDT
DTSTART:20240310T070000
END:DAYLIGHT
BEGIN:STANDARD
TZOFFSETFROM:-0400
TZOFFSETTO:-0500
TZNAME:EST
DTSTART:20241103T060000
END:STANDARD
END:VTIMEZONE
BEGIN:VEVENT
DTSTART;TZID=America/New_York:20241124T160000
DTEND;TZID=America/New_York:20241124T190000
DTSTAMP:20260419T213241
CREATED:20241031T150244Z
LAST-MODIFIED:20241031T150244Z
UID:10022722-1732464000-1732474800@newtonculture.org
SUMMARY:Commonwealth Chorale Presents " Reverent Praise"
DESCRIPTION:In November\, we bring you Johann Sebastian Bach’s beloved Magnificat and compositions by two well-known contemporary British composers: Jonathan Dove’s Köthener Messe and Cecilia McDowall’s Laudate. Dove and McDowall’s compositions both pay tribute to Bach and\, with the Magnificat\, provide respite for uncertain times
URL:https://newtonculture.org/event/commonwealth-chorale-presents-reverent-praise/
LOCATION:Church of the Holy Name\, 1689 Centre Street\, West Roxbury\, MA\, 02132\, United States
CATEGORIES:Music
ATTACH;FMTTYPE=image/jpeg:https://newtonculture.org/wp-content/uploads/2024/10/Bach-3x2-a.jpg
ORGANIZER;CN="Commonwealth Chorale":MAILTO:info@commonwealthchorale.com
END:VEVENT
END:VCALENDAR