BEGIN:VCALENDAR
VERSION:2.0
PRODID:-//Newton Cultural Alliance - ECPv6.13.2.1//NONSGML v1.0//EN
CALSCALE:GREGORIAN
METHOD:PUBLISH
X-WR-CALNAME:Newton Cultural Alliance
X-ORIGINAL-URL:https://newtonculture.org
X-WR-CALDESC:Events for Newton Cultural Alliance
REFRESH-INTERVAL;VALUE=DURATION:PT1H
X-Robots-Tag:noindex
X-PUBLISHED-TTL:PT1H
BEGIN:VTIMEZONE
TZID:America/New_York
BEGIN:DAYLIGHT
TZOFFSETFROM:-0500
TZOFFSETTO:-0400
TZNAME:EDT
DTSTART:20240310T070000
END:DAYLIGHT
BEGIN:STANDARD
TZOFFSETFROM:-0400
TZOFFSETTO:-0500
TZNAME:EST
DTSTART:20241103T060000
END:STANDARD
END:VTIMEZONE
BEGIN:VEVENT
DTSTART;TZID=America/New_York:20241202T190000
DTEND;TZID=America/New_York:20241202T200000
DTSTAMP:20260419T105339
CREATED:20241125T223230Z
LAST-MODIFIED:20241125T223230Z
UID:10022751-1733166000-1733169600@newtonculture.org
SUMMARY:Pro Arte presents Holiday Brass!
DESCRIPTION:Pro Arte Chamber Orchestra presents the first concert in this season’s Salon Series- Holiday Brass Quintet\, featuring traditional holiday favorites\, at The Allen Center in Newton at 7pm on December 2nd. The Holiday Brass salon concert has become a recent tradition at the Allen House\, after its first performance during the pandemic as a video offering. This year’s concert will include music by Handel and Bach\, along with traditional carols and more familiar popular Christmas songs. This concert will also be offered at 2pm that day at the Scandinavian Cultural Center. For more information www.proarte.org or info@proarte.org.
URL:https://newtonculture.org/event/pro-arte-presents-holiday-brass/
LOCATION:The Allen Center\, 35 Webster St\, WEST NEWTON\, MA\, 02465\, United States
CATEGORIES:Music
ATTACH;FMTTYPE=image/jpeg:https://newtonculture.org/wp-content/uploads/2024/11/PACO_12-24Salon_LTRPoster_v2-scaled.jpg
END:VEVENT
END:VCALENDAR