BEGIN:VCALENDAR
VERSION:2.0
PRODID:-//Newton Cultural Alliance - ECPv6.13.2.1//NONSGML v1.0//EN
CALSCALE:GREGORIAN
METHOD:PUBLISH
X-ORIGINAL-URL:https://newtonculture.org
X-WR-CALDESC:Events for Newton Cultural Alliance
REFRESH-INTERVAL;VALUE=DURATION:PT1H
X-Robots-Tag:noindex
X-PUBLISHED-TTL:PT1H
BEGIN:VTIMEZONE
TZID:America/New_York
BEGIN:DAYLIGHT
TZOFFSETFROM:-0500
TZOFFSETTO:-0400
TZNAME:EDT
DTSTART:20230312T070000
END:DAYLIGHT
BEGIN:STANDARD
TZOFFSETFROM:-0400
TZOFFSETTO:-0500
TZNAME:EST
DTSTART:20231105T060000
END:STANDARD
END:VTIMEZONE
BEGIN:VEVENT
DTSTART;TZID=America/New_York:20230112T190000
DTEND;TZID=America/New_York:20230112T210000
DTSTAMP:20260420T234429
CREATED:20230103T144516Z
LAST-MODIFIED:20230105T191751Z
UID:10019453-1673550000-1673557200@newtonculture.org
SUMMARY:Newton Art Association: Watercolor Artist Demo
DESCRIPTION:International watercolorist\, Soon Y Warren\, will demonstrate the process of painting layer by layer as she applies the colors to create a finished painting. Her work has been featured in art magazines including Splash\, where she was named one of the top US 15 watercolorists in the past 20 years. She is a signature member of the National Watercolor Society\, American Watercolor Society\, Southern Watercolor Society\, and others.
URL:https://newtonculture.org/event/watercolor-artist-demo/
LOCATION:ONLINE\, United Kingdom\, E16 2DQ
CATEGORIES:Visual Arts
ATTACH;FMTTYPE=image/jpeg:https://newtonculture.org/wp-content/uploads/2023/01/Pink-Peony-Crystal.jpg
ORGANIZER;CN="Newton Art Association":MAILTO:info@newtonartassociation.com
END:VEVENT
END:VCALENDAR