BEGIN:VCALENDAR
VERSION:2.0
PRODID:-//Newton Cultural Alliance - ECPv6.13.2.1//NONSGML v1.0//EN
CALSCALE:GREGORIAN
METHOD:PUBLISH
X-WR-CALNAME:Newton Cultural Alliance
X-ORIGINAL-URL:https://newtonculture.org
X-WR-CALDESC:Events for Newton Cultural Alliance
REFRESH-INTERVAL;VALUE=DURATION:PT1H
X-Robots-Tag:noindex
X-PUBLISHED-TTL:PT1H
BEGIN:VTIMEZONE
TZID:America/New_York
BEGIN:DAYLIGHT
TZOFFSETFROM:-0500
TZOFFSETTO:-0400
TZNAME:EDT
DTSTART:20240310T070000
END:DAYLIGHT
BEGIN:STANDARD
TZOFFSETFROM:-0400
TZOFFSETTO:-0500
TZNAME:EST
DTSTART:20241103T060000
END:STANDARD
END:VTIMEZONE
BEGIN:VEVENT
DTSTART;TZID=America/New_York:20240915T140000
DTEND;TZID=America/New_York:20240915T153000
DTSTAMP:20260419T213112
CREATED:20240715T165337Z
LAST-MODIFIED:20240715T165337Z
UID:10022134-1726408800-1726414200@newtonculture.org
SUMMARY:Walking Tour: Founding Newtonians in East Parish Burying Ground
DESCRIPTION:How does a burying ground tell our local story? Ramble through East Parish Burying Ground as we visit the grave sites of some of Newton’s early English settlers and the location of the 1630s meetinghouse. We’ll also reveal the hidden stories of the Indigenous Massachusett people and enslaved and free Black Newtonians who were not buried there\, but whose experience is equally as important in understanding this time period. Please note that the majority of this walk will take place on unpaved\, uneven terrain. \nWalking tours are $10 for members and $15 for non-members. Register at https://events.humanitix.com/eastparish2024walkingtour. For more information and a complete list of this year’s walking tours visit www.newtonma.gov/HNwalks.
URL:https://newtonculture.org/event/walking-tour-founding-newtonians-in-east-parish-burying-ground/
LOCATION:MA
CATEGORIES:Culture and Education
ATTACH;FMTTYPE=image/jpeg:https://newtonculture.org/wp-content/uploads/2024/07/2018.10.28EastParishBuryingGround-4.jpg
END:VEVENT
END:VCALENDAR