BEGIN:VCALENDAR
VERSION:2.0
PRODID:-//Newton Cultural Alliance - ECPv6.13.2.1//NONSGML v1.0//EN
CALSCALE:GREGORIAN
METHOD:PUBLISH
X-WR-CALNAME:Newton Cultural Alliance
X-ORIGINAL-URL:https://newtonculture.org
X-WR-CALDESC:Events for Newton Cultural Alliance
REFRESH-INTERVAL;VALUE=DURATION:PT1H
X-Robots-Tag:noindex
X-PUBLISHED-TTL:PT1H
BEGIN:VTIMEZONE
TZID:America/New_York
BEGIN:DAYLIGHT
TZOFFSETFROM:-0500
TZOFFSETTO:-0400
TZNAME:EDT
DTSTART:20210314T070000
END:DAYLIGHT
BEGIN:STANDARD
TZOFFSETFROM:-0400
TZOFFSETTO:-0500
TZNAME:EST
DTSTART:20211107T060000
END:STANDARD
END:VTIMEZONE
BEGIN:VEVENT
DTSTART;TZID=America/New_York:20210902T160000
DTEND;TZID=America/New_York:20210902T173000
DTSTAMP:20260421T151841
CREATED:20210816T160228Z
LAST-MODIFIED:20210816T160228Z
UID:10019872-1630598400-1630603800@newtonculture.org
SUMMARY:Outdoor Lawn Games at the Newton Free Library
DESCRIPTION:Put on your game face  for an afternoon of lawn games!  We have cornhole\, giant jenga\, throw throw burrito\, and croquet. Meet us in the Teen Area to venture outside. For rising 6th to 12th graders.
URL:https://newtonculture.org/event/outdoor-lawn-games-at-the-newton-free-library/
LOCATION:Newton Free Library\, 330 Homer St\, Newton\, MA\, 02459\, United States
CATEGORIES:Community Event,Family Friendly,Free Event
ATTACH;FMTTYPE=image/jpeg:https://newtonculture.org/wp-content/uploads/2021/08/1624459201.jpg
ORGANIZER;CN="Newton Free Library":MAILTO:admin@newtonfreelibrary.net
END:VEVENT
BEGIN:VEVENT
DTSTART;TZID=America/New_York:20210909T160000
DTEND;TZID=America/New_York:20210909T173000
DTSTAMP:20260421T151841
CREATED:20210614T163233Z
LAST-MODIFIED:20210614T163427Z
UID:10019714-1631203200-1631208600@newtonculture.org
SUMMARY:Newton Theatre Kids presents: Fall Classes - Charlotte's Web
DESCRIPTION:Join lovable pig Wilbur and his best friend\, Charlotte the spider\, in this fun\, heartwarming re-telling of E.B. White’s classic story\, Charlotte’s Web. We’ve got dancing\, acting\, scenery-making\, and parts for everybody! ​Tuition: $385. Open to Students in Grades K-5 \nLocation for all classes: FUUSN – First Unitarian Universalist Society in Newton\n1326 Washington St\, Newton\, MA 02465 \nWe follow closings for all Newton Public school holidays and snow days. \nWe want theatre to be accessible to everyone.\nIf you are interested in learning more about Newton Theatre Kids scholarships\, please email Melissa.
URL:https://newtonculture.org/event/newton-theatre-kids-presents-fall-classes-charlottes-web/2021-09-09/
LOCATION:First Unitarian Universalist Society in Newton\, 1326 Washington St\, Newton\, MA\, 02465\, United States
CATEGORIES:Community Event,Culture and Education,Family Friendly,Performing Arts
ATTACH;FMTTYPE=image/png:https://newtonculture.org/wp-content/uploads/2021/06/1_orig.png
ORGANIZER;CN="Newton Theatre Company":MAILTO:info@newtontheatrecompany.com
END:VEVENT
BEGIN:VEVENT
DTSTART;TZID=America/New_York:20210909T183000
DTEND;TZID=America/New_York:20210909T200000
DTSTAMP:20260421T151841
CREATED:20210614T163818Z
LAST-MODIFIED:20210614T163818Z
UID:10019758-1631212200-1631217600@newtonculture.org
SUMMARY:Newton Theatre Kids presents: Fall Classes - Devising Ensemble
DESCRIPTION:Join NTK’s all new Devising Ensemble! Our first program for middle schoolers gives participants the opportunity to explore new forms of performance and hone their artistic skills\, all while creating an original piece of theatre as an ensemble. Specifically tailored to the interests of the students\, this class is an excellent opportunity for young performers to expand their artistic horizons and learn more about their craft. ​Open to Students in Grades 6-8. ​Tuition: $385 \nThursdays from 6:30-8 pm\nSeptember 9th through December 16th\n​Taught by Abby Lass \nLocation for all classes: FUUSN – First Unitarian Universalist Society in Newton\n1326 Washington St\, Newton\, MA 02465 \nWe follow closings for all Newton Public school holidays and snow days. \nWe want theatre to be accessible to everyone.\nIf you are interested in learning more about Newton Theatre Kids scholarships\, please email Melissa.
URL:https://newtonculture.org/event/newton-theatre-kids-presents-fall-classes-devising-ensemble/2021-09-09/
LOCATION:First Unitarian Universalist Society in Newton\, 1326 Washington St\, Newton\, MA\, 02465\, United States
CATEGORIES:Community Event,Culture and Education,Performing Arts
ATTACH;FMTTYPE=image/png:https://newtonculture.org/wp-content/uploads/2021/06/2_orig.png
ORGANIZER;CN="Newton Theatre Company":MAILTO:info@newtontheatrecompany.com
END:VEVENT
BEGIN:VEVENT
DTSTART;TZID=America/New_York:20210912T160000
DTEND;TZID=America/New_York:20210912T180000
DTSTAMP:20260421T151841
CREATED:20210824T154401Z
LAST-MODIFIED:20210824T154401Z
UID:10018949-1631462400-1631469600@newtonculture.org
SUMMARY:Suzuki School of Newton presents: Back to School Block Party
DESCRIPTION:Dust off your instrument and get ready for the new school year with a celebration! The Back To School Block Party will consist of a play-in and a picnic on September 12th from 4:00-6:00pm at our school’s parking lot. We hope to see you then! (Rain date is Sep. 19th from 4:00-6:00).
URL:https://newtonculture.org/event/suzuki-school-of-newton-presents-back-to-school-block-party/
LOCATION:Suzuki School of Newton\, 1615 Beacon St\, Waban\, MA\, 02468\, United States
CATEGORIES:Community Event,Family Friendly,Free Event,Music
ATTACH;FMTTYPE=image/png:https://newtonculture.org/wp-content/uploads/2021/08/BlockPartyPromo.png
ORGANIZER;CN="Suzuki School of Newton":MAILTO:email@suzukinewton.org
END:VEVENT
BEGIN:VEVENT
DTSTART;TZID=America/New_York:20210913T160000
DTEND;TZID=America/New_York:20210913T173000
DTSTAMP:20260421T151841
CREATED:20240205T221934Z
LAST-MODIFIED:20240205T221934Z
UID:10019728-1631548800-1631554200@newtonculture.org
SUMMARY:Newton Theatre Kids presents: Fall Classes - Charlotte's Web
DESCRIPTION:Join lovable pig Wilbur and his best friend\, Charlotte the spider\, in this fun\, heartwarming re-telling of E.B. White’s classic story\, Charlotte’s Web. We’ve got dancing\, acting\, scenery-making\, and parts for everybody! ​Tuition: $385. Open to Students in Grades K-5 \nLocation for all classes: FUUSN – First Unitarian Universalist Society in Newton\n1326 Washington St\, Newton\, MA 02465 \nWe follow closings for all Newton Public school holidays and snow days. \nWe want theatre to be accessible to everyone.\nIf you are interested in learning more about Newton Theatre Kids scholarships\, please email Melissa.
URL:https://newtonculture.org/event/newton-theatre-kids-presents-fall-classes-charlottes-web/2021-09-13/
LOCATION:First Unitarian Universalist Society in Newton\, 1326 Washington St\, Newton\, MA\, 02465\, United States
CATEGORIES:Community Event,Culture and Education,Family Friendly,Performing Arts
ATTACH;FMTTYPE=image/png:https://newtonculture.org/wp-content/uploads/2021/06/1_orig.png
ORGANIZER;CN="Newton Theatre Company":MAILTO:info@newtontheatrecompany.com
END:VEVENT
BEGIN:VEVENT
DTSTART;TZID=America/New_York:20210915T160000
DTEND;TZID=America/New_York:20210915T173000
DTSTAMP:20260421T151841
CREATED:20240205T221935Z
LAST-MODIFIED:20240205T221935Z
UID:10019741-1631721600-1631727000@newtonculture.org
SUMMARY:Newton Theatre Kids presents: Fall Classes - Charlotte's Web
DESCRIPTION:Join lovable pig Wilbur and his best friend\, Charlotte the spider\, in this fun\, heartwarming re-telling of E.B. White’s classic story\, Charlotte’s Web. We’ve got dancing\, acting\, scenery-making\, and parts for everybody! ​Tuition: $385. Open to Students in Grades K-5 \nLocation for all classes: FUUSN – First Unitarian Universalist Society in Newton\n1326 Washington St\, Newton\, MA 02465 \nWe follow closings for all Newton Public school holidays and snow days. \nWe want theatre to be accessible to everyone.\nIf you are interested in learning more about Newton Theatre Kids scholarships\, please email Melissa.
URL:https://newtonculture.org/event/newton-theatre-kids-presents-fall-classes-charlottes-web/2021-09-15/
LOCATION:First Unitarian Universalist Society in Newton\, 1326 Washington St\, Newton\, MA\, 02465\, United States
CATEGORIES:Community Event,Culture and Education,Family Friendly,Performing Arts
ATTACH;FMTTYPE=image/png:https://newtonculture.org/wp-content/uploads/2021/06/1_orig.png
ORGANIZER;CN="Newton Theatre Company":MAILTO:info@newtontheatrecompany.com
END:VEVENT
BEGIN:VEVENT
DTSTART;TZID=America/New_York:20210916T160000
DTEND;TZID=America/New_York:20210916T173000
DTSTAMP:20260421T151841
CREATED:20210614T163233Z
LAST-MODIFIED:20210614T163427Z
UID:10019715-1631808000-1631813400@newtonculture.org
SUMMARY:Newton Theatre Kids presents: Fall Classes - Charlotte's Web
DESCRIPTION:Join lovable pig Wilbur and his best friend\, Charlotte the spider\, in this fun\, heartwarming re-telling of E.B. White’s classic story\, Charlotte’s Web. We’ve got dancing\, acting\, scenery-making\, and parts for everybody! ​Tuition: $385. Open to Students in Grades K-5 \nLocation for all classes: FUUSN – First Unitarian Universalist Society in Newton\n1326 Washington St\, Newton\, MA 02465 \nWe follow closings for all Newton Public school holidays and snow days. \nWe want theatre to be accessible to everyone.\nIf you are interested in learning more about Newton Theatre Kids scholarships\, please email Melissa.
URL:https://newtonculture.org/event/newton-theatre-kids-presents-fall-classes-charlottes-web/2021-09-16/
LOCATION:First Unitarian Universalist Society in Newton\, 1326 Washington St\, Newton\, MA\, 02465\, United States
CATEGORIES:Community Event,Culture and Education,Family Friendly,Performing Arts
ATTACH;FMTTYPE=image/png:https://newtonculture.org/wp-content/uploads/2021/06/1_orig.png
ORGANIZER;CN="Newton Theatre Company":MAILTO:info@newtontheatrecompany.com
END:VEVENT
BEGIN:VEVENT
DTSTART;TZID=America/New_York:20210916T183000
DTEND;TZID=America/New_York:20210916T200000
DTSTAMP:20260421T151841
CREATED:20210614T163818Z
LAST-MODIFIED:20210614T163818Z
UID:10019759-1631817000-1631822400@newtonculture.org
SUMMARY:Newton Theatre Kids presents: Fall Classes - Devising Ensemble
DESCRIPTION:Join NTK’s all new Devising Ensemble! Our first program for middle schoolers gives participants the opportunity to explore new forms of performance and hone their artistic skills\, all while creating an original piece of theatre as an ensemble. Specifically tailored to the interests of the students\, this class is an excellent opportunity for young performers to expand their artistic horizons and learn more about their craft. ​Open to Students in Grades 6-8. ​Tuition: $385 \nThursdays from 6:30-8 pm\nSeptember 9th through December 16th\n​Taught by Abby Lass \nLocation for all classes: FUUSN – First Unitarian Universalist Society in Newton\n1326 Washington St\, Newton\, MA 02465 \nWe follow closings for all Newton Public school holidays and snow days. \nWe want theatre to be accessible to everyone.\nIf you are interested in learning more about Newton Theatre Kids scholarships\, please email Melissa.
URL:https://newtonculture.org/event/newton-theatre-kids-presents-fall-classes-devising-ensemble/2021-09-16/
LOCATION:First Unitarian Universalist Society in Newton\, 1326 Washington St\, Newton\, MA\, 02465\, United States
CATEGORIES:Community Event,Culture and Education,Performing Arts
ATTACH;FMTTYPE=image/png:https://newtonculture.org/wp-content/uploads/2021/06/2_orig.png
ORGANIZER;CN="Newton Theatre Company":MAILTO:info@newtontheatrecompany.com
END:VEVENT
BEGIN:VEVENT
DTSTART;TZID=America/New_York:20210920T160000
DTEND;TZID=America/New_York:20210920T173000
DTSTAMP:20260421T151841
CREATED:20240205T221934Z
LAST-MODIFIED:20240205T221934Z
UID:10019729-1632153600-1632159000@newtonculture.org
SUMMARY:Newton Theatre Kids presents: Fall Classes - Charlotte's Web
DESCRIPTION:Join lovable pig Wilbur and his best friend\, Charlotte the spider\, in this fun\, heartwarming re-telling of E.B. White’s classic story\, Charlotte’s Web. We’ve got dancing\, acting\, scenery-making\, and parts for everybody! ​Tuition: $385. Open to Students in Grades K-5 \nLocation for all classes: FUUSN – First Unitarian Universalist Society in Newton\n1326 Washington St\, Newton\, MA 02465 \nWe follow closings for all Newton Public school holidays and snow days. \nWe want theatre to be accessible to everyone.\nIf you are interested in learning more about Newton Theatre Kids scholarships\, please email Melissa.
URL:https://newtonculture.org/event/newton-theatre-kids-presents-fall-classes-charlottes-web/2021-09-20/
LOCATION:First Unitarian Universalist Society in Newton\, 1326 Washington St\, Newton\, MA\, 02465\, United States
CATEGORIES:Community Event,Culture and Education,Family Friendly,Performing Arts
ATTACH;FMTTYPE=image/png:https://newtonculture.org/wp-content/uploads/2021/06/1_orig.png
ORGANIZER;CN="Newton Theatre Company":MAILTO:info@newtontheatrecompany.com
END:VEVENT
BEGIN:VEVENT
DTSTART;TZID=America/New_York:20210921T153000
DTEND;TZID=America/New_York:20210921T163000
DTSTAMP:20260421T151841
CREATED:20210916T142243Z
LAST-MODIFIED:20210916T142243Z
UID:10019894-1632238200-1632241800@newtonculture.org
SUMMARY:New Art Center presents: Let’s Put On A Play! – GR 3-5
DESCRIPTION:Children will explore theater games\, stories and shorter character pieces\, using imagination and creative skills\, in this exciting class. Have fun as you develop self confidence and showmanship while working with award winning actor and sought-after Boston drama teacher Danny Bolton. Many of you know Danny as New Art Center’s summer performance instructor since 2004. Click here to register.
URL:https://newtonculture.org/event/new-art-center-presents-lets-put-on-a-play-gr-3-5/2021-09-21/
LOCATION:Zoom
CATEGORIES:Community Event,Culture and Education,Family Friendly,Performing Arts
ATTACH;FMTTYPE=image/jpeg:https://newtonculture.org/wp-content/uploads/2021/09/CCF21860-scaled-1.jpg
ORGANIZER;CN="New Art Center":MAILTO:info@newartcenter.org
END:VEVENT
BEGIN:VEVENT
DTSTART;TZID=America/New_York:20210922T160000
DTEND;TZID=America/New_York:20210922T173000
DTSTAMP:20260421T151841
CREATED:20240205T221935Z
LAST-MODIFIED:20240205T221935Z
UID:10019742-1632326400-1632331800@newtonculture.org
SUMMARY:Newton Theatre Kids presents: Fall Classes - Charlotte's Web
DESCRIPTION:Join lovable pig Wilbur and his best friend\, Charlotte the spider\, in this fun\, heartwarming re-telling of E.B. White’s classic story\, Charlotte’s Web. We’ve got dancing\, acting\, scenery-making\, and parts for everybody! ​Tuition: $385. Open to Students in Grades K-5 \nLocation for all classes: FUUSN – First Unitarian Universalist Society in Newton\n1326 Washington St\, Newton\, MA 02465 \nWe follow closings for all Newton Public school holidays and snow days. \nWe want theatre to be accessible to everyone.\nIf you are interested in learning more about Newton Theatre Kids scholarships\, please email Melissa.
URL:https://newtonculture.org/event/newton-theatre-kids-presents-fall-classes-charlottes-web/2021-09-22/
LOCATION:First Unitarian Universalist Society in Newton\, 1326 Washington St\, Newton\, MA\, 02465\, United States
CATEGORIES:Community Event,Culture and Education,Family Friendly,Performing Arts
ATTACH;FMTTYPE=image/png:https://newtonculture.org/wp-content/uploads/2021/06/1_orig.png
ORGANIZER;CN="Newton Theatre Company":MAILTO:info@newtontheatrecompany.com
END:VEVENT
BEGIN:VEVENT
DTSTART;TZID=America/New_York:20210923T160000
DTEND;TZID=America/New_York:20210923T173000
DTSTAMP:20260421T151841
CREATED:20210614T163233Z
LAST-MODIFIED:20210614T163427Z
UID:10019716-1632412800-1632418200@newtonculture.org
SUMMARY:Newton Theatre Kids presents: Fall Classes - Charlotte's Web
DESCRIPTION:Join lovable pig Wilbur and his best friend\, Charlotte the spider\, in this fun\, heartwarming re-telling of E.B. White’s classic story\, Charlotte’s Web. We’ve got dancing\, acting\, scenery-making\, and parts for everybody! ​Tuition: $385. Open to Students in Grades K-5 \nLocation for all classes: FUUSN – First Unitarian Universalist Society in Newton\n1326 Washington St\, Newton\, MA 02465 \nWe follow closings for all Newton Public school holidays and snow days. \nWe want theatre to be accessible to everyone.\nIf you are interested in learning more about Newton Theatre Kids scholarships\, please email Melissa.
URL:https://newtonculture.org/event/newton-theatre-kids-presents-fall-classes-charlottes-web/2021-09-23/
LOCATION:First Unitarian Universalist Society in Newton\, 1326 Washington St\, Newton\, MA\, 02465\, United States
CATEGORIES:Community Event,Culture and Education,Family Friendly,Performing Arts
ATTACH;FMTTYPE=image/png:https://newtonculture.org/wp-content/uploads/2021/06/1_orig.png
ORGANIZER;CN="Newton Theatre Company":MAILTO:info@newtontheatrecompany.com
END:VEVENT
BEGIN:VEVENT
DTSTART;TZID=America/New_York:20210923T183000
DTEND;TZID=America/New_York:20210923T200000
DTSTAMP:20260421T151841
CREATED:20210614T163818Z
LAST-MODIFIED:20210614T163818Z
UID:10019760-1632421800-1632427200@newtonculture.org
SUMMARY:Newton Theatre Kids presents: Fall Classes - Devising Ensemble
DESCRIPTION:Join NTK’s all new Devising Ensemble! Our first program for middle schoolers gives participants the opportunity to explore new forms of performance and hone their artistic skills\, all while creating an original piece of theatre as an ensemble. Specifically tailored to the interests of the students\, this class is an excellent opportunity for young performers to expand their artistic horizons and learn more about their craft. ​Open to Students in Grades 6-8. ​Tuition: $385 \nThursdays from 6:30-8 pm\nSeptember 9th through December 16th\n​Taught by Abby Lass \nLocation for all classes: FUUSN – First Unitarian Universalist Society in Newton\n1326 Washington St\, Newton\, MA 02465 \nWe follow closings for all Newton Public school holidays and snow days. \nWe want theatre to be accessible to everyone.\nIf you are interested in learning more about Newton Theatre Kids scholarships\, please email Melissa.
URL:https://newtonculture.org/event/newton-theatre-kids-presents-fall-classes-devising-ensemble/2021-09-23/
LOCATION:First Unitarian Universalist Society in Newton\, 1326 Washington St\, Newton\, MA\, 02465\, United States
CATEGORIES:Community Event,Culture and Education,Performing Arts
ATTACH;FMTTYPE=image/png:https://newtonculture.org/wp-content/uploads/2021/06/2_orig.png
ORGANIZER;CN="Newton Theatre Company":MAILTO:info@newtontheatrecompany.com
END:VEVENT
BEGIN:VEVENT
DTSTART;TZID=America/New_York:20210925T123000
DTEND;TZID=America/New_York:20210925T140000
DTSTAMP:20260421T151841
CREATED:20210629T164354Z
LAST-MODIFIED:20210629T164354Z
UID:10019790-1632573000-1632578400@newtonculture.org
SUMMARY:New Art Center presents: Xscape Into Comix
DESCRIPTION:Craft your reality in the world of comics and sequential storytelling with cartoonist LJ-Baptiste! Learn the tools of the trade for making your own cast of characters\, stories\, and gags! In this workshop for grades 3-5\, we focus on the art of crafting original character-driven comics and cartoons\, while also studying the work of pros in graphic novels\, newspaper comics\, and manga!! Click here to register. \nDates: 9/25 – 10/16\nDetails: Saturday\nTimes: 12:30 PM – 2:00 PM
URL:https://newtonculture.org/event/new-art-center-presents-xscape-into-comix/2021-09-25/
LOCATION:ONLINE\, United Kingdom\, E16 2DQ
CATEGORIES:Art,Culture and Education
ATTACH;FMTTYPE=image/jpeg:https://newtonculture.org/wp-content/uploads/2021/06/CWF21101-scaled-1.jpg
ORGANIZER;CN="New Art Center":MAILTO:info@newartcenter.org
END:VEVENT
BEGIN:VEVENT
DTSTART;TZID=America/New_York:20210927T160000
DTEND;TZID=America/New_York:20210927T173000
DTSTAMP:20260421T151841
CREATED:20240205T221934Z
LAST-MODIFIED:20240205T221934Z
UID:10019730-1632758400-1632763800@newtonculture.org
SUMMARY:Newton Theatre Kids presents: Fall Classes - Charlotte's Web
DESCRIPTION:Join lovable pig Wilbur and his best friend\, Charlotte the spider\, in this fun\, heartwarming re-telling of E.B. White’s classic story\, Charlotte’s Web. We’ve got dancing\, acting\, scenery-making\, and parts for everybody! ​Tuition: $385. Open to Students in Grades K-5 \nLocation for all classes: FUUSN – First Unitarian Universalist Society in Newton\n1326 Washington St\, Newton\, MA 02465 \nWe follow closings for all Newton Public school holidays and snow days. \nWe want theatre to be accessible to everyone.\nIf you are interested in learning more about Newton Theatre Kids scholarships\, please email Melissa.
URL:https://newtonculture.org/event/newton-theatre-kids-presents-fall-classes-charlottes-web/2021-09-27/
LOCATION:First Unitarian Universalist Society in Newton\, 1326 Washington St\, Newton\, MA\, 02465\, United States
CATEGORIES:Community Event,Culture and Education,Family Friendly,Performing Arts
ATTACH;FMTTYPE=image/png:https://newtonculture.org/wp-content/uploads/2021/06/1_orig.png
ORGANIZER;CN="Newton Theatre Company":MAILTO:info@newtontheatrecompany.com
END:VEVENT
BEGIN:VEVENT
DTSTART;TZID=America/New_York:20210928T153000
DTEND;TZID=America/New_York:20210928T163000
DTSTAMP:20260421T151841
CREATED:20210916T142243Z
LAST-MODIFIED:20210916T142243Z
UID:10019895-1632843000-1632846600@newtonculture.org
SUMMARY:New Art Center presents: Let’s Put On A Play! – GR 3-5
DESCRIPTION:Children will explore theater games\, stories and shorter character pieces\, using imagination and creative skills\, in this exciting class. Have fun as you develop self confidence and showmanship while working with award winning actor and sought-after Boston drama teacher Danny Bolton. Many of you know Danny as New Art Center’s summer performance instructor since 2004. Click here to register.
URL:https://newtonculture.org/event/new-art-center-presents-lets-put-on-a-play-gr-3-5/2021-09-28/
LOCATION:Zoom
CATEGORIES:Community Event,Culture and Education,Family Friendly,Performing Arts
ATTACH;FMTTYPE=image/jpeg:https://newtonculture.org/wp-content/uploads/2021/09/CCF21860-scaled-1.jpg
ORGANIZER;CN="New Art Center":MAILTO:info@newartcenter.org
END:VEVENT
BEGIN:VEVENT
DTSTART;TZID=America/New_York:20210929T160000
DTEND;TZID=America/New_York:20210929T173000
DTSTAMP:20260421T151841
CREATED:20240205T221935Z
LAST-MODIFIED:20240205T221935Z
UID:10019743-1632931200-1632936600@newtonculture.org
SUMMARY:Newton Theatre Kids presents: Fall Classes - Charlotte's Web
DESCRIPTION:Join lovable pig Wilbur and his best friend\, Charlotte the spider\, in this fun\, heartwarming re-telling of E.B. White’s classic story\, Charlotte’s Web. We’ve got dancing\, acting\, scenery-making\, and parts for everybody! ​Tuition: $385. Open to Students in Grades K-5 \nLocation for all classes: FUUSN – First Unitarian Universalist Society in Newton\n1326 Washington St\, Newton\, MA 02465 \nWe follow closings for all Newton Public school holidays and snow days. \nWe want theatre to be accessible to everyone.\nIf you are interested in learning more about Newton Theatre Kids scholarships\, please email Melissa.
URL:https://newtonculture.org/event/newton-theatre-kids-presents-fall-classes-charlottes-web/2021-09-29/
LOCATION:First Unitarian Universalist Society in Newton\, 1326 Washington St\, Newton\, MA\, 02465\, United States
CATEGORIES:Community Event,Culture and Education,Family Friendly,Performing Arts
ATTACH;FMTTYPE=image/png:https://newtonculture.org/wp-content/uploads/2021/06/1_orig.png
ORGANIZER;CN="Newton Theatre Company":MAILTO:info@newtontheatrecompany.com
END:VEVENT
BEGIN:VEVENT
DTSTART;TZID=America/New_York:20210930T160000
DTEND;TZID=America/New_York:20210930T173000
DTSTAMP:20260421T151841
CREATED:20210614T163233Z
LAST-MODIFIED:20210614T163427Z
UID:10019717-1633017600-1633023000@newtonculture.org
SUMMARY:Newton Theatre Kids presents: Fall Classes - Charlotte's Web
DESCRIPTION:Join lovable pig Wilbur and his best friend\, Charlotte the spider\, in this fun\, heartwarming re-telling of E.B. White’s classic story\, Charlotte’s Web. We’ve got dancing\, acting\, scenery-making\, and parts for everybody! ​Tuition: $385. Open to Students in Grades K-5 \nLocation for all classes: FUUSN – First Unitarian Universalist Society in Newton\n1326 Washington St\, Newton\, MA 02465 \nWe follow closings for all Newton Public school holidays and snow days. \nWe want theatre to be accessible to everyone.\nIf you are interested in learning more about Newton Theatre Kids scholarships\, please email Melissa.
URL:https://newtonculture.org/event/newton-theatre-kids-presents-fall-classes-charlottes-web/2021-09-30/
LOCATION:First Unitarian Universalist Society in Newton\, 1326 Washington St\, Newton\, MA\, 02465\, United States
CATEGORIES:Community Event,Culture and Education,Family Friendly,Performing Arts
ATTACH;FMTTYPE=image/png:https://newtonculture.org/wp-content/uploads/2021/06/1_orig.png
ORGANIZER;CN="Newton Theatre Company":MAILTO:info@newtontheatrecompany.com
END:VEVENT
BEGIN:VEVENT
DTSTART;TZID=America/New_York:20210930T183000
DTEND;TZID=America/New_York:20210930T200000
DTSTAMP:20260421T151841
CREATED:20210614T163818Z
LAST-MODIFIED:20210614T163818Z
UID:10019761-1633026600-1633032000@newtonculture.org
SUMMARY:Newton Theatre Kids presents: Fall Classes - Devising Ensemble
DESCRIPTION:Join NTK’s all new Devising Ensemble! Our first program for middle schoolers gives participants the opportunity to explore new forms of performance and hone their artistic skills\, all while creating an original piece of theatre as an ensemble. Specifically tailored to the interests of the students\, this class is an excellent opportunity for young performers to expand their artistic horizons and learn more about their craft. ​Open to Students in Grades 6-8. ​Tuition: $385 \nThursdays from 6:30-8 pm\nSeptember 9th through December 16th\n​Taught by Abby Lass \nLocation for all classes: FUUSN – First Unitarian Universalist Society in Newton\n1326 Washington St\, Newton\, MA 02465 \nWe follow closings for all Newton Public school holidays and snow days. \nWe want theatre to be accessible to everyone.\nIf you are interested in learning more about Newton Theatre Kids scholarships\, please email Melissa.
URL:https://newtonculture.org/event/newton-theatre-kids-presents-fall-classes-devising-ensemble/2021-09-30/
LOCATION:First Unitarian Universalist Society in Newton\, 1326 Washington St\, Newton\, MA\, 02465\, United States
CATEGORIES:Community Event,Culture and Education,Performing Arts
ATTACH;FMTTYPE=image/png:https://newtonculture.org/wp-content/uploads/2021/06/2_orig.png
ORGANIZER;CN="Newton Theatre Company":MAILTO:info@newtontheatrecompany.com
END:VEVENT
END:VCALENDAR