BEGIN:VCALENDAR
VERSION:2.0
PRODID:-//Newton Cultural Alliance - ECPv6.13.2.1//NONSGML v1.0//EN
CALSCALE:GREGORIAN
METHOD:PUBLISH
X-WR-CALNAME:Newton Cultural Alliance
X-ORIGINAL-URL:https://newtonculture.org
X-WR-CALDESC:Events for Newton Cultural Alliance
REFRESH-INTERVAL;VALUE=DURATION:PT1H
X-Robots-Tag:noindex
X-PUBLISHED-TTL:PT1H
BEGIN:VTIMEZONE
TZID:America/New_York
BEGIN:DAYLIGHT
TZOFFSETFROM:-0500
TZOFFSETTO:-0400
TZNAME:EDT
DTSTART:20240310T070000
END:DAYLIGHT
BEGIN:STANDARD
TZOFFSETFROM:-0400
TZOFFSETTO:-0500
TZNAME:EST
DTSTART:20241103T060000
END:STANDARD
END:VTIMEZONE
BEGIN:VEVENT
DTSTART;TZID=America/New_York:20240203T100000
DTEND;TZID=America/New_York:20240203T170000
DTSTAMP:20260419T152329
CREATED:20240205T150925Z
LAST-MODIFIED:20240205T150925Z
UID:10020971-1706954400-1706979600@newtonculture.org
SUMMARY:Free Museum Day
DESCRIPTION:Admission to the Durant-Kenrick House and Grounds is free to all visitors today as part of Community Weekend. The Jackson Homestead is closed today but admission there is free on Sunday\, February 4.
URL:https://newtonculture.org/event/free-museum-day-2/
LOCATION:Durant-Kenrick House and Grounds\, 286 Waverley Ave\,\, Newton\, MA\, 02458
CATEGORIES:Community Event,Culture and Education,Family Friendly,Free Event
ATTACH;FMTTYPE=image/png:https://newtonculture.org/wp-content/uploads/2024/02/durant-kenrick-free-weekend.png
END:VEVENT
BEGIN:VEVENT
DTSTART;TZID=America/New_York:20240204T100000
DTEND;TZID=America/New_York:20240204T170000
DTSTAMP:20260419T152329
CREATED:20240205T150755Z
LAST-MODIFIED:20240205T150755Z
UID:10020969-1707040800-1707066000@newtonculture.org
SUMMARY:Free Museum Day
DESCRIPTION:Admission to the Jackson Homestead is free to all visitors today as part of Community Weekend. The Durant-Kenrick House and Grounds is closed today.
URL:https://newtonculture.org/event/free-museum-day/
LOCATION:Jackson Homestead and Museum\, 527 Washington St\, Newton\, MA\, 02458\, United States
CATEGORIES:Community Event,Culture and Education,Family Friendly,Free Event
ATTACH;FMTTYPE=image/png:https://newtonculture.org/wp-content/uploads/2024/02/jackson-homestead-free-weekend-1.png
END:VEVENT
BEGIN:VEVENT
DTSTART;TZID=America/New_York:20240204T100000
DTEND;TZID=America/New_York:20240204T170000
DTSTAMP:20260419T152329
CREATED:20240226T151110Z
LAST-MODIFIED:20240226T151110Z
UID:10015882-1707040800-1707066000@newtonculture.org
SUMMARY:Free Museum Day
DESCRIPTION:Admission to the Jackson Homestead is free to all visitors today as part of Community Weekend. The Durant-Kenrick House and Grounds is closed today.
URL:https://newtonculture.org/event/free-museum-day-3/
LOCATION:Jackson Homestead and Museum\, 527 Washington St\, Newton\, MA\, 02458\, United States
CATEGORIES:Community Event,Culture and Education,Family Friendly,Free Event
ATTACH;FMTTYPE=image/png:https://newtonculture.org/wp-content/uploads/2024/02/jackson-homestead-free-weekend.png
END:VEVENT
BEGIN:VEVENT
DTSTART;TZID=America/New_York:20240211T140000
DTEND;TZID=America/New_York:20240211T160000
DTSTAMP:20260419T152329
CREATED:20240205T150832Z
LAST-MODIFIED:20240205T150832Z
UID:10020970-1707660000-1707667200@newtonculture.org
SUMMARY:Vintage Valentines
DESCRIPTION:Looking for a family activity for Valentine’s Day? Come craft the perfect valentine at our heartwarming event! Join us for a fun-filled workshop where you can express your creativity together. Create personalized Valentine’s Day cards using materials inspired by our collection. This workshop is the perfect opportunity to bond with family members and spread love in a unique way!
URL:https://newtonculture.org/event/vintage-valentines/
LOCATION:Durant-Kenrick House and Grounds\, 286 Waverley Ave\,\, Newton\, MA\, 02458
CATEGORIES:Art,Family Friendly,Visual Arts
ATTACH;FMTTYPE=image/png:https://newtonculture.org/wp-content/uploads/2024/02/vintage-valentines.png
END:VEVENT
END:VCALENDAR