BEGIN:VCALENDAR
VERSION:2.0
PRODID:-//Newton Cultural Alliance - ECPv6.13.2.1//NONSGML v1.0//EN
CALSCALE:GREGORIAN
METHOD:PUBLISH
X-ORIGINAL-URL:https://newtonculture.org
X-WR-CALDESC:Events for Newton Cultural Alliance
REFRESH-INTERVAL;VALUE=DURATION:PT1H
X-Robots-Tag:noindex
X-PUBLISHED-TTL:PT1H
BEGIN:VTIMEZONE
TZID:America/New_York
BEGIN:DAYLIGHT
TZOFFSETFROM:-0500
TZOFFSETTO:-0400
TZNAME:EDT
DTSTART:20200308T070000
END:DAYLIGHT
BEGIN:STANDARD
TZOFFSETFROM:-0400
TZOFFSETTO:-0500
TZNAME:EST
DTSTART:20201101T060000
END:STANDARD
END:VTIMEZONE
BEGIN:VEVENT
DTSTART;TZID=America/New_York:20200720T090000
DTEND;TZID=America/New_York:20200720T190000
DTSTAMP:20260425T113121
CREATED:20200713T203814Z
LAST-MODIFIED:20200713T203814Z
UID:10018080-1595235600-1595271600@newtonculture.org
SUMMARY:All Newton Music School presents: Virtual Music Explorers Summer Camp
DESCRIPTION:Music Explorers Summer Camp-in-a-Box is a music and arts summer camp for children from 5 to 9 years old. \nWe have reimagined courses in music\, theater\, movement\, and visual arts to engage with your child through distance learning and enrichment activities. Musical instruments\, art and activity supplies\, and games are all included in your Camp-in-a-Box. \nYounger campers have more guidance and supervision from counselors and educators when exploring music\, theater\, and art. Older campers dive deeper into music study and take on more significant roles in the online musical showcase. \nEveryone will have fun during our new ‘Lunchtime Social Hangouts’ and ‘campfire’ chats\, allowing campers to bond with their new friends and counselors. \nTo learn more\, and to register\, click here.
URL:https://newtonculture.org/event/all-newton-music-school-presents-virtual-music-explorers-summer-camp/2020-07-20/
LOCATION:ONLINE\, United Kingdom\, E16 2DQ
CATEGORIES:Art,Culture and Education,Family Friendly,Music
ATTACH;FMTTYPE=image/png:https://newtonculture.org/wp-content/uploads/2020/07/ScreenShot2020-05-15at9.41.51AM-e1594672665774.png
END:VEVENT
END:VCALENDAR