BEGIN:VCALENDAR
VERSION:2.0
PRODID:-//Newton Cultural Alliance - ECPv6.13.2.1//NONSGML v1.0//EN
CALSCALE:GREGORIAN
METHOD:PUBLISH
X-WR-CALNAME:Newton Cultural Alliance
X-ORIGINAL-URL:https://newtonculture.org
X-WR-CALDESC:Events for Newton Cultural Alliance
REFRESH-INTERVAL;VALUE=DURATION:PT1H
X-Robots-Tag:noindex
X-PUBLISHED-TTL:PT1H
BEGIN:VTIMEZONE
TZID:America/New_York
BEGIN:DAYLIGHT
TZOFFSETFROM:-0500
TZOFFSETTO:-0400
TZNAME:EDT
DTSTART:20200308T070000
END:DAYLIGHT
BEGIN:STANDARD
TZOFFSETFROM:-0400
TZOFFSETTO:-0500
TZNAME:EST
DTSTART:20201101T060000
END:STANDARD
END:VTIMEZONE
BEGIN:VEVENT
DTSTART;TZID=America/New_York:20200819T090000
DTEND;TZID=America/New_York:20200819T160000
DTSTAMP:20260424T205637
CREATED:20200804T161448Z
LAST-MODIFIED:20200804T161448Z
UID:10018940-1597827600-1597852800@newtonculture.org
SUMMARY:Suzuki School of Newton presents: Fiddle Pal Camp from Home
DESCRIPTION:Suzuki School of Newton invites you to join their Fiddle Pal Camp for students age 9 and up. From August 17-21\, there will be live online gatherings with prepared lessons and live instruction on AmericanFiddleMethod.com. \nOur fantastic and fun fiddle camp that we put on with Brian Wicklund is still happening this summer with a five-day session in August. Fiddle Pal Camp From Home provides a fun environment for students to discover\, learn\, and play a diverse range of styles\, including Bluegrass\, Scottish\, Jazz\, Appalachian\, Irish\, and Blues. Campers will attend a live morning all-camp round-up before splitting off to work with prepared lessons taught by Fiddle Camp instructors. The camp culminates with a video recital and recording project. \nFor enrollment information\, pricing\, and more details\, head on over to the American Fiddle Method site and registration page. \n 
URL:https://newtonculture.org/event/suzuki-school-of-newton-presents-fiddle-pal-camp-from-home/2020-08-19/
LOCATION:ONLINE\, United Kingdom\, E16 2DQ
CATEGORIES:Culture and Education,Music
ATTACH;FMTTYPE=image/png:https://newtonculture.org/wp-content/uploads/2019/11/Logos-500px-5-suzuki.png
ORGANIZER;CN="Suzuki School of Newton":MAILTO:email@suzukinewton.org
END:VEVENT
END:VCALENDAR