BEGIN:VCALENDAR
VERSION:2.0
PRODID:-//Newton Cultural Alliance - ECPv6.13.2.1//NONSGML v1.0//EN
CALSCALE:GREGORIAN
METHOD:PUBLISH
X-ORIGINAL-URL:https://newtonculture.org
X-WR-CALDESC:Events for Newton Cultural Alliance
REFRESH-INTERVAL;VALUE=DURATION:PT1H
X-Robots-Tag:noindex
X-PUBLISHED-TTL:PT1H
BEGIN:VTIMEZONE
TZID:America/New_York
BEGIN:DAYLIGHT
TZOFFSETFROM:-0500
TZOFFSETTO:-0400
TZNAME:EDT
DTSTART:20200308T070000
END:DAYLIGHT
BEGIN:STANDARD
TZOFFSETFROM:-0400
TZOFFSETTO:-0500
TZNAME:EST
DTSTART:20201101T060000
END:STANDARD
END:VTIMEZONE
BEGIN:VEVENT
DTSTART;TZID=America/New_York:20201021T190000
DTEND;TZID=America/New_York:20201021T200000
DTSTAMP:20260424T164056
CREATED:20201001T135533Z
LAST-MODIFIED:20201001T135533Z
UID:10019259-1603306800-1603310400@newtonculture.org
SUMMARY:Newton Free Library online: "New Kid" Trivia!
DESCRIPTION:Come join the fun and test your mastery of New Kid by Jerry Craft. This is a lead-up event to our author visit with Jerry Craft on 10/28. Library staff will challenge players with questions from a variety of categories on Zoom. No restrictions on team size. One registration per team.  The Zoom link will be sent out the day of the event. This event is kids\, tweens\, teens and their families.  \n\nRelated LibGuide: Anti-Racism Booklist and Resource Guide by Matt Hendrick
URL:https://newtonculture.org/event/newton-free-library-online-new-kid-trivia/
LOCATION:ONLINE\, United Kingdom\, E16 2DQ
CATEGORIES:Community Event,Family Friendly,Literary Arts
ATTACH;FMTTYPE=image/jpeg:https://newtonculture.org/wp-content/uploads/2020/10/1600099255.jpg
ORGANIZER;CN="Newton Free Library":MAILTO:admin@newtonfreelibrary.net
END:VEVENT
END:VCALENDAR