BEGIN:VCALENDAR
VERSION:2.0
PRODID:-//Newton Cultural Alliance - ECPv6.13.2.1//NONSGML v1.0//EN
CALSCALE:GREGORIAN
METHOD:PUBLISH
X-WR-CALNAME:Newton Cultural Alliance
X-ORIGINAL-URL:https://newtonculture.org
X-WR-CALDESC:Events for Newton Cultural Alliance
REFRESH-INTERVAL;VALUE=DURATION:PT1H
X-Robots-Tag:noindex
X-PUBLISHED-TTL:PT1H
BEGIN:VTIMEZONE
TZID:America/New_York
BEGIN:DAYLIGHT
TZOFFSETFROM:-0500
TZOFFSETTO:-0400
TZNAME:EDT
DTSTART:20200308T070000
END:DAYLIGHT
BEGIN:STANDARD
TZOFFSETFROM:-0400
TZOFFSETTO:-0500
TZNAME:EST
DTSTART:20201101T060000
END:STANDARD
END:VTIMEZONE
BEGIN:VEVENT
DTSTART;TZID=America/New_York:20201107T080000
DTEND;TZID=America/New_York:20201107T170000
DTSTAMP:20260424T104728
CREATED:20201023T145227Z
LAST-MODIFIED:20201023T145227Z
UID:10018463-1604736000-1604768400@newtonculture.org
SUMMARY:Newton Theatre Kids presents: Fall Workshop Series
DESCRIPTION:Newton Theatre Kids is proud to present our Fall Workshop Series! These one-time-only virtual workshops are the perfect opportunity for the young performers in your life to experiment with new types of theatre\, connect with peers\, and flex their creative muscles. With topics ranging from Shakespeare to Musical Theatre to 10 Minute Plays and classes available for students in grades 2-12\, we are thrilled to continue providing a variety of outlets to engage your children! \nTo learn more about each workshop and to register\, click here.
URL:https://newtonculture.org/event/newton-theatre-kids-presents-fall-workshop-series/2020-11-07/
LOCATION:ONLINE\, United Kingdom\, E16 2DQ
CATEGORIES:Culture and Education,Performing Arts
ATTACH;FMTTYPE=image/png:https://newtonculture.org/wp-content/uploads/2020/10/newton-theatre-kids-summer-intensive-series-5_orig.png
ORGANIZER;CN="Newton Theatre Company":MAILTO:info@newtontheatrecompany.com
END:VEVENT
BEGIN:VEVENT
DTSTART;TZID=America/New_York:20201107T134500
DTEND;TZID=America/New_York:20201107T143000
DTSTAMP:20260424T104728
CREATED:20200826T195622Z
LAST-MODIFIED:20201001T153407Z
UID:10019119-1604756700-1604759400@newtonculture.org
SUMMARY:All Newton Music School: Broadway Bound Online Class
DESCRIPTION:Actors will spend the Semester creating and exploring imaginative characters\, learning choreography\, and proper singing technique with director\, composer\, and playwright Kelvyn Koning; an experienced musical theatre educator. \nBroadway Bound will allow each actor to sing\, dance\, deliver lines\, and be part of a virtual theatrical ensemble which builds presence and self-confidence. \nCreative and engaging instructor Mr. Kelvyn will work with the young actors ideas to compose original music and scenes for each class as they prepare a virtual world premiere production! \nBefore filming\, the student will be provided with a Broadway Bound “Backstage” Box with all the costume pieces and props needed to film their scenes\, songs\, and choreography with flair! \nClick here for registration. \nAges 5-7 years\nSept. 12 to Jan. 16 – Saturdays: 1:00 – 1:45 pm \nAges 8-10 years\nSept. 10 to Jan. 7  – Thursday: 5:00 – 5:45 pm\nSept. 12 to Jan. 16 – Saturday: 1:45 – 2:30 pm
URL:https://newtonculture.org/event/all-newton-music-school-broadway-bound-online-class-3/2020-11-07/
LOCATION:ONLINE\, United Kingdom\, E16 2DQ
CATEGORIES:Culture and Education,Family Friendly,Music,Performing Arts
ATTACH;FMTTYPE=image/png:https://newtonculture.org/wp-content/uploads/2020/08/ScreenShot2020-08-11at7.03.56PM.png
END:VEVENT
END:VCALENDAR