BEGIN:VCALENDAR
VERSION:2.0
PRODID:-//Newton Cultural Alliance - ECPv6.13.2.1//NONSGML v1.0//EN
CALSCALE:GREGORIAN
METHOD:PUBLISH
X-WR-CALNAME:Newton Cultural Alliance
X-ORIGINAL-URL:https://newtonculture.org
X-WR-CALDESC:Events for Newton Cultural Alliance
REFRESH-INTERVAL;VALUE=DURATION:PT1H
X-Robots-Tag:noindex
X-PUBLISHED-TTL:PT1H
BEGIN:VTIMEZONE
TZID:America/New_York
BEGIN:DAYLIGHT
TZOFFSETFROM:-0500
TZOFFSETTO:-0400
TZNAME:EDT
DTSTART:20200308T070000
END:DAYLIGHT
BEGIN:STANDARD
TZOFFSETFROM:-0400
TZOFFSETTO:-0500
TZNAME:EST
DTSTART:20201101T060000
END:STANDARD
END:VTIMEZONE
BEGIN:VEVENT
DTSTART;TZID=America/New_York:20201220T080000
DTEND;TZID=America/New_York:20201220T170000
DTSTAMP:20260424T090451
CREATED:20201023T145227Z
LAST-MODIFIED:20201023T145227Z
UID:10018471-1608451200-1608483600@newtonculture.org
SUMMARY:Newton Theatre Kids presents: Fall Workshop Series
DESCRIPTION:Newton Theatre Kids is proud to present our Fall Workshop Series! These one-time-only virtual workshops are the perfect opportunity for the young performers in your life to experiment with new types of theatre\, connect with peers\, and flex their creative muscles. With topics ranging from Shakespeare to Musical Theatre to 10 Minute Plays and classes available for students in grades 2-12\, we are thrilled to continue providing a variety of outlets to engage your children! \nTo learn more about each workshop and to register\, click here.
URL:https://newtonculture.org/event/newton-theatre-kids-presents-fall-workshop-series/2020-12-20/
LOCATION:ONLINE\, United Kingdom\, E16 2DQ
CATEGORIES:Culture and Education,Performing Arts
ATTACH;FMTTYPE=image/png:https://newtonculture.org/wp-content/uploads/2020/10/newton-theatre-kids-summer-intensive-series-5_orig.png
ORGANIZER;CN="Newton Theatre Company":MAILTO:info@newtontheatrecompany.com
END:VEVENT
END:VCALENDAR