BEGIN:VCALENDAR
VERSION:2.0
PRODID:-//Newton Cultural Alliance - ECPv6.13.2.1//NONSGML v1.0//EN
CALSCALE:GREGORIAN
METHOD:PUBLISH
X-ORIGINAL-URL:https://newtonculture.org
X-WR-CALDESC:Events for Newton Cultural Alliance
REFRESH-INTERVAL;VALUE=DURATION:PT1H
X-Robots-Tag:noindex
X-PUBLISHED-TTL:PT1H
BEGIN:VTIMEZONE
TZID:America/New_York
BEGIN:DAYLIGHT
TZOFFSETFROM:-0500
TZOFFSETTO:-0400
TZNAME:EDT
DTSTART:20210314T070000
END:DAYLIGHT
BEGIN:STANDARD
TZOFFSETFROM:-0400
TZOFFSETTO:-0500
TZNAME:EST
DTSTART:20211107T060000
END:STANDARD
END:VTIMEZONE
BEGIN:VEVENT
DTSTART;VALUE=DATE:20210522
DTEND;VALUE=DATE:20210523
DTSTAMP:20260422T011535
CREATED:20210223T164709Z
LAST-MODIFIED:20210518T143207Z
UID:10019454-1621641600-1621727999@newtonculture.org
SUMMARY:All Newton Music School presents: Music in May
DESCRIPTION:Music in May is our annual all-day recital and performance festival. Students perform with their teacher-specific recital or class. Everyone has a chance to buy tickets to win great prizes in our basket raffle. \nThis year\, on Saturday\, May 22nd\, the ANMS website will transform into our Virtual Music in May featuring recitals\, music theater performances\, raffles\, and our Emerging Artists Ceremony.  Click here for more information.
URL:https://newtonculture.org/event/all-newton-music-school-presents-music-in-may/
LOCATION:ONLINE\, United Kingdom\, E16 2DQ
CATEGORIES:Community Event,Music
ATTACH;FMTTYPE=image/png:https://newtonculture.org/wp-content/uploads/2021/02/music-in-may.png
END:VEVENT
END:VCALENDAR