BEGIN:VCALENDAR
VERSION:2.0
PRODID:-//Newton Cultural Alliance - ECPv6.13.2.1//NONSGML v1.0//EN
CALSCALE:GREGORIAN
METHOD:PUBLISH
X-ORIGINAL-URL:https://newtonculture.org
X-WR-CALDESC:Events for Newton Cultural Alliance
REFRESH-INTERVAL;VALUE=DURATION:PT1H
X-Robots-Tag:noindex
X-PUBLISHED-TTL:PT1H
BEGIN:VTIMEZONE
TZID:America/New_York
BEGIN:DAYLIGHT
TZOFFSETFROM:-0500
TZOFFSETTO:-0400
TZNAME:EDT
DTSTART:20210314T070000
END:DAYLIGHT
BEGIN:STANDARD
TZOFFSETFROM:-0400
TZOFFSETTO:-0500
TZNAME:EST
DTSTART:20211107T060000
END:STANDARD
END:VTIMEZONE
BEGIN:VEVENT
DTSTART;TZID=America/New_York:20210623T110000
DTEND;TZID=America/New_York:20210623T113000
DTSTAMP:20260422T040121
CREATED:20210608T151041Z
LAST-MODIFIED:20210608T151041Z
UID:10019686-1624446000-1624447800@newtonculture.org
SUMMARY:Newton Free Library presents: Matt Heaton Family Singalong - Live!
DESCRIPTION:Welcome to our first live event of the summer! Matt Heaton brings an infectious energy to his sing alongs. Peppered with well known classics and a few soon-to-be classics\, and performed with panache on guitar & banjo\, Matt makes music for parents and kids alike. This concert will take place at the Hyde Bandstand and Playground. Please register if you would like to receive a zoom link to the virtual performance in case of rain.This event is taking place on public grounds and does not require registration. \nYour Friends’ membership made this program possible. Join us! friends@newtonfreelibrary.net. \nA big thank you to the Hyde Community Center for helping organize this event and working with us to use the space. Additional thanks to The Newton Parks\, Recreation and Culture Department.
URL:https://newtonculture.org/event/newton-free-library-presents-matt-heaton-family-singalong-live/
LOCATION:Hyde Bandshell\, 90 Lincoln Street\, Newton\, MA\, 02461\, United States
CATEGORIES:Family Friendly,Music
ATTACH;FMTTYPE=image/jpeg:https://newtonculture.org/wp-content/uploads/2021/06/matt_heaton.jpeg
ORGANIZER;CN="Newton Free Library":MAILTO:admin@newtonfreelibrary.net
END:VEVENT
END:VCALENDAR