BEGIN:VCALENDAR
VERSION:2.0
PRODID:-//Newton Cultural Alliance - ECPv6.13.2.1//NONSGML v1.0//EN
CALSCALE:GREGORIAN
METHOD:PUBLISH
X-WR-CALNAME:Newton Cultural Alliance
X-ORIGINAL-URL:https://newtonculture.org
X-WR-CALDESC:Events for Newton Cultural Alliance
REFRESH-INTERVAL;VALUE=DURATION:PT1H
X-Robots-Tag:noindex
X-PUBLISHED-TTL:PT1H
BEGIN:VTIMEZONE
TZID:America/New_York
BEGIN:DAYLIGHT
TZOFFSETFROM:-0500
TZOFFSETTO:-0400
TZNAME:EDT
DTSTART:20210314T070000
END:DAYLIGHT
BEGIN:STANDARD
TZOFFSETFROM:-0400
TZOFFSETTO:-0500
TZNAME:EST
DTSTART:20211107T060000
END:STANDARD
END:VTIMEZONE
BEGIN:VEVENT
DTSTART;TZID=America/New_York:20210818T183000
DTEND;TZID=America/New_York:20210818T200000
DTSTAMP:20260421T210607
CREATED:20210730T140732Z
LAST-MODIFIED:20210802T142543Z
UID:10019853-1629311400-1629316800@newtonculture.org
SUMMARY:Newton Free Library's End of Summer Celebration - Minute to Win It!
DESCRIPTION:Celebrate the end of our Tails & Tails summer with space themed Minute To Win It games and ice cream! The idea is to complete challenges in under a minute using simple\, everyday items. Meet us in the Teen Area to head outside for fun and ice cream! For tweens and teens entering grades 6-12.
URL:https://newtonculture.org/event/newton-free-librarys-end-of-summer-celebration-minute-to-win-it/
LOCATION:Newton Free Library\, 330 Homer St\, Newton\, MA\, 02459\, United States
CATEGORIES:Community Event,Family Friendly,Free Event
ATTACH;FMTTYPE=image/jpeg:https://newtonculture.org/wp-content/uploads/2021/07/1624582798.jpg
ORGANIZER;CN="Newton Free Library":MAILTO:admin@newtonfreelibrary.net
END:VEVENT
END:VCALENDAR