BEGIN:VCALENDAR
VERSION:2.0
PRODID:-//Newton Cultural Alliance - ECPv6.13.2.1//NONSGML v1.0//EN
CALSCALE:GREGORIAN
METHOD:PUBLISH
X-WR-CALNAME:Newton Cultural Alliance
X-ORIGINAL-URL:https://newtonculture.org
X-WR-CALDESC:Events for Newton Cultural Alliance
REFRESH-INTERVAL;VALUE=DURATION:PT1H
X-Robots-Tag:noindex
X-PUBLISHED-TTL:PT1H
BEGIN:VTIMEZONE
TZID:America/New_York
BEGIN:DAYLIGHT
TZOFFSETFROM:-0500
TZOFFSETTO:-0400
TZNAME:EDT
DTSTART:20210314T070000
END:DAYLIGHT
BEGIN:STANDARD
TZOFFSETFROM:-0400
TZOFFSETTO:-0500
TZNAME:EST
DTSTART:20211107T060000
END:STANDARD
END:VTIMEZONE
BEGIN:VEVENT
DTSTART;TZID=America/New_York:20210824T190000
DTEND;TZID=America/New_York:20210824T200000
DTSTAMP:20260421T210609
CREATED:20210816T144604Z
LAST-MODIFIED:20210816T144604Z
UID:10019870-1629831600-1629835200@newtonculture.org
SUMMARY:Newton Free Library presents: Graphic Novel Trivia for Kids and Families
DESCRIPTION:Can’t get enough of Dogman\, Lunch Lady\, or Narwhal and Jelly?  Come to our Graphic Novel Trivia night just for kids and their families! No restrictions on team size. One registration per team.  A reminder email and the Zoom link will be sent out the day before the event. Registration is required and will close on August 23 at 7:00pm.
URL:https://newtonculture.org/event/newton-free-library-presents-graphic-novel-trivia-for-kids-and-families/
LOCATION:ONLINE\, United Kingdom\, E16 2DQ
CATEGORIES:Community Event,Culture and Education,Family Friendly,Literary Arts
ATTACH;FMTTYPE=image/png:https://newtonculture.org/wp-content/uploads/2019/11/Logos-500px-10-newtonlib-e1578597870408.png
ORGANIZER;CN="Newton Free Library":MAILTO:admin@newtonfreelibrary.net
END:VEVENT
END:VCALENDAR