BEGIN:VCALENDAR
VERSION:2.0
PRODID:-//Newton Cultural Alliance - ECPv6.13.2.1//NONSGML v1.0//EN
CALSCALE:GREGORIAN
METHOD:PUBLISH
X-ORIGINAL-URL:https://newtonculture.org
X-WR-CALDESC:Events for Newton Cultural Alliance
REFRESH-INTERVAL;VALUE=DURATION:PT1H
X-Robots-Tag:noindex
X-PUBLISHED-TTL:PT1H
BEGIN:VTIMEZONE
TZID:America/New_York
BEGIN:DAYLIGHT
TZOFFSETFROM:-0500
TZOFFSETTO:-0400
TZNAME:EDT
DTSTART:20210314T070000
END:DAYLIGHT
BEGIN:STANDARD
TZOFFSETFROM:-0400
TZOFFSETTO:-0500
TZNAME:EST
DTSTART:20211107T060000
END:STANDARD
END:VTIMEZONE
BEGIN:VEVENT
DTSTART;TZID=America/New_York:20211116T153000
DTEND;TZID=America/New_York:20211116T163000
DTSTAMP:20260421T111059
CREATED:20210916T142243Z
LAST-MODIFIED:20210916T142243Z
UID:10019902-1637076600-1637080200@newtonculture.org
SUMMARY:New Art Center presents: Let’s Put On A Play! – GR 3-5
DESCRIPTION:Children will explore theater games\, stories and shorter character pieces\, using imagination and creative skills\, in this exciting class. Have fun as you develop self confidence and showmanship while working with award winning actor and sought-after Boston drama teacher Danny Bolton. Many of you know Danny as New Art Center’s summer performance instructor since 2004. Click here to register.
URL:https://newtonculture.org/event/new-art-center-presents-lets-put-on-a-play-gr-3-5/2021-11-16/
LOCATION:Zoom
CATEGORIES:Community Event,Culture and Education,Family Friendly,Performing Arts
ATTACH;FMTTYPE=image/jpeg:https://newtonculture.org/wp-content/uploads/2021/09/CCF21860-scaled-1.jpg
ORGANIZER;CN="New Art Center":MAILTO:info@newartcenter.org
END:VEVENT
END:VCALENDAR